BEGIN:VCALENDAR
VERSION:2.0
PRODID:-//St. Malachy - ECPv6.15.18//NONSGML v1.0//EN
CALSCALE:GREGORIAN
METHOD:PUBLISH
X-WR-CALNAME:St. Malachy
X-ORIGINAL-URL:https://saintmalachychurch.org
X-WR-CALDESC:Events for St. Malachy
REFRESH-INTERVAL;VALUE=DURATION:PT1H
X-Robots-Tag:noindex
X-PUBLISHED-TTL:PT1H
BEGIN:VTIMEZONE
TZID:America/Detroit
BEGIN:DAYLIGHT
TZOFFSETFROM:-0500
TZOFFSETTO:-0400
TZNAME:EDT
DTSTART:20250309T070000
END:DAYLIGHT
BEGIN:STANDARD
TZOFFSETFROM:-0400
TZOFFSETTO:-0500
TZNAME:EST
DTSTART:20251102T060000
END:STANDARD
BEGIN:DAYLIGHT
TZOFFSETFROM:-0500
TZOFFSETTO:-0400
TZNAME:EDT
DTSTART:20260308T070000
END:DAYLIGHT
BEGIN:STANDARD
TZOFFSETFROM:-0400
TZOFFSETTO:-0500
TZNAME:EST
DTSTART:20261101T060000
END:STANDARD
BEGIN:DAYLIGHT
TZOFFSETFROM:-0500
TZOFFSETTO:-0400
TZNAME:EDT
DTSTART:20270314T070000
END:DAYLIGHT
BEGIN:STANDARD
TZOFFSETFROM:-0400
TZOFFSETTO:-0500
TZNAME:EST
DTSTART:20271107T060000
END:STANDARD
END:VTIMEZONE
BEGIN:VEVENT
DTSTART;TZID=America/Detroit:20260624T184500
DTEND;TZID=America/Detroit:20260624T200000
DTSTAMP:20260422T111248
CREATED:20250102T172545Z
LAST-MODIFIED:20251113T194624Z
UID:10002578-1782326700-1782331200@saintmalachychurch.org
SUMMARY:Men's Club Meeting
DESCRIPTION:Join the St. Malachy Men’s club for a prayer service beginning at 6:45pm\, followed by its meeting! This group hosts many popular events such as the Fish Fry\, Coney Sales\, Reverse Raffle\, and more! Members of the Men’s Club meet on the last Wednesday of every month in the Currier Center at 6:45pm! Please contact Men’s Club President Joe Schuirmann for any questions!
URL:https://saintmalachychurch.org/event/mens-club-meeting-20/2026-06-24/
LOCATION:Currier Center\, 14115 E. 14 Mile Rd.\, Sterling Heights\, MI\, 48312\, United States
CATEGORIES:Event,Featured Event,Men's Club
ORGANIZER;CN="St. Malachy Men's Club":MAILTO:mensclub@stmalachychurch.org
END:VEVENT
END:VCALENDAR