BEGIN:VCALENDAR
VERSION:2.0
PRODID:-//St. Malachy - ECPv6.15.18//NONSGML v1.0//EN
CALSCALE:GREGORIAN
METHOD:PUBLISH
X-WR-CALNAME:St. Malachy
X-ORIGINAL-URL:https://saintmalachychurch.org
X-WR-CALDESC:Events for St. Malachy
REFRESH-INTERVAL;VALUE=DURATION:PT1H
X-Robots-Tag:noindex
X-PUBLISHED-TTL:PT1H
BEGIN:VTIMEZONE
TZID:America/Detroit
BEGIN:DAYLIGHT
TZOFFSETFROM:-0500
TZOFFSETTO:-0400
TZNAME:EDT
DTSTART:20240310T070000
END:DAYLIGHT
BEGIN:STANDARD
TZOFFSETFROM:-0400
TZOFFSETTO:-0500
TZNAME:EST
DTSTART:20241103T060000
END:STANDARD
BEGIN:DAYLIGHT
TZOFFSETFROM:-0500
TZOFFSETTO:-0400
TZNAME:EDT
DTSTART:20250309T070000
END:DAYLIGHT
BEGIN:STANDARD
TZOFFSETFROM:-0400
TZOFFSETTO:-0500
TZNAME:EST
DTSTART:20251102T060000
END:STANDARD
BEGIN:DAYLIGHT
TZOFFSETFROM:-0500
TZOFFSETTO:-0400
TZNAME:EDT
DTSTART:20260308T070000
END:DAYLIGHT
BEGIN:STANDARD
TZOFFSETFROM:-0400
TZOFFSETTO:-0500
TZNAME:EST
DTSTART:20261101T060000
END:STANDARD
END:VTIMEZONE
BEGIN:VEVENT
DTSTART;TZID=America/Detroit:20250601T073000
DTEND;TZID=America/Detroit:20250601T083000
DTSTAMP:20260422T121517
CREATED:20250102T160216Z
LAST-MODIFIED:20250914T221620Z
UID:10001417-1748763000-1748766600@saintmalachychurch.org
SUMMARY:7:30am Traditional Mass
DESCRIPTION:This Mass is not live-streamed.
URL:https://saintmalachychurch.org/event/730am-mass/2025-06-01/
LOCATION:St. Malachy\, 14115 E 14 Mile Rd\, Sterling Heights\, MI\, 48312\, United States
CATEGORIES:Mass
ORGANIZER;CN="St. Malachy":MAILTO:contact@stmalachychurch.org
END:VEVENT
BEGIN:VEVENT
DTSTART;TZID=America/Detroit:20250601T093000
DTEND;TZID=America/Detroit:20250601T103000
DTSTAMP:20260422T121517
CREATED:20250102T160425Z
LAST-MODIFIED:20250213T163131Z
UID:10001678-1748770200-1748773800@saintmalachychurch.org
SUMMARY:9:30am Traditional Mass
DESCRIPTION:This Mass is also live-streamed at https://saintmalachychurch.org/live/
URL:https://saintmalachychurch.org/event/930am-mass/2025-06-01/
LOCATION:St. Malachy\, 14115 E 14 Mile Rd\, Sterling Heights\, MI\, 48312\, United States
CATEGORIES:Live Stream,Mass
ORGANIZER;CN="St. Malachy":MAILTO:contact@stmalachychurch.org
END:VEVENT
BEGIN:VEVENT
DTSTART;TZID=America/Detroit:20250601T113000
DTEND;TZID=America/Detroit:20250601T123000
DTSTAMP:20260422T121517
CREATED:20250102T160614Z
LAST-MODIFIED:20251230T163219Z
UID:10001939-1748777400-1748781000@saintmalachychurch.org
SUMMARY:11:30am Contemporary Mass
DESCRIPTION:This Mass is also live-streamed at https://saintmalachychurch.org/live/
URL:https://saintmalachychurch.org/event/1130am-contemporary-mass-2/2025-06-01/
LOCATION:St. Malachy\, 14115 E 14 Mile Rd\, Sterling Heights\, MI\, 48312\, United States
CATEGORIES:Live Stream,Mass
ORGANIZER;CN="St. Malachy":MAILTO:contact@stmalachychurch.org
END:VEVENT
BEGIN:VEVENT
DTSTART;TZID=America/Detroit:20250608T073000
DTEND;TZID=America/Detroit:20250608T083000
DTSTAMP:20260422T121517
CREATED:20250102T160216Z
LAST-MODIFIED:20250914T221620Z
UID:10001418-1749367800-1749371400@saintmalachychurch.org
SUMMARY:7:30am Traditional Mass
DESCRIPTION:This Mass is not live-streamed.
URL:https://saintmalachychurch.org/event/730am-mass/2025-06-08/
LOCATION:St. Malachy\, 14115 E 14 Mile Rd\, Sterling Heights\, MI\, 48312\, United States
CATEGORIES:Mass
ORGANIZER;CN="St. Malachy":MAILTO:contact@stmalachychurch.org
END:VEVENT
BEGIN:VEVENT
DTSTART;TZID=America/Detroit:20250608T093000
DTEND;TZID=America/Detroit:20250608T103000
DTSTAMP:20260422T121517
CREATED:20250102T160425Z
LAST-MODIFIED:20250213T163131Z
UID:10001679-1749375000-1749378600@saintmalachychurch.org
SUMMARY:9:30am Traditional Mass
DESCRIPTION:This Mass is also live-streamed at https://saintmalachychurch.org/live/
URL:https://saintmalachychurch.org/event/930am-mass/2025-06-08/
LOCATION:St. Malachy\, 14115 E 14 Mile Rd\, Sterling Heights\, MI\, 48312\, United States
CATEGORIES:Live Stream,Mass
ORGANIZER;CN="St. Malachy":MAILTO:contact@stmalachychurch.org
END:VEVENT
BEGIN:VEVENT
DTSTART;TZID=America/Detroit:20250608T113000
DTEND;TZID=America/Detroit:20250608T123000
DTSTAMP:20260422T121517
CREATED:20250102T160614Z
LAST-MODIFIED:20251230T163219Z
UID:10001940-1749382200-1749385800@saintmalachychurch.org
SUMMARY:11:30am Contemporary Mass
DESCRIPTION:This Mass is also live-streamed at https://saintmalachychurch.org/live/
URL:https://saintmalachychurch.org/event/1130am-contemporary-mass-2/2025-06-08/
LOCATION:St. Malachy\, 14115 E 14 Mile Rd\, Sterling Heights\, MI\, 48312\, United States
CATEGORIES:Live Stream,Mass
ORGANIZER;CN="St. Malachy":MAILTO:contact@stmalachychurch.org
END:VEVENT
BEGIN:VEVENT
DTSTART;TZID=America/Detroit:20250615T073000
DTEND;TZID=America/Detroit:20250615T083000
DTSTAMP:20260422T121517
CREATED:20250102T160216Z
LAST-MODIFIED:20250914T221620Z
UID:10001419-1749972600-1749976200@saintmalachychurch.org
SUMMARY:7:30am Traditional Mass
DESCRIPTION:This Mass is not live-streamed.
URL:https://saintmalachychurch.org/event/730am-mass/2025-06-15/
LOCATION:St. Malachy\, 14115 E 14 Mile Rd\, Sterling Heights\, MI\, 48312\, United States
CATEGORIES:Mass
ORGANIZER;CN="St. Malachy":MAILTO:contact@stmalachychurch.org
END:VEVENT
BEGIN:VEVENT
DTSTART;TZID=America/Detroit:20250615T093000
DTEND;TZID=America/Detroit:20250615T103000
DTSTAMP:20260422T121517
CREATED:20250102T160425Z
LAST-MODIFIED:20250213T163131Z
UID:10001680-1749979800-1749983400@saintmalachychurch.org
SUMMARY:9:30am Traditional Mass
DESCRIPTION:This Mass is also live-streamed at https://saintmalachychurch.org/live/
URL:https://saintmalachychurch.org/event/930am-mass/2025-06-15/
LOCATION:St. Malachy\, 14115 E 14 Mile Rd\, Sterling Heights\, MI\, 48312\, United States
CATEGORIES:Live Stream,Mass
ORGANIZER;CN="St. Malachy":MAILTO:contact@stmalachychurch.org
END:VEVENT
BEGIN:VEVENT
DTSTART;TZID=America/Detroit:20250615T113000
DTEND;TZID=America/Detroit:20250615T123000
DTSTAMP:20260422T121517
CREATED:20250102T160614Z
LAST-MODIFIED:20251230T163219Z
UID:10001941-1749987000-1749990600@saintmalachychurch.org
SUMMARY:11:30am Contemporary Mass
DESCRIPTION:This Mass is also live-streamed at https://saintmalachychurch.org/live/
URL:https://saintmalachychurch.org/event/1130am-contemporary-mass-2/2025-06-15/
LOCATION:St. Malachy\, 14115 E 14 Mile Rd\, Sterling Heights\, MI\, 48312\, United States
CATEGORIES:Live Stream,Mass
ORGANIZER;CN="St. Malachy":MAILTO:contact@stmalachychurch.org
END:VEVENT
BEGIN:VEVENT
DTSTART;TZID=America/Detroit:20250622T073000
DTEND;TZID=America/Detroit:20250622T083000
DTSTAMP:20260422T121517
CREATED:20250102T160216Z
LAST-MODIFIED:20250914T221620Z
UID:10001420-1750577400-1750581000@saintmalachychurch.org
SUMMARY:7:30am Traditional Mass
DESCRIPTION:This Mass is not live-streamed.
URL:https://saintmalachychurch.org/event/730am-mass/2025-06-22/
LOCATION:St. Malachy\, 14115 E 14 Mile Rd\, Sterling Heights\, MI\, 48312\, United States
CATEGORIES:Mass
ORGANIZER;CN="St. Malachy":MAILTO:contact@stmalachychurch.org
END:VEVENT
BEGIN:VEVENT
DTSTART;TZID=America/Detroit:20250622T093000
DTEND;TZID=America/Detroit:20250622T103000
DTSTAMP:20260422T121517
CREATED:20250102T160425Z
LAST-MODIFIED:20250213T163131Z
UID:10001681-1750584600-1750588200@saintmalachychurch.org
SUMMARY:9:30am Traditional Mass
DESCRIPTION:This Mass is also live-streamed at https://saintmalachychurch.org/live/
URL:https://saintmalachychurch.org/event/930am-mass/2025-06-22/
LOCATION:St. Malachy\, 14115 E 14 Mile Rd\, Sterling Heights\, MI\, 48312\, United States
CATEGORIES:Live Stream,Mass
ORGANIZER;CN="St. Malachy":MAILTO:contact@stmalachychurch.org
END:VEVENT
BEGIN:VEVENT
DTSTART;TZID=America/Detroit:20250622T113000
DTEND;TZID=America/Detroit:20250622T123000
DTSTAMP:20260422T121517
CREATED:20250102T160614Z
LAST-MODIFIED:20251230T163219Z
UID:10001942-1750591800-1750595400@saintmalachychurch.org
SUMMARY:11:30am Contemporary Mass
DESCRIPTION:This Mass is also live-streamed at https://saintmalachychurch.org/live/
URL:https://saintmalachychurch.org/event/1130am-contemporary-mass-2/2025-06-22/
LOCATION:St. Malachy\, 14115 E 14 Mile Rd\, Sterling Heights\, MI\, 48312\, United States
CATEGORIES:Live Stream,Mass
ORGANIZER;CN="St. Malachy":MAILTO:contact@stmalachychurch.org
END:VEVENT
BEGIN:VEVENT
DTSTART;TZID=America/Detroit:20250629T073000
DTEND;TZID=America/Detroit:20250629T083000
DTSTAMP:20260422T121517
CREATED:20250102T160216Z
LAST-MODIFIED:20250914T221620Z
UID:10001421-1751182200-1751185800@saintmalachychurch.org
SUMMARY:7:30am Traditional Mass
DESCRIPTION:This Mass is not live-streamed.
URL:https://saintmalachychurch.org/event/730am-mass/2025-06-29/
LOCATION:St. Malachy\, 14115 E 14 Mile Rd\, Sterling Heights\, MI\, 48312\, United States
CATEGORIES:Mass
ORGANIZER;CN="St. Malachy":MAILTO:contact@stmalachychurch.org
END:VEVENT
BEGIN:VEVENT
DTSTART;TZID=America/Detroit:20250629T093000
DTEND;TZID=America/Detroit:20250629T103000
DTSTAMP:20260422T121517
CREATED:20250102T160425Z
LAST-MODIFIED:20250213T163131Z
UID:10001682-1751189400-1751193000@saintmalachychurch.org
SUMMARY:9:30am Traditional Mass
DESCRIPTION:This Mass is also live-streamed at https://saintmalachychurch.org/live/
URL:https://saintmalachychurch.org/event/930am-mass/2025-06-29/
LOCATION:St. Malachy\, 14115 E 14 Mile Rd\, Sterling Heights\, MI\, 48312\, United States
CATEGORIES:Live Stream,Mass
ORGANIZER;CN="St. Malachy":MAILTO:contact@stmalachychurch.org
END:VEVENT
BEGIN:VEVENT
DTSTART;TZID=America/Detroit:20250629T113000
DTEND;TZID=America/Detroit:20250629T123000
DTSTAMP:20260422T121517
CREATED:20250102T160614Z
LAST-MODIFIED:20251230T163219Z
UID:10001943-1751196600-1751200200@saintmalachychurch.org
SUMMARY:11:30am Contemporary Mass
DESCRIPTION:This Mass is also live-streamed at https://saintmalachychurch.org/live/
URL:https://saintmalachychurch.org/event/1130am-contemporary-mass-2/2025-06-29/
LOCATION:St. Malachy\, 14115 E 14 Mile Rd\, Sterling Heights\, MI\, 48312\, United States
CATEGORIES:Live Stream,Mass
ORGANIZER;CN="St. Malachy":MAILTO:contact@stmalachychurch.org
END:VEVENT
END:VCALENDAR