BEGIN:VCALENDAR
VERSION:2.0
PRODID:-//St. Malachy - ECPv6.15.20//NONSGML v1.0//EN
CALSCALE:GREGORIAN
METHOD:PUBLISH
X-ORIGINAL-URL:https://saintmalachychurch.org
X-WR-CALDESC:Events for St. Malachy
REFRESH-INTERVAL;VALUE=DURATION:PT1H
X-Robots-Tag:noindex
X-PUBLISHED-TTL:PT1H
BEGIN:VTIMEZONE
TZID:America/Detroit
BEGIN:DAYLIGHT
TZOFFSETFROM:-0500
TZOFFSETTO:-0400
TZNAME:EDT
DTSTART:20240310T070000
END:DAYLIGHT
BEGIN:STANDARD
TZOFFSETFROM:-0400
TZOFFSETTO:-0500
TZNAME:EST
DTSTART:20241103T060000
END:STANDARD
BEGIN:DAYLIGHT
TZOFFSETFROM:-0500
TZOFFSETTO:-0400
TZNAME:EDT
DTSTART:20250309T070000
END:DAYLIGHT
BEGIN:STANDARD
TZOFFSETFROM:-0400
TZOFFSETTO:-0500
TZNAME:EST
DTSTART:20251102T060000
END:STANDARD
BEGIN:DAYLIGHT
TZOFFSETFROM:-0500
TZOFFSETTO:-0400
TZNAME:EDT
DTSTART:20260308T070000
END:DAYLIGHT
BEGIN:STANDARD
TZOFFSETFROM:-0400
TZOFFSETTO:-0500
TZNAME:EST
DTSTART:20261101T060000
END:STANDARD
END:VTIMEZONE
BEGIN:VEVENT
DTSTART;TZID=America/Detroit:20250202T073000
DTEND;TZID=America/Detroit:20250202T083000
DTSTAMP:20260424T102536
CREATED:20250102T160216Z
LAST-MODIFIED:20250914T221620Z
UID:10001400-1738481400-1738485000@saintmalachychurch.org
SUMMARY:7:30am Traditional Mass
DESCRIPTION:This Mass is not live-streamed.
URL:https://saintmalachychurch.org/event/730am-mass/2025-02-02/
LOCATION:St. Malachy\, 14115 E 14 Mile Rd\, Sterling Heights\, MI\, 48312\, United States
CATEGORIES:Mass
ORGANIZER;CN="St. Malachy":MAILTO:contact@stmalachychurch.org
END:VEVENT
BEGIN:VEVENT
DTSTART;TZID=America/Detroit:20250202T093000
DTEND;TZID=America/Detroit:20250202T103000
DTSTAMP:20260424T102536
CREATED:20250102T160425Z
LAST-MODIFIED:20250213T163131Z
UID:10001661-1738488600-1738492200@saintmalachychurch.org
SUMMARY:9:30am Traditional Mass
DESCRIPTION:This Mass is also live-streamed at https://saintmalachychurch.org/live/
URL:https://saintmalachychurch.org/event/930am-mass/2025-02-02/
LOCATION:St. Malachy\, 14115 E 14 Mile Rd\, Sterling Heights\, MI\, 48312\, United States
CATEGORIES:Live Stream,Mass
ORGANIZER;CN="St. Malachy":MAILTO:contact@stmalachychurch.org
END:VEVENT
BEGIN:VEVENT
DTSTART;TZID=America/Detroit:20250202T113000
DTEND;TZID=America/Detroit:20250202T123000
DTSTAMP:20260424T102536
CREATED:20250102T160614Z
LAST-MODIFIED:20251230T163219Z
UID:10001922-1738495800-1738499400@saintmalachychurch.org
SUMMARY:11:30am Contemporary Mass
DESCRIPTION:This Mass is also live-streamed at https://saintmalachychurch.org/live/
URL:https://saintmalachychurch.org/event/1130am-contemporary-mass-2/2025-02-02/
LOCATION:St. Malachy\, 14115 E 14 Mile Rd\, Sterling Heights\, MI\, 48312\, United States
CATEGORIES:Live Stream,Mass
ORGANIZER;CN="St. Malachy":MAILTO:contact@stmalachychurch.org
END:VEVENT
BEGIN:VEVENT
DTSTART;TZID=America/Detroit:20250209T073000
DTEND;TZID=America/Detroit:20250209T083000
DTSTAMP:20260424T102536
CREATED:20250102T160216Z
LAST-MODIFIED:20250914T221620Z
UID:10001401-1739086200-1739089800@saintmalachychurch.org
SUMMARY:7:30am Traditional Mass
DESCRIPTION:This Mass is not live-streamed.
URL:https://saintmalachychurch.org/event/730am-mass/2025-02-09/
LOCATION:St. Malachy\, 14115 E 14 Mile Rd\, Sterling Heights\, MI\, 48312\, United States
CATEGORIES:Mass
ORGANIZER;CN="St. Malachy":MAILTO:contact@stmalachychurch.org
END:VEVENT
BEGIN:VEVENT
DTSTART;TZID=America/Detroit:20250209T093000
DTEND;TZID=America/Detroit:20250209T103000
DTSTAMP:20260424T102536
CREATED:20250102T160425Z
LAST-MODIFIED:20250213T163131Z
UID:10001662-1739093400-1739097000@saintmalachychurch.org
SUMMARY:9:30am Traditional Mass
DESCRIPTION:This Mass is also live-streamed at https://saintmalachychurch.org/live/
URL:https://saintmalachychurch.org/event/930am-mass/2025-02-09/
LOCATION:St. Malachy\, 14115 E 14 Mile Rd\, Sterling Heights\, MI\, 48312\, United States
CATEGORIES:Live Stream,Mass
ORGANIZER;CN="St. Malachy":MAILTO:contact@stmalachychurch.org
END:VEVENT
BEGIN:VEVENT
DTSTART;TZID=America/Detroit:20250209T113000
DTEND;TZID=America/Detroit:20250209T123000
DTSTAMP:20260424T102536
CREATED:20250102T160614Z
LAST-MODIFIED:20251230T163219Z
UID:10001923-1739100600-1739104200@saintmalachychurch.org
SUMMARY:11:30am Contemporary Mass
DESCRIPTION:This Mass is also live-streamed at https://saintmalachychurch.org/live/
URL:https://saintmalachychurch.org/event/1130am-contemporary-mass-2/2025-02-09/
LOCATION:St. Malachy\, 14115 E 14 Mile Rd\, Sterling Heights\, MI\, 48312\, United States
CATEGORIES:Live Stream,Mass
ORGANIZER;CN="St. Malachy":MAILTO:contact@stmalachychurch.org
END:VEVENT
BEGIN:VEVENT
DTSTART;TZID=America/Detroit:20250216T073000
DTEND;TZID=America/Detroit:20250216T083000
DTSTAMP:20260424T102536
CREATED:20250102T160216Z
LAST-MODIFIED:20250914T221620Z
UID:10001402-1739691000-1739694600@saintmalachychurch.org
SUMMARY:7:30am Traditional Mass
DESCRIPTION:This Mass is not live-streamed.
URL:https://saintmalachychurch.org/event/730am-mass/2025-02-16/
LOCATION:St. Malachy\, 14115 E 14 Mile Rd\, Sterling Heights\, MI\, 48312\, United States
CATEGORIES:Mass
ORGANIZER;CN="St. Malachy":MAILTO:contact@stmalachychurch.org
END:VEVENT
BEGIN:VEVENT
DTSTART;TZID=America/Detroit:20250216T093000
DTEND;TZID=America/Detroit:20250216T103000
DTSTAMP:20260424T102536
CREATED:20250102T160425Z
LAST-MODIFIED:20250213T163131Z
UID:10001663-1739698200-1739701800@saintmalachychurch.org
SUMMARY:9:30am Traditional Mass
DESCRIPTION:This Mass is also live-streamed at https://saintmalachychurch.org/live/
URL:https://saintmalachychurch.org/event/930am-mass/2025-02-16/
LOCATION:St. Malachy\, 14115 E 14 Mile Rd\, Sterling Heights\, MI\, 48312\, United States
CATEGORIES:Live Stream,Mass
ORGANIZER;CN="St. Malachy":MAILTO:contact@stmalachychurch.org
END:VEVENT
BEGIN:VEVENT
DTSTART;TZID=America/Detroit:20250216T113000
DTEND;TZID=America/Detroit:20250216T123000
DTSTAMP:20260424T102536
CREATED:20250102T160614Z
LAST-MODIFIED:20251230T163219Z
UID:10001924-1739705400-1739709000@saintmalachychurch.org
SUMMARY:11:30am Contemporary Mass
DESCRIPTION:This Mass is also live-streamed at https://saintmalachychurch.org/live/
URL:https://saintmalachychurch.org/event/1130am-contemporary-mass-2/2025-02-16/
LOCATION:St. Malachy\, 14115 E 14 Mile Rd\, Sterling Heights\, MI\, 48312\, United States
CATEGORIES:Live Stream,Mass
ORGANIZER;CN="St. Malachy":MAILTO:contact@stmalachychurch.org
END:VEVENT
BEGIN:VEVENT
DTSTART;TZID=America/Detroit:20250223T073000
DTEND;TZID=America/Detroit:20250223T083000
DTSTAMP:20260424T102536
CREATED:20250102T160216Z
LAST-MODIFIED:20250914T221620Z
UID:10001403-1740295800-1740299400@saintmalachychurch.org
SUMMARY:7:30am Traditional Mass
DESCRIPTION:This Mass is not live-streamed.
URL:https://saintmalachychurch.org/event/730am-mass/2025-02-23/
LOCATION:St. Malachy\, 14115 E 14 Mile Rd\, Sterling Heights\, MI\, 48312\, United States
CATEGORIES:Mass
ORGANIZER;CN="St. Malachy":MAILTO:contact@stmalachychurch.org
END:VEVENT
BEGIN:VEVENT
DTSTART;TZID=America/Detroit:20250223T093000
DTEND;TZID=America/Detroit:20250223T103000
DTSTAMP:20260424T102536
CREATED:20250102T160425Z
LAST-MODIFIED:20250213T163131Z
UID:10001664-1740303000-1740306600@saintmalachychurch.org
SUMMARY:9:30am Traditional Mass
DESCRIPTION:This Mass is also live-streamed at https://saintmalachychurch.org/live/
URL:https://saintmalachychurch.org/event/930am-mass/2025-02-23/
LOCATION:St. Malachy\, 14115 E 14 Mile Rd\, Sterling Heights\, MI\, 48312\, United States
CATEGORIES:Live Stream,Mass
ORGANIZER;CN="St. Malachy":MAILTO:contact@stmalachychurch.org
END:VEVENT
BEGIN:VEVENT
DTSTART;TZID=America/Detroit:20250223T113000
DTEND;TZID=America/Detroit:20250223T123000
DTSTAMP:20260424T102536
CREATED:20250102T160614Z
LAST-MODIFIED:20251230T163219Z
UID:10001925-1740310200-1740313800@saintmalachychurch.org
SUMMARY:11:30am Contemporary Mass
DESCRIPTION:This Mass is also live-streamed at https://saintmalachychurch.org/live/
URL:https://saintmalachychurch.org/event/1130am-contemporary-mass-2/2025-02-23/
LOCATION:St. Malachy\, 14115 E 14 Mile Rd\, Sterling Heights\, MI\, 48312\, United States
CATEGORIES:Live Stream,Mass
ORGANIZER;CN="St. Malachy":MAILTO:contact@stmalachychurch.org
END:VEVENT
END:VCALENDAR