BEGIN:VCALENDAR
VERSION:2.0
PRODID:-//St. Malachy - ECPv6.15.18//NONSGML v1.0//EN
CALSCALE:GREGORIAN
METHOD:PUBLISH
X-WR-CALNAME:St. Malachy
X-ORIGINAL-URL:https://saintmalachychurch.org
X-WR-CALDESC:Events for St. Malachy
REFRESH-INTERVAL;VALUE=DURATION:PT1H
X-Robots-Tag:noindex
X-PUBLISHED-TTL:PT1H
BEGIN:VTIMEZONE
TZID:America/Detroit
BEGIN:DAYLIGHT
TZOFFSETFROM:-0500
TZOFFSETTO:-0400
TZNAME:EDT
DTSTART:20240310T070000
END:DAYLIGHT
BEGIN:STANDARD
TZOFFSETFROM:-0400
TZOFFSETTO:-0500
TZNAME:EST
DTSTART:20241103T060000
END:STANDARD
BEGIN:DAYLIGHT
TZOFFSETFROM:-0500
TZOFFSETTO:-0400
TZNAME:EDT
DTSTART:20250309T070000
END:DAYLIGHT
BEGIN:STANDARD
TZOFFSETFROM:-0400
TZOFFSETTO:-0500
TZNAME:EST
DTSTART:20251102T060000
END:STANDARD
BEGIN:DAYLIGHT
TZOFFSETFROM:-0500
TZOFFSETTO:-0400
TZNAME:EDT
DTSTART:20260308T070000
END:DAYLIGHT
BEGIN:STANDARD
TZOFFSETFROM:-0400
TZOFFSETTO:-0500
TZNAME:EST
DTSTART:20261101T060000
END:STANDARD
END:VTIMEZONE
BEGIN:VEVENT
DTSTART;TZID=America/Detroit:20250210T183000
DTEND;TZID=America/Detroit:20250210T203000
DTSTAMP:20260422T111557
CREATED:20250128T193314Z
LAST-MODIFIED:20250128T193314Z
UID:10007946-1739212200-1739219400@saintmalachychurch.org
SUMMARY:FROG - St. Valentine Meeting
DESCRIPTION:CALLING ALL MIDDLE SCHOOLERS! Join the FROG Ministry in the Youth Center on Monday\, February 10th for a meeting that highlights the one and only\, St. Valentine! Bring your friends\, and prepare for a wonderful time! \n6:30pm-8:30pm in the Youth Center. Contact FROG@stmalachychurch.org for any questions. Text MALACHYFROG to 84576 to sign up for text reminders!
URL:https://saintmalachychurch.org/event/frog-st-valentine-meeting/
LOCATION:Youth Center\, 14115 E 14 Mile Rd\, Sterling Heights\, MI\, 48312\, United States
CATEGORIES:Event,FROG,Youth Ministry
ORGANIZER;CN="Rachel Nicholson":MAILTO:frog@stmalachychurch.org
END:VEVENT
BEGIN:VEVENT
DTSTART;TZID=America/Detroit:20250224T183000
DTEND;TZID=America/Detroit:20250224T203000
DTSTAMP:20260422T111557
CREATED:20250128T193821Z
LAST-MODIFIED:20250128T193821Z
UID:10007947-1740421800-1740429000@saintmalachychurch.org
SUMMARY:FROG - Ash Wednesday & Lent Meeting
DESCRIPTION:All Middle-Schoolers are welcome to join the FROG Ministry in the Youth Center on Monday\, February 24th for a meeting that explores Ash Wednesday and Lent! Find out what it’s all about! \n6:30pm-8:30pm in the Youth Center. Contact FROG@stmalachychurch.org for any questions. Text MALACHYFROG to 84576 to sign up for text reminders!
URL:https://saintmalachychurch.org/event/frog-ash-wednesday-lent-meeting/
LOCATION:Youth Center\, 14115 E 14 Mile Rd\, Sterling Heights\, MI\, 48312\, United States
CATEGORIES:Event,FROG,Youth Ministry
ORGANIZER;CN="Rachel Nicholson":MAILTO:frog@stmalachychurch.org
END:VEVENT
END:VCALENDAR