BEGIN:VCALENDAR
VERSION:2.0
PRODID:-//St. Malachy - ECPv6.15.18//NONSGML v1.0//EN
CALSCALE:GREGORIAN
METHOD:PUBLISH
X-WR-CALNAME:St. Malachy
X-ORIGINAL-URL:https://saintmalachychurch.org
X-WR-CALDESC:Events for St. Malachy
REFRESH-INTERVAL;VALUE=DURATION:PT1H
X-Robots-Tag:noindex
X-PUBLISHED-TTL:PT1H
BEGIN:VTIMEZONE
TZID:America/Detroit
BEGIN:DAYLIGHT
TZOFFSETFROM:-0500
TZOFFSETTO:-0400
TZNAME:EDT
DTSTART:20250309T070000
END:DAYLIGHT
BEGIN:STANDARD
TZOFFSETFROM:-0400
TZOFFSETTO:-0500
TZNAME:EST
DTSTART:20251102T060000
END:STANDARD
BEGIN:DAYLIGHT
TZOFFSETFROM:-0500
TZOFFSETTO:-0400
TZNAME:EDT
DTSTART:20260308T070000
END:DAYLIGHT
BEGIN:STANDARD
TZOFFSETFROM:-0400
TZOFFSETTO:-0500
TZNAME:EST
DTSTART:20261101T060000
END:STANDARD
BEGIN:DAYLIGHT
TZOFFSETFROM:-0500
TZOFFSETTO:-0400
TZNAME:EDT
DTSTART:20270314T070000
END:DAYLIGHT
BEGIN:STANDARD
TZOFFSETFROM:-0400
TZOFFSETTO:-0500
TZNAME:EST
DTSTART:20271107T060000
END:STANDARD
END:VTIMEZONE
BEGIN:VEVENT
DTSTART;TZID=America/Detroit:20260814T170000
DTEND;TZID=America/Detroit:20260814T230000
DTSTAMP:20260420T104544
CREATED:20260420T141529Z
LAST-MODIFIED:20260420T141530Z
UID:10016741-1786726800-1786748400@saintmalachychurch.org
SUMMARY:2026 Summerfest
DESCRIPTION:Join us for a weekend of fun\, friends\, food and music at this year’s Summerfest! With so much to offer\, we can’t wait to welcome our community and have a great time! Check out our website for more information!  \nInterested in sponsoring the Summerfest? Check out the sponsorship page on our website\, or email ukrause@stmalachychurch.org for more information!
URL:https://saintmalachychurch.org/event/2026-summerfest/2026-08-14/
LOCATION:St. Malachy\, 14115 E 14 Mile Rd\, Sterling Heights\, MI\, 48312\, United States
CATEGORIES:Event,Featured Event,Festival,Volunteer
ORGANIZER;CN="Pam Schuirmann":MAILTO:festival@stmalachychurch.org
END:VEVENT
BEGIN:VEVENT
DTSTART;TZID=America/Detroit:20260815T120000
DTEND;TZID=America/Detroit:20260815T230000
DTSTAMP:20260420T104544
CREATED:20260420T141529Z
LAST-MODIFIED:20260420T141530Z
UID:10016742-1786795200-1786834800@saintmalachychurch.org
SUMMARY:2026 Summerfest
DESCRIPTION:Join us for a weekend of fun\, friends\, food and music at this year’s Summerfest! With so much to offer\, we can’t wait to welcome our community and have a great time! Check out our website for more information!  \nInterested in sponsoring the Summerfest? Check out the sponsorship page on our website\, or email ukrause@stmalachychurch.org for more information!
URL:https://saintmalachychurch.org/event/2026-summerfest/2026-08-15/
LOCATION:St. Malachy\, 14115 E 14 Mile Rd\, Sterling Heights\, MI\, 48312\, United States
CATEGORIES:Event,Featured Event,Festival,Volunteer
ORGANIZER;CN="Pam Schuirmann":MAILTO:festival@stmalachychurch.org
END:VEVENT
BEGIN:VEVENT
DTSTART;TZID=America/Detroit:20260816T120000
DTEND;TZID=America/Detroit:20260816T230000
DTSTAMP:20260420T104544
CREATED:20260420T141529Z
LAST-MODIFIED:20260420T141530Z
UID:10016743-1786881600-1786921200@saintmalachychurch.org
SUMMARY:2026 Summerfest
DESCRIPTION:Join us for a weekend of fun\, friends\, food and music at this year’s Summerfest! With so much to offer\, we can’t wait to welcome our community and have a great time! Check out our website for more information!  \nInterested in sponsoring the Summerfest? Check out the sponsorship page on our website\, or email ukrause@stmalachychurch.org for more information!
URL:https://saintmalachychurch.org/event/2026-summerfest/2026-08-16/
LOCATION:St. Malachy\, 14115 E 14 Mile Rd\, Sterling Heights\, MI\, 48312\, United States
CATEGORIES:Event,Featured Event,Festival,Volunteer
ORGANIZER;CN="Pam Schuirmann":MAILTO:festival@stmalachychurch.org
END:VEVENT
END:VCALENDAR