BEGIN:VCALENDAR
VERSION:2.0
PRODID:-//St. Malachy - ECPv6.15.18//NONSGML v1.0//EN
CALSCALE:GREGORIAN
METHOD:PUBLISH
X-ORIGINAL-URL:https://saintmalachychurch.org
X-WR-CALDESC:Events for St. Malachy
REFRESH-INTERVAL;VALUE=DURATION:PT1H
X-Robots-Tag:noindex
X-PUBLISHED-TTL:PT1H
BEGIN:VTIMEZONE
TZID:America/Detroit
BEGIN:DAYLIGHT
TZOFFSETFROM:-0500
TZOFFSETTO:-0400
TZNAME:EDT
DTSTART:20250309T070000
END:DAYLIGHT
BEGIN:STANDARD
TZOFFSETFROM:-0400
TZOFFSETTO:-0500
TZNAME:EST
DTSTART:20251102T060000
END:STANDARD
BEGIN:DAYLIGHT
TZOFFSETFROM:-0500
TZOFFSETTO:-0400
TZNAME:EDT
DTSTART:20260308T070000
END:DAYLIGHT
BEGIN:STANDARD
TZOFFSETFROM:-0400
TZOFFSETTO:-0500
TZNAME:EST
DTSTART:20261101T060000
END:STANDARD
BEGIN:DAYLIGHT
TZOFFSETFROM:-0500
TZOFFSETTO:-0400
TZNAME:EDT
DTSTART:20270314T070000
END:DAYLIGHT
BEGIN:STANDARD
TZOFFSETFROM:-0400
TZOFFSETTO:-0500
TZNAME:EST
DTSTART:20271107T060000
END:STANDARD
END:VTIMEZONE
BEGIN:VEVENT
DTSTART;TZID=America/Detroit:20260315T123000
DTEND;TZID=America/Detroit:20260315T143000
DTSTAMP:20260419T093742
CREATED:20251230T203715Z
LAST-MODIFIED:20251230T203716Z
UID:10016368-1773577800-1773585000@saintmalachychurch.org
SUMMARY:Living Stations of the Cross Practice
DESCRIPTION:
URL:https://saintmalachychurch.org/event/living-stations-of-the-cross-practice-4/2026-03-15/
LOCATION:St. Malachy\, 14115 E 14 Mile Rd\, Sterling Heights\, MI\, 48312\, United States
CATEGORIES:Event,Featured Event,FROG,ROCK,Youth Ministry
ORGANIZER;CN="Rachel Nicholson":MAILTO:frog@stmalachychurch.org
END:VEVENT
BEGIN:VEVENT
DTSTART;TZID=America/Detroit:20260322T123000
DTEND;TZID=America/Detroit:20260322T140000
DTSTAMP:20260419T093742
CREATED:20251230T203715Z
LAST-MODIFIED:20251230T203716Z
UID:10016369-1774182600-1774188000@saintmalachychurch.org
SUMMARY:Living Stations of the Cross Practice
DESCRIPTION:
URL:https://saintmalachychurch.org/event/living-stations-of-the-cross-practice-4/2026-03-22/
LOCATION:St. Malachy\, 14115 E 14 Mile Rd\, Sterling Heights\, MI\, 48312\, United States
CATEGORIES:Event,Featured Event,FROG,ROCK,Youth Ministry
ORGANIZER;CN="Rachel Nicholson":MAILTO:frog@stmalachychurch.org
END:VEVENT
BEGIN:VEVENT
DTSTART;TZID=America/Detroit:20260324T180000
DTEND;TZID=America/Detroit:20260324T200000
DTSTAMP:20260419T093742
CREATED:20250929T173404Z
LAST-MODIFIED:20260317T161638Z
UID:10016132-1774375200-1774382400@saintmalachychurch.org
SUMMARY:FFS Living Stations of the Cross Performance
DESCRIPTION:CLICK HERE FOR THE FAITH FORMATION SCHEDULE! \nCLICK HERE FOR THE YOUTH MINISTRY SCHEDULE!  \n*For Youth Ministry (FROCK)\, please arrive at 6pm. 
URL:https://saintmalachychurch.org/event/faith-formation-living-stations-of-the-cross-performance/
LOCATION:St. Malachy\, 14115 E 14 Mile Rd\, Sterling Heights\, MI\, 48312\, United States
CATEGORIES:Event,Faith Formation,Faith Formation Service,Featured Event,FROG,ROCK,Youth Ministry
ORGANIZER;CN="Julie Doral":MAILTO:ffs@stmalachychurch.org
END:VEVENT
BEGIN:VEVENT
DTSTART;TZID=America/Detroit:20260403T120000
DTEND;TZID=America/Detroit:20260403T130000
DTSTAMP:20260419T093742
CREATED:20251231T123053Z
LAST-MODIFIED:20260126T171214Z
UID:10016373-1775217600-1775221200@saintmalachychurch.org
SUMMARY:Good Friday Living Stations of the Cross Performance
DESCRIPTION:
URL:https://saintmalachychurch.org/event/good-friday-living-stations-of-the-cross-performance/
LOCATION:St. Malachy\, 14115 E 14 Mile Rd\, Sterling Heights\, MI\, 48312\, United States
CATEGORIES:Event,Featured Event,FROG,ROCK,Youth Ministry
ORGANIZER;CN="Rachel Nicholson":MAILTO:frog@stmalachychurch.org
END:VEVENT
BEGIN:VEVENT
DTSTART;TZID=America/Detroit:20260412T113000
DTEND;TZID=America/Detroit:20260412T123000
DTSTAMP:20260419T093742
CREATED:20251218T160226Z
LAST-MODIFIED:20251230T204635Z
UID:10016361-1775993400-1775997000@saintmalachychurch.org
SUMMARY:11:30am Contemporary Youth Mass
DESCRIPTION:Our middle- and high-school youth groups will gather together at the 11:30am Mass to celebrate Youth Mass!
URL:https://saintmalachychurch.org/event/youth-mass-15/2026-04-12/
LOCATION:St. Malachy\, 14115 E 14 Mile Rd\, Sterling Heights\, MI\, 48312\, United States
CATEGORIES:Event,Featured Event,FROG,ROCK,Youth Ministry
ORGANIZER;CN="Lauren Corbat":MAILTO:lcorbat@stmalachychurch.org
END:VEVENT
BEGIN:VEVENT
DTSTART;TZID=America/Detroit:20260413T183000
DTEND;TZID=America/Detroit:20260413T203000
DTSTAMP:20260419T093742
CREATED:20260317T161341Z
LAST-MODIFIED:20260317T161424Z
UID:10016729-1776105000-1776112200@saintmalachychurch.org
SUMMARY:ROCK Spring Session Meeting
DESCRIPTION:
URL:https://saintmalachychurch.org/event/rock-spring-session-meeting/2026-04-13/
LOCATION:Youth Center\, 14115 E 14 Mile Rd\, Sterling Heights\, MI\, 48312\, United States
CATEGORIES:Event,Featured Event,ROCK,Youth Ministry
ORGANIZER;CN="Lauren Corbat":MAILTO:lcorbat@stmalachychurch.org
END:VEVENT
BEGIN:VEVENT
DTSTART;TZID=America/Detroit:20260420T183000
DTEND;TZID=America/Detroit:20260420T203000
DTSTAMP:20260419T093742
CREATED:20260317T161341Z
LAST-MODIFIED:20260317T161424Z
UID:10016730-1776709800-1776717000@saintmalachychurch.org
SUMMARY:ROCK Spring Session Meeting
DESCRIPTION:
URL:https://saintmalachychurch.org/event/rock-spring-session-meeting/2026-04-20/
LOCATION:Youth Center\, 14115 E 14 Mile Rd\, Sterling Heights\, MI\, 48312\, United States
CATEGORIES:Event,Featured Event,ROCK,Youth Ministry
ORGANIZER;CN="Lauren Corbat":MAILTO:lcorbat@stmalachychurch.org
END:VEVENT
BEGIN:VEVENT
DTSTART;TZID=America/Detroit:20260427T183000
DTEND;TZID=America/Detroit:20260427T203000
DTSTAMP:20260419T093742
CREATED:20260317T161341Z
LAST-MODIFIED:20260317T161424Z
UID:10016731-1777314600-1777321800@saintmalachychurch.org
SUMMARY:ROCK Spring Session Meeting
DESCRIPTION:
URL:https://saintmalachychurch.org/event/rock-spring-session-meeting/2026-04-27/
LOCATION:Youth Center\, 14115 E 14 Mile Rd\, Sterling Heights\, MI\, 48312\, United States
CATEGORIES:Event,Featured Event,ROCK,Youth Ministry
ORGANIZER;CN="Lauren Corbat":MAILTO:lcorbat@stmalachychurch.org
END:VEVENT
BEGIN:VEVENT
DTSTART;TZID=America/Detroit:20260504T183000
DTEND;TZID=America/Detroit:20260504T203000
DTSTAMP:20260419T093742
CREATED:20260317T161341Z
LAST-MODIFIED:20260317T161424Z
UID:10016732-1777919400-1777926600@saintmalachychurch.org
SUMMARY:ROCK Spring Session Meeting
DESCRIPTION:
URL:https://saintmalachychurch.org/event/rock-spring-session-meeting/2026-05-04/
LOCATION:Youth Center\, 14115 E 14 Mile Rd\, Sterling Heights\, MI\, 48312\, United States
CATEGORIES:Event,Featured Event,ROCK,Youth Ministry
ORGANIZER;CN="Lauren Corbat":MAILTO:lcorbat@stmalachychurch.org
END:VEVENT
BEGIN:VEVENT
DTSTART;TZID=America/Detroit:20260511T183000
DTEND;TZID=America/Detroit:20260511T203000
DTSTAMP:20260419T093742
CREATED:20260317T161341Z
LAST-MODIFIED:20260317T161424Z
UID:10016733-1778524200-1778531400@saintmalachychurch.org
SUMMARY:ROCK Spring Session Meeting
DESCRIPTION:
URL:https://saintmalachychurch.org/event/rock-spring-session-meeting/2026-05-11/
LOCATION:Youth Center\, 14115 E 14 Mile Rd\, Sterling Heights\, MI\, 48312\, United States
CATEGORIES:Event,Featured Event,ROCK,Youth Ministry
ORGANIZER;CN="Lauren Corbat":MAILTO:lcorbat@stmalachychurch.org
END:VEVENT
BEGIN:VEVENT
DTSTART;TZID=America/Detroit:20260516T123000
DTEND;TZID=America/Detroit:20260516T190000
DTSTAMP:20260419T093742
CREATED:20260312T153747Z
LAST-MODIFIED:20260312T153747Z
UID:10016723-1778934600-1778958000@saintmalachychurch.org
SUMMARY:Golf Outing
DESCRIPTION:Join us for a great day of golf at Sycamore Hills Golf Club while supporting the youth of our parish to help fund their retreat to the annual Steubenville Youth Conferences! \nMay 16th\, 2026\nCheck-in begins at 12:30pm with a shotgun start at 1:30pm\n\nWHAT’S INCLUDED?\n\nOne round of golf with a cart\nFour drink tickets\nA hot dog lunch on the turn\nDinner after golf\n50/50 drawing\nBasket raffle\nAdditional golf games\n\nAdditional prizes are included for the winners of men’s\, women’s\, & co-ed scrambles. \nCOSTS:\nSingle Golfer: $150 \nFoursome $500 \nPayment is accepted via check or credit card. NO CASH! Please make checks out to “St. Malachy Catholic Church” and note “Golf Outing Registration” in the memo line. \nSIGN UP BY APRIL 27\, 2026\nVisit the website to sign up\, pay\, and see our sponsorship opportunities! https://saintmalachychurch.org/golf/
URL:https://saintmalachychurch.org/event/golf-outing-2/
LOCATION:Sycamore Hills Golf Club\, 48787 North Avenue\, Macomb\, MI\, 48042\, United States
CATEGORIES:Event,Featured Event,FROG,ROCK,Support,Volunteer,Youth Ministry
ORGANIZER;CN="Lauren Corbat":MAILTO:lcorbat@stmalachychurch.org
END:VEVENT
BEGIN:VEVENT
DTSTART;TZID=America/Detroit:20260624T183000
DTEND;TZID=America/Detroit:20260624T203000
DTSTAMP:20260419T093742
CREATED:20260417T195729Z
LAST-MODIFIED:20260417T195729Z
UID:10016738-1782325800-1782333000@saintmalachychurch.org
SUMMARY:Steubenville Parent Meeting & Teen Gathering
DESCRIPTION:Save the Dates! We will hold a Steubenville parent meeting & teen gathering on June 24th from 6:30pm-8:30pm. Come to get all the trip information you need! \nSteubenville sendoff will include a beautiful Adoration on July 8th from 6:30pm-8:30pm!
URL:https://saintmalachychurch.org/event/steubenville-parent-meeting-teen-gathering/
LOCATION:Youth Center\, 14115 E 14 Mile Rd\, Sterling Heights\, MI\, 48312\, United States
CATEGORIES:ROCK
ORGANIZER;CN="Lauren Corbat":MAILTO:lcorbat@stmalachychurch.org
END:VEVENT
BEGIN:VEVENT
DTSTART;TZID=America/Detroit:20260708T183000
DTEND;TZID=America/Detroit:20260708T203000
DTSTAMP:20260419T093742
CREATED:20260417T195848Z
LAST-MODIFIED:20260417T195848Z
UID:10016739-1783535400-1783542600@saintmalachychurch.org
SUMMARY:Steubenville Send-Off
DESCRIPTION:Steubenville Sendoff will include a beautiful Adoration in the church on July 8th from 6:30pm-8:30pm!
URL:https://saintmalachychurch.org/event/steubenville-send-off/
LOCATION:St. Malachy\, 14115 E 14 Mile Rd\, Sterling Heights\, MI\, 48312\, United States
CATEGORIES:ROCK
ORGANIZER;CN="Lauren Corbat":MAILTO:lcorbat@stmalachychurch.org
END:VEVENT
END:VCALENDAR