BEGIN:VCALENDAR
VERSION:2.0
PRODID:-//St. Malachy - ECPv6.15.18//NONSGML v1.0//EN
CALSCALE:GREGORIAN
METHOD:PUBLISH
X-WR-CALNAME:St. Malachy
X-ORIGINAL-URL:https://saintmalachychurch.org
X-WR-CALDESC:Events for St. Malachy
REFRESH-INTERVAL;VALUE=DURATION:PT1H
X-Robots-Tag:noindex
X-PUBLISHED-TTL:PT1H
BEGIN:VTIMEZONE
TZID:America/Detroit
BEGIN:DAYLIGHT
TZOFFSETFROM:-0500
TZOFFSETTO:-0400
TZNAME:EDT
DTSTART:20240310T070000
END:DAYLIGHT
BEGIN:STANDARD
TZOFFSETFROM:-0400
TZOFFSETTO:-0500
TZNAME:EST
DTSTART:20241103T060000
END:STANDARD
BEGIN:DAYLIGHT
TZOFFSETFROM:-0500
TZOFFSETTO:-0400
TZNAME:EDT
DTSTART:20250309T070000
END:DAYLIGHT
BEGIN:STANDARD
TZOFFSETFROM:-0400
TZOFFSETTO:-0500
TZNAME:EST
DTSTART:20251102T060000
END:STANDARD
BEGIN:DAYLIGHT
TZOFFSETFROM:-0500
TZOFFSETTO:-0400
TZNAME:EDT
DTSTART:20260308T070000
END:DAYLIGHT
BEGIN:STANDARD
TZOFFSETFROM:-0400
TZOFFSETTO:-0500
TZNAME:EST
DTSTART:20261101T060000
END:STANDARD
END:VTIMEZONE
BEGIN:VEVENT
DTSTART;TZID=America/Detroit:20251006T183000
DTEND;TZID=America/Detroit:20251006T203000
DTSTAMP:20260423T060857
CREATED:20250911T115414Z
LAST-MODIFIED:20250919T012231Z
UID:10016054-1759775400-1759782600@saintmalachychurch.org
SUMMARY:ROCK Meeting
DESCRIPTION:We’ve set Mondays as the meeting day for the Fall 2025 ROCK session! Below are the dates:\nSeptember 29th (6:30pm-8:30pm) Sacked: Suffering with Christ\nOctober 6th (6:30pm-8:30pm) Take a Knee: Reverence for Christ in the Eucharist\nOctober 13th (6:30pm-8:30pm) Hail Mary: A Social Night
URL:https://saintmalachychurch.org/event/rock-meeting-14/2025-10-06/
LOCATION:Youth Center\, 14115 E 14 Mile Rd\, Sterling Heights\, MI\, 48312\, United States
CATEGORIES:Event,Featured Event,ROCK,Youth Ministry
ORGANIZER;CN="Lauren Corbat":MAILTO:lcorbat@stmalachychurch.org
END:VEVENT
BEGIN:VEVENT
DTSTART;TZID=America/Detroit:20251011T180000
DTEND;TZID=America/Detroit:20251011T190000
DTSTAMP:20260423T060857
CREATED:20250813T111744Z
LAST-MODIFIED:20251002T172946Z
UID:10015957-1760205600-1760209200@saintmalachychurch.org
SUMMARY:FROCK Pumpkin Sales
DESCRIPTION:Looking for service hours? Help out at our Youth Ministry’s annual Pumpkin Sales! Pumpkins are sold after all Masses the weekend of October 11th and 12th. Help make a difference in the ministry! ***Volunteers are needed on Friday\, October 10th\, to unload and at all Masses to sell pumpkins!
URL:https://saintmalachychurch.org/event/rock-pumpkin-sales-2/2025-10-11/
LOCATION:St. Malachy\, 14115 E 14 Mile Rd\, Sterling Heights\, MI\, 48312\, United States
CATEGORIES:Donation,Event,Featured Event,FROG,Mass,ROCK,Volunteer,Youth Ministry
ORGANIZER;CN="Lauren Corbat":MAILTO:lcorbat@stmalachychurch.org
END:VEVENT
BEGIN:VEVENT
DTSTART;TZID=America/Detroit:20251012T083000
DTEND;TZID=America/Detroit:20251012T130000
DTSTAMP:20260423T060857
CREATED:20250813T111744Z
LAST-MODIFIED:20251002T172946Z
UID:10015958-1760257800-1760274000@saintmalachychurch.org
SUMMARY:FROCK Pumpkin Sales
DESCRIPTION:Looking for service hours? Help out at our Youth Ministry’s annual Pumpkin Sales! Pumpkins are sold after all Masses the weekend of October 11th and 12th. Help make a difference in the ministry! ***Volunteers are needed on Friday\, October 10th\, to unload and at all Masses to sell pumpkins!
URL:https://saintmalachychurch.org/event/rock-pumpkin-sales-2/2025-10-12/
LOCATION:St. Malachy\, 14115 E 14 Mile Rd\, Sterling Heights\, MI\, 48312\, United States
CATEGORIES:Donation,Event,Featured Event,FROG,Mass,ROCK,Volunteer,Youth Ministry
ORGANIZER;CN="Lauren Corbat":MAILTO:lcorbat@stmalachychurch.org
END:VEVENT
BEGIN:VEVENT
DTSTART;TZID=America/Detroit:20251013T183000
DTEND;TZID=America/Detroit:20251013T203000
DTSTAMP:20260423T060857
CREATED:20250911T115414Z
LAST-MODIFIED:20250919T012231Z
UID:10016055-1760380200-1760387400@saintmalachychurch.org
SUMMARY:ROCK Meeting
DESCRIPTION:We’ve set Mondays as the meeting day for the Fall 2025 ROCK session! Below are the dates:\nSeptember 29th (6:30pm-8:30pm) Sacked: Suffering with Christ\nOctober 6th (6:30pm-8:30pm) Take a Knee: Reverence for Christ in the Eucharist\nOctober 13th (6:30pm-8:30pm) Hail Mary: A Social Night
URL:https://saintmalachychurch.org/event/rock-meeting-14/2025-10-13/
LOCATION:Youth Center\, 14115 E 14 Mile Rd\, Sterling Heights\, MI\, 48312\, United States
CATEGORIES:Event,Featured Event,ROCK,Youth Ministry
ORGANIZER;CN="Lauren Corbat":MAILTO:lcorbat@stmalachychurch.org
END:VEVENT
BEGIN:VEVENT
DTSTART;TZID=America/Detroit:20251018T180000
DTEND;TZID=America/Detroit:20251018T200000
DTSTAMP:20260423T060857
CREATED:20250813T112259Z
LAST-MODIFIED:20250911T131955Z
UID:10015959-1760810400-1760817600@saintmalachychurch.org
SUMMARY:Parish Kids' Halloween Party
DESCRIPTION:Join in on the fun at the parish Kids’ Halloween Party! This is also a great event for those seeking service hours and volunteer opportunities! A lot of work goes into these parties for our parish children and we look forward to seeing you there! \nJoin us in the Currier Center following the 5pm Mass on Saturday\, October 18th\, 2025! Don’t forget to wear your costume! \n***Volunteers from 3pm-9pm***
URL:https://saintmalachychurch.org/event/parish-kids-halloween-party/
LOCATION:Currier Center\, 14115 E. 14 Mile Rd.\, Sterling Heights\, MI\, 48312\, United States
CATEGORIES:Event,Featured Event,Mass,ROCK,Volunteer,Youth Ministry
ORGANIZER;CN="Lauren Corbat":MAILTO:lcorbat@stmalachychurch.org
END:VEVENT
BEGIN:VEVENT
DTSTART;TZID=America/Detroit:20251027T183000
DTEND;TZID=America/Detroit:20251027T203000
DTSTAMP:20260423T060857
CREATED:20250917T160335Z
LAST-MODIFIED:20251021T174442Z
UID:10016093-1761589800-1761597000@saintmalachychurch.org
SUMMARY:Youth Group Outdoor Halloween Movie Night @ Festival Garage
DESCRIPTION:Our FROG and ROCK Ministries will be gathering on Monday\, October 27th from 6:30pm-8:30pm for an Outdoor Halloween Movie Night at the Festival Garage!
URL:https://saintmalachychurch.org/event/frog-outdoor-halloween-movie-night/
LOCATION:Youth Center\, 14115 E 14 Mile Rd\, Sterling Heights\, MI\, 48312\, United States
CATEGORIES:Event,Featured Event,FROG,ROCK,Youth Ministry
ORGANIZER;CN="Rachel Nicholson":MAILTO:frog@stmalachychurch.org
END:VEVENT
END:VCALENDAR