BEGIN:VCALENDAR
VERSION:2.0
PRODID:-//St. Malachy - ECPv6.15.18//NONSGML v1.0//EN
CALSCALE:GREGORIAN
METHOD:PUBLISH
X-ORIGINAL-URL:https://saintmalachychurch.org
X-WR-CALDESC:Events for St. Malachy
REFRESH-INTERVAL;VALUE=DURATION:PT1H
X-Robots-Tag:noindex
X-PUBLISHED-TTL:PT1H
BEGIN:VTIMEZONE
TZID:America/Detroit
BEGIN:DAYLIGHT
TZOFFSETFROM:-0500
TZOFFSETTO:-0400
TZNAME:EDT
DTSTART:20250309T070000
END:DAYLIGHT
BEGIN:STANDARD
TZOFFSETFROM:-0400
TZOFFSETTO:-0500
TZNAME:EST
DTSTART:20251102T060000
END:STANDARD
BEGIN:DAYLIGHT
TZOFFSETFROM:-0500
TZOFFSETTO:-0400
TZNAME:EDT
DTSTART:20260308T070000
END:DAYLIGHT
BEGIN:STANDARD
TZOFFSETFROM:-0400
TZOFFSETTO:-0500
TZNAME:EST
DTSTART:20261101T060000
END:STANDARD
BEGIN:DAYLIGHT
TZOFFSETFROM:-0500
TZOFFSETTO:-0400
TZNAME:EDT
DTSTART:20270314T070000
END:DAYLIGHT
BEGIN:STANDARD
TZOFFSETFROM:-0400
TZOFFSETTO:-0500
TZNAME:EST
DTSTART:20271107T060000
END:STANDARD
END:VTIMEZONE
BEGIN:VEVENT
DTSTART;TZID=America/Detroit:20260315T113000
DTEND;TZID=America/Detroit:20260315T123000
DTSTAMP:20260419T093906
CREATED:20250102T160614Z
LAST-MODIFIED:20251230T163219Z
UID:10001980-1773574200-1773577800@saintmalachychurch.org
SUMMARY:11:30am Contemporary Mass
DESCRIPTION:This Mass is also live-streamed at https://saintmalachychurch.org/live/
URL:https://saintmalachychurch.org/event/1130am-contemporary-mass-2/2026-03-15/
LOCATION:St. Malachy\, 14115 E 14 Mile Rd\, Sterling Heights\, MI\, 48312\, United States
CATEGORIES:Live Stream,Mass
ORGANIZER;CN="St. Malachy":MAILTO:contact@stmalachychurch.org
END:VEVENT
BEGIN:VEVENT
DTSTART;TZID=America/Detroit:20260321T170000
DTEND;TZID=America/Detroit:20260321T180000
DTSTAMP:20260419T093906
CREATED:20250102T161115Z
LAST-MODIFIED:20260129T195103Z
UID:10002242-1774112400-1774116000@saintmalachychurch.org
SUMMARY:5pm Traditional Mass
DESCRIPTION:This Mass is not live-streamed.
URL:https://saintmalachychurch.org/event/5pm-traditional-mass-2/2026-03-21/
LOCATION:St. Malachy\, 14115 E 14 Mile Rd\, Sterling Heights\, MI\, 48312\, United States
CATEGORIES:Mass
ORGANIZER;CN="St. Malachy":MAILTO:contact@stmalachychurch.org
END:VEVENT
BEGIN:VEVENT
DTSTART;TZID=America/Detroit:20260322T073000
DTEND;TZID=America/Detroit:20260322T083000
DTSTAMP:20260419T093906
CREATED:20250102T160216Z
LAST-MODIFIED:20250914T221620Z
UID:10001459-1774164600-1774168200@saintmalachychurch.org
SUMMARY:7:30am Traditional Mass
DESCRIPTION:This Mass is not live-streamed.
URL:https://saintmalachychurch.org/event/730am-mass/2026-03-22/
LOCATION:St. Malachy\, 14115 E 14 Mile Rd\, Sterling Heights\, MI\, 48312\, United States
CATEGORIES:Mass
ORGANIZER;CN="St. Malachy":MAILTO:contact@stmalachychurch.org
END:VEVENT
BEGIN:VEVENT
DTSTART;TZID=America/Detroit:20260322T093000
DTEND;TZID=America/Detroit:20260322T103000
DTSTAMP:20260419T093906
CREATED:20250102T160425Z
LAST-MODIFIED:20250213T163131Z
UID:10001720-1774171800-1774175400@saintmalachychurch.org
SUMMARY:9:30am Traditional Mass
DESCRIPTION:This Mass is also live-streamed at https://saintmalachychurch.org/live/
URL:https://saintmalachychurch.org/event/930am-mass/2026-03-22/
LOCATION:St. Malachy\, 14115 E 14 Mile Rd\, Sterling Heights\, MI\, 48312\, United States
CATEGORIES:Live Stream,Mass
ORGANIZER;CN="St. Malachy":MAILTO:contact@stmalachychurch.org
END:VEVENT
BEGIN:VEVENT
DTSTART;TZID=America/Detroit:20260322T113000
DTEND;TZID=America/Detroit:20260322T123000
DTSTAMP:20260419T093906
CREATED:20250102T160614Z
LAST-MODIFIED:20251230T163219Z
UID:10001981-1774179000-1774182600@saintmalachychurch.org
SUMMARY:11:30am Contemporary Mass
DESCRIPTION:This Mass is also live-streamed at https://saintmalachychurch.org/live/
URL:https://saintmalachychurch.org/event/1130am-contemporary-mass-2/2026-03-22/
LOCATION:St. Malachy\, 14115 E 14 Mile Rd\, Sterling Heights\, MI\, 48312\, United States
CATEGORIES:Live Stream,Mass
ORGANIZER;CN="St. Malachy":MAILTO:contact@stmalachychurch.org
END:VEVENT
BEGIN:VEVENT
DTSTART;TZID=America/Detroit:20260328T170000
DTEND;TZID=America/Detroit:20260328T180000
DTSTAMP:20260419T093906
CREATED:20250102T161115Z
LAST-MODIFIED:20260129T195103Z
UID:10002243-1774717200-1774720800@saintmalachychurch.org
SUMMARY:5pm Traditional Mass
DESCRIPTION:This Mass is not live-streamed.
URL:https://saintmalachychurch.org/event/5pm-traditional-mass-2/2026-03-28/
LOCATION:St. Malachy\, 14115 E 14 Mile Rd\, Sterling Heights\, MI\, 48312\, United States
CATEGORIES:Mass
ORGANIZER;CN="St. Malachy":MAILTO:contact@stmalachychurch.org
END:VEVENT
BEGIN:VEVENT
DTSTART;TZID=America/Detroit:20260329T073000
DTEND;TZID=America/Detroit:20260329T083000
DTSTAMP:20260419T093906
CREATED:20250102T160216Z
LAST-MODIFIED:20250914T221620Z
UID:10001460-1774769400-1774773000@saintmalachychurch.org
SUMMARY:7:30am Traditional Mass
DESCRIPTION:This Mass is not live-streamed.
URL:https://saintmalachychurch.org/event/730am-mass/2026-03-29/
LOCATION:St. Malachy\, 14115 E 14 Mile Rd\, Sterling Heights\, MI\, 48312\, United States
CATEGORIES:Mass
ORGANIZER;CN="St. Malachy":MAILTO:contact@stmalachychurch.org
END:VEVENT
BEGIN:VEVENT
DTSTART;TZID=America/Detroit:20260329T093000
DTEND;TZID=America/Detroit:20260329T103000
DTSTAMP:20260419T093906
CREATED:20250102T160425Z
LAST-MODIFIED:20250213T163131Z
UID:10001721-1774776600-1774780200@saintmalachychurch.org
SUMMARY:9:30am Traditional Mass
DESCRIPTION:This Mass is also live-streamed at https://saintmalachychurch.org/live/
URL:https://saintmalachychurch.org/event/930am-mass/2026-03-29/
LOCATION:St. Malachy\, 14115 E 14 Mile Rd\, Sterling Heights\, MI\, 48312\, United States
CATEGORIES:Live Stream,Mass
ORGANIZER;CN="St. Malachy":MAILTO:contact@stmalachychurch.org
END:VEVENT
BEGIN:VEVENT
DTSTART;TZID=America/Detroit:20260329T113000
DTEND;TZID=America/Detroit:20260329T123000
DTSTAMP:20260419T093906
CREATED:20250102T160614Z
LAST-MODIFIED:20251230T163219Z
UID:10001982-1774783800-1774787400@saintmalachychurch.org
SUMMARY:11:30am Contemporary Mass
DESCRIPTION:This Mass is also live-streamed at https://saintmalachychurch.org/live/
URL:https://saintmalachychurch.org/event/1130am-contemporary-mass-2/2026-03-29/
LOCATION:St. Malachy\, 14115 E 14 Mile Rd\, Sterling Heights\, MI\, 48312\, United States
CATEGORIES:Live Stream,Mass
ORGANIZER;CN="St. Malachy":MAILTO:contact@stmalachychurch.org
END:VEVENT
BEGIN:VEVENT
DTSTART;TZID=America/Detroit:20260402T190000
DTEND;TZID=America/Detroit:20260402T230000
DTSTAMP:20260419T093906
CREATED:20260126T163939Z
LAST-MODIFIED:20260319T155533Z
UID:10016648-1775156400-1775170800@saintmalachychurch.org
SUMMARY:Holy Thursday Mass & Adoration
DESCRIPTION:Join us on Holy Thursday to celebrate the Last Supper! We will begin the evening at 7pm with a beautiful Mass\, followed by Eucharistic Adoration until 11pm. The church will remain open until the Reposition of the Blessed Sacrament. \n*These events will be live-streamed!
URL:https://saintmalachychurch.org/event/holy-thursday-mass-5/
LOCATION:St. Malachy\, 14115 E 14 Mile Rd\, Sterling Heights\, MI\, 48312\, United States
CATEGORIES:Adoration,Event,Featured Event,Lent,Live Stream,Mass,Volunteer
ORGANIZER;CN="St. Malachy":MAILTO:contact@stmalachychurch.org
END:VEVENT
BEGIN:VEVENT
DTSTART;TZID=America/Detroit:20260405T073000
DTEND;TZID=America/Detroit:20260405T083000
DTSTAMP:20260419T093906
CREATED:20250102T160216Z
LAST-MODIFIED:20250914T221620Z
UID:10001461-1775374200-1775377800@saintmalachychurch.org
SUMMARY:7:30am Traditional Mass
DESCRIPTION:This Mass is not live-streamed.
URL:https://saintmalachychurch.org/event/730am-mass/2026-04-05/
LOCATION:St. Malachy\, 14115 E 14 Mile Rd\, Sterling Heights\, MI\, 48312\, United States
CATEGORIES:Mass
ORGANIZER;CN="St. Malachy":MAILTO:contact@stmalachychurch.org
END:VEVENT
BEGIN:VEVENT
DTSTART;TZID=America/Detroit:20260405T093000
DTEND;TZID=America/Detroit:20260405T103000
DTSTAMP:20260419T093906
CREATED:20250102T160425Z
LAST-MODIFIED:20250213T163131Z
UID:10001722-1775381400-1775385000@saintmalachychurch.org
SUMMARY:9:30am Traditional Mass
DESCRIPTION:This Mass is also live-streamed at https://saintmalachychurch.org/live/
URL:https://saintmalachychurch.org/event/930am-mass/2026-04-05/
LOCATION:St. Malachy\, 14115 E 14 Mile Rd\, Sterling Heights\, MI\, 48312\, United States
CATEGORIES:Live Stream,Mass
ORGANIZER;CN="St. Malachy":MAILTO:contact@stmalachychurch.org
END:VEVENT
BEGIN:VEVENT
DTSTART;TZID=America/Detroit:20260405T113000
DTEND;TZID=America/Detroit:20260405T123000
DTSTAMP:20260419T093906
CREATED:20250102T160614Z
LAST-MODIFIED:20251230T163219Z
UID:10001983-1775388600-1775392200@saintmalachychurch.org
SUMMARY:11:30am Contemporary Mass
DESCRIPTION:This Mass is also live-streamed at https://saintmalachychurch.org/live/
URL:https://saintmalachychurch.org/event/1130am-contemporary-mass-2/2026-04-05/
LOCATION:St. Malachy\, 14115 E 14 Mile Rd\, Sterling Heights\, MI\, 48312\, United States
CATEGORIES:Live Stream,Mass
ORGANIZER;CN="St. Malachy":MAILTO:contact@stmalachychurch.org
END:VEVENT
BEGIN:VEVENT
DTSTART;TZID=America/Detroit:20260411T170000
DTEND;TZID=America/Detroit:20260411T180000
DTSTAMP:20260419T093906
CREATED:20250102T161115Z
LAST-MODIFIED:20260129T195103Z
UID:10002245-1775926800-1775930400@saintmalachychurch.org
SUMMARY:5pm Traditional Mass
DESCRIPTION:This Mass is not live-streamed.
URL:https://saintmalachychurch.org/event/5pm-traditional-mass-2/2026-04-11/
LOCATION:St. Malachy\, 14115 E 14 Mile Rd\, Sterling Heights\, MI\, 48312\, United States
CATEGORIES:Mass
ORGANIZER;CN="St. Malachy":MAILTO:contact@stmalachychurch.org
END:VEVENT
BEGIN:VEVENT
DTSTART;TZID=America/Detroit:20260412T073000
DTEND;TZID=America/Detroit:20260412T083000
DTSTAMP:20260419T093906
CREATED:20250102T160216Z
LAST-MODIFIED:20250914T221620Z
UID:10001462-1775979000-1775982600@saintmalachychurch.org
SUMMARY:7:30am Traditional Mass
DESCRIPTION:This Mass is not live-streamed.
URL:https://saintmalachychurch.org/event/730am-mass/2026-04-12/
LOCATION:St. Malachy\, 14115 E 14 Mile Rd\, Sterling Heights\, MI\, 48312\, United States
CATEGORIES:Mass
ORGANIZER;CN="St. Malachy":MAILTO:contact@stmalachychurch.org
END:VEVENT
BEGIN:VEVENT
DTSTART;TZID=America/Detroit:20260412T093000
DTEND;TZID=America/Detroit:20260412T103000
DTSTAMP:20260419T093906
CREATED:20250102T160425Z
LAST-MODIFIED:20250213T163131Z
UID:10001723-1775986200-1775989800@saintmalachychurch.org
SUMMARY:9:30am Traditional Mass
DESCRIPTION:This Mass is also live-streamed at https://saintmalachychurch.org/live/
URL:https://saintmalachychurch.org/event/930am-mass/2026-04-12/
LOCATION:St. Malachy\, 14115 E 14 Mile Rd\, Sterling Heights\, MI\, 48312\, United States
CATEGORIES:Live Stream,Mass
ORGANIZER;CN="St. Malachy":MAILTO:contact@stmalachychurch.org
END:VEVENT
BEGIN:VEVENT
DTSTART;TZID=America/Detroit:20260418T170000
DTEND;TZID=America/Detroit:20260418T180000
DTSTAMP:20260419T093906
CREATED:20250102T161115Z
LAST-MODIFIED:20260129T195103Z
UID:10002246-1776531600-1776535200@saintmalachychurch.org
SUMMARY:5pm Traditional Mass
DESCRIPTION:This Mass is not live-streamed.
URL:https://saintmalachychurch.org/event/5pm-traditional-mass-2/2026-04-18/
LOCATION:St. Malachy\, 14115 E 14 Mile Rd\, Sterling Heights\, MI\, 48312\, United States
CATEGORIES:Mass
ORGANIZER;CN="St. Malachy":MAILTO:contact@stmalachychurch.org
END:VEVENT
BEGIN:VEVENT
DTSTART;TZID=America/Detroit:20260419T073000
DTEND;TZID=America/Detroit:20260419T083000
DTSTAMP:20260419T093906
CREATED:20250102T160216Z
LAST-MODIFIED:20250914T221620Z
UID:10001463-1776583800-1776587400@saintmalachychurch.org
SUMMARY:7:30am Traditional Mass
DESCRIPTION:This Mass is not live-streamed.
URL:https://saintmalachychurch.org/event/730am-mass/2026-04-19/
LOCATION:St. Malachy\, 14115 E 14 Mile Rd\, Sterling Heights\, MI\, 48312\, United States
CATEGORIES:Mass
ORGANIZER;CN="St. Malachy":MAILTO:contact@stmalachychurch.org
END:VEVENT
BEGIN:VEVENT
DTSTART;TZID=America/Detroit:20260419T093000
DTEND;TZID=America/Detroit:20260419T103000
DTSTAMP:20260419T093906
CREATED:20250102T160425Z
LAST-MODIFIED:20250213T163131Z
UID:10001724-1776591000-1776594600@saintmalachychurch.org
SUMMARY:9:30am Traditional Mass
DESCRIPTION:This Mass is also live-streamed at https://saintmalachychurch.org/live/
URL:https://saintmalachychurch.org/event/930am-mass/2026-04-19/
LOCATION:St. Malachy\, 14115 E 14 Mile Rd\, Sterling Heights\, MI\, 48312\, United States
CATEGORIES:Live Stream,Mass
ORGANIZER;CN="St. Malachy":MAILTO:contact@stmalachychurch.org
END:VEVENT
BEGIN:VEVENT
DTSTART;TZID=America/Detroit:20260419T113000
DTEND;TZID=America/Detroit:20260419T123000
DTSTAMP:20260419T093906
CREATED:20250102T160614Z
LAST-MODIFIED:20251230T163219Z
UID:10001985-1776598200-1776601800@saintmalachychurch.org
SUMMARY:11:30am Contemporary Mass
DESCRIPTION:This Mass is also live-streamed at https://saintmalachychurch.org/live/
URL:https://saintmalachychurch.org/event/1130am-contemporary-mass-2/2026-04-19/
LOCATION:St. Malachy\, 14115 E 14 Mile Rd\, Sterling Heights\, MI\, 48312\, United States
CATEGORIES:Live Stream,Mass
ORGANIZER;CN="St. Malachy":MAILTO:contact@stmalachychurch.org
END:VEVENT
BEGIN:VEVENT
DTSTART;TZID=America/Detroit:20260425T170000
DTEND;TZID=America/Detroit:20260425T180000
DTSTAMP:20260419T093906
CREATED:20250102T161115Z
LAST-MODIFIED:20260129T195103Z
UID:10002247-1777136400-1777140000@saintmalachychurch.org
SUMMARY:5pm Traditional Mass
DESCRIPTION:This Mass is not live-streamed.
URL:https://saintmalachychurch.org/event/5pm-traditional-mass-2/2026-04-25/
LOCATION:St. Malachy\, 14115 E 14 Mile Rd\, Sterling Heights\, MI\, 48312\, United States
CATEGORIES:Mass
ORGANIZER;CN="St. Malachy":MAILTO:contact@stmalachychurch.org
END:VEVENT
BEGIN:VEVENT
DTSTART;TZID=America/Detroit:20260426T073000
DTEND;TZID=America/Detroit:20260426T083000
DTSTAMP:20260419T093906
CREATED:20250102T160216Z
LAST-MODIFIED:20250914T221620Z
UID:10001464-1777188600-1777192200@saintmalachychurch.org
SUMMARY:7:30am Traditional Mass
DESCRIPTION:This Mass is not live-streamed.
URL:https://saintmalachychurch.org/event/730am-mass/2026-04-26/
LOCATION:St. Malachy\, 14115 E 14 Mile Rd\, Sterling Heights\, MI\, 48312\, United States
CATEGORIES:Mass
ORGANIZER;CN="St. Malachy":MAILTO:contact@stmalachychurch.org
END:VEVENT
BEGIN:VEVENT
DTSTART;TZID=America/Detroit:20260426T093000
DTEND;TZID=America/Detroit:20260426T103000
DTSTAMP:20260419T093906
CREATED:20250102T160425Z
LAST-MODIFIED:20250213T163131Z
UID:10001725-1777195800-1777199400@saintmalachychurch.org
SUMMARY:9:30am Traditional Mass
DESCRIPTION:This Mass is also live-streamed at https://saintmalachychurch.org/live/
URL:https://saintmalachychurch.org/event/930am-mass/2026-04-26/
LOCATION:St. Malachy\, 14115 E 14 Mile Rd\, Sterling Heights\, MI\, 48312\, United States
CATEGORIES:Live Stream,Mass
ORGANIZER;CN="St. Malachy":MAILTO:contact@stmalachychurch.org
END:VEVENT
BEGIN:VEVENT
DTSTART;TZID=America/Detroit:20260426T113000
DTEND;TZID=America/Detroit:20260426T123000
DTSTAMP:20260419T093906
CREATED:20250102T160614Z
LAST-MODIFIED:20251230T163219Z
UID:10001986-1777203000-1777206600@saintmalachychurch.org
SUMMARY:11:30am Contemporary Mass
DESCRIPTION:This Mass is also live-streamed at https://saintmalachychurch.org/live/
URL:https://saintmalachychurch.org/event/1130am-contemporary-mass-2/2026-04-26/
LOCATION:St. Malachy\, 14115 E 14 Mile Rd\, Sterling Heights\, MI\, 48312\, United States
CATEGORIES:Live Stream,Mass
ORGANIZER;CN="St. Malachy":MAILTO:contact@stmalachychurch.org
END:VEVENT
BEGIN:VEVENT
DTSTART;TZID=America/Detroit:20260501T103000
DTEND;TZID=America/Detroit:20260501T113000
DTSTAMP:20260419T093906
CREATED:20250214T151758Z
LAST-MODIFIED:20260126T171346Z
UID:10010430-1777631400-1777635000@saintmalachychurch.org
SUMMARY:First Friday Devotions
DESCRIPTION:First Friday Devotions will be held every first Friday of the month immediately following 9:30am Daily Mass. All are welcome and encouraged to attend these faith-filled spiritual mornings!
URL:https://saintmalachychurch.org/event/first-friday-devotions-3/2026-05-01/
LOCATION:St. Malachy\, 14115 E 14 Mile Rd\, Sterling Heights\, MI\, 48312\, United States
CATEGORIES:Event,Featured Event,First Friday Devotions,Mass
ORGANIZER;CN="St. Malachy":MAILTO:contact@stmalachychurch.org
END:VEVENT
BEGIN:VEVENT
DTSTART;TZID=America/Detroit:20260502T170000
DTEND;TZID=America/Detroit:20260502T180000
DTSTAMP:20260419T093906
CREATED:20250102T161115Z
LAST-MODIFIED:20260129T195103Z
UID:10002248-1777741200-1777744800@saintmalachychurch.org
SUMMARY:5pm Traditional Mass
DESCRIPTION:This Mass is not live-streamed.
URL:https://saintmalachychurch.org/event/5pm-traditional-mass-2/2026-05-02/
LOCATION:St. Malachy\, 14115 E 14 Mile Rd\, Sterling Heights\, MI\, 48312\, United States
CATEGORIES:Mass
ORGANIZER;CN="St. Malachy":MAILTO:contact@stmalachychurch.org
END:VEVENT
BEGIN:VEVENT
DTSTART;TZID=America/Detroit:20260503T073000
DTEND;TZID=America/Detroit:20260503T083000
DTSTAMP:20260419T093906
CREATED:20250102T160216Z
LAST-MODIFIED:20250914T221620Z
UID:10001465-1777793400-1777797000@saintmalachychurch.org
SUMMARY:7:30am Traditional Mass
DESCRIPTION:This Mass is not live-streamed.
URL:https://saintmalachychurch.org/event/730am-mass/2026-05-03/
LOCATION:St. Malachy\, 14115 E 14 Mile Rd\, Sterling Heights\, MI\, 48312\, United States
CATEGORIES:Mass
ORGANIZER;CN="St. Malachy":MAILTO:contact@stmalachychurch.org
END:VEVENT
BEGIN:VEVENT
DTSTART;TZID=America/Detroit:20260503T093000
DTEND;TZID=America/Detroit:20260503T103000
DTSTAMP:20260419T093906
CREATED:20250102T160425Z
LAST-MODIFIED:20250213T163131Z
UID:10001726-1777800600-1777804200@saintmalachychurch.org
SUMMARY:9:30am Traditional Mass
DESCRIPTION:This Mass is also live-streamed at https://saintmalachychurch.org/live/
URL:https://saintmalachychurch.org/event/930am-mass/2026-05-03/
LOCATION:St. Malachy\, 14115 E 14 Mile Rd\, Sterling Heights\, MI\, 48312\, United States
CATEGORIES:Live Stream,Mass
ORGANIZER;CN="St. Malachy":MAILTO:contact@stmalachychurch.org
END:VEVENT
BEGIN:VEVENT
DTSTART;TZID=America/Detroit:20260503T113000
DTEND;TZID=America/Detroit:20260503T123000
DTSTAMP:20260419T093906
CREATED:20250102T160614Z
LAST-MODIFIED:20251230T163219Z
UID:10001987-1777807800-1777811400@saintmalachychurch.org
SUMMARY:11:30am Contemporary Mass
DESCRIPTION:This Mass is also live-streamed at https://saintmalachychurch.org/live/
URL:https://saintmalachychurch.org/event/1130am-contemporary-mass-2/2026-05-03/
LOCATION:St. Malachy\, 14115 E 14 Mile Rd\, Sterling Heights\, MI\, 48312\, United States
CATEGORIES:Live Stream,Mass
ORGANIZER;CN="St. Malachy":MAILTO:contact@stmalachychurch.org
END:VEVENT
BEGIN:VEVENT
DTSTART;TZID=America/Detroit:20260509T170000
DTEND;TZID=America/Detroit:20260509T180000
DTSTAMP:20260419T093906
CREATED:20250102T161115Z
LAST-MODIFIED:20260129T195103Z
UID:10002249-1778346000-1778349600@saintmalachychurch.org
SUMMARY:5pm Traditional Mass
DESCRIPTION:This Mass is not live-streamed.
URL:https://saintmalachychurch.org/event/5pm-traditional-mass-2/2026-05-09/
LOCATION:St. Malachy\, 14115 E 14 Mile Rd\, Sterling Heights\, MI\, 48312\, United States
CATEGORIES:Mass
ORGANIZER;CN="St. Malachy":MAILTO:contact@stmalachychurch.org
END:VEVENT
END:VCALENDAR