BEGIN:VCALENDAR
VERSION:2.0
PRODID:-//St. Malachy - ECPv6.15.18//NONSGML v1.0//EN
CALSCALE:GREGORIAN
METHOD:PUBLISH
X-ORIGINAL-URL:https://saintmalachychurch.org
X-WR-CALDESC:Events for St. Malachy
REFRESH-INTERVAL;VALUE=DURATION:PT1H
X-Robots-Tag:noindex
X-PUBLISHED-TTL:PT1H
BEGIN:VTIMEZONE
TZID:America/Detroit
BEGIN:DAYLIGHT
TZOFFSETFROM:-0500
TZOFFSETTO:-0400
TZNAME:EDT
DTSTART:20240310T070000
END:DAYLIGHT
BEGIN:STANDARD
TZOFFSETFROM:-0400
TZOFFSETTO:-0500
TZNAME:EST
DTSTART:20241103T060000
END:STANDARD
BEGIN:DAYLIGHT
TZOFFSETFROM:-0500
TZOFFSETTO:-0400
TZNAME:EDT
DTSTART:20250309T070000
END:DAYLIGHT
BEGIN:STANDARD
TZOFFSETFROM:-0400
TZOFFSETTO:-0500
TZNAME:EST
DTSTART:20251102T060000
END:STANDARD
BEGIN:DAYLIGHT
TZOFFSETFROM:-0500
TZOFFSETTO:-0400
TZNAME:EDT
DTSTART:20260308T070000
END:DAYLIGHT
BEGIN:STANDARD
TZOFFSETFROM:-0400
TZOFFSETTO:-0500
TZNAME:EST
DTSTART:20261101T060000
END:STANDARD
BEGIN:DAYLIGHT
TZOFFSETFROM:-0500
TZOFFSETTO:-0400
TZNAME:EDT
DTSTART:20270314T070000
END:DAYLIGHT
BEGIN:STANDARD
TZOFFSETFROM:-0400
TZOFFSETTO:-0500
TZNAME:EST
DTSTART:20271107T060000
END:STANDARD
END:VTIMEZONE
BEGIN:VEVENT
DTSTART;TZID=America/Detroit:20260313T160000
DTEND;TZID=America/Detroit:20260313T190000
DTSTAMP:20260422T064442
CREATED:20260212T192138Z
LAST-MODIFIED:20260212T192320Z
UID:10016692-1773417600-1773428400@saintmalachychurch.org
SUMMARY:Lenten Fish Fry
DESCRIPTION:Our famous St. Malachy Fish Fries start on Ash Wednesday (4pm-7pm) and continue every Friday during Lent (4pm-7pm.) \n*Please note that on Good Friday ONLY\, the hours will be extended to 3pm-7pm.  \nWe are also in need of baked goods for our dinners! Please drop your donations off in the Currier Center starting the morning of Ash Wednesday and every Friday morning during Lent!
URL:https://saintmalachychurch.org/event/fish-fry-4pm-7pm/2026-03-13/
LOCATION:Currier Center\, 14115 E. 14 Mile Rd.\, Sterling Heights\, MI\, 48312\, United States
CATEGORIES:Event,Featured Event,Fish Fry,Lent,Men's Club,Support,Volunteer,Women's Club
ORGANIZER;CN="St. Malachy Men's Club":MAILTO:mensclub@stmalachychurch.org
END:VEVENT
BEGIN:VEVENT
DTSTART;TZID=America/Detroit:20260306T190000
DTEND;TZID=America/Detroit:20260306T200000
DTSTAMP:20260422T064442
CREATED:20260212T194102Z
LAST-MODIFIED:20260212T194103Z
UID:10016698-1772823600-1772827200@saintmalachychurch.org
SUMMARY:Stations of the Cross
DESCRIPTION:If you are looking for a way to strengthen your faith during Lent\, join us every Friday evening from February 20th – March 27th at 7pm in the church for Stations of the Cross!
URL:https://saintmalachychurch.org/event/stations-of-the-cross-4/2026-03-06/
LOCATION:St. Malachy\, 14115 E 14 Mile Rd\, Sterling Heights\, MI\, 48312\, United States
CATEGORIES:Event,Featured Event,Lent,Stations of the Cross,Volunteer
END:VEVENT
BEGIN:VEVENT
DTSTART;TZID=America/Detroit:20260306T160000
DTEND;TZID=America/Detroit:20260306T190000
DTSTAMP:20260422T064442
CREATED:20260212T192138Z
LAST-MODIFIED:20260212T192320Z
UID:10016691-1772812800-1772823600@saintmalachychurch.org
SUMMARY:Lenten Fish Fry
DESCRIPTION:Our famous St. Malachy Fish Fries start on Ash Wednesday (4pm-7pm) and continue every Friday during Lent (4pm-7pm.) \n*Please note that on Good Friday ONLY\, the hours will be extended to 3pm-7pm.  \nWe are also in need of baked goods for our dinners! Please drop your donations off in the Currier Center starting the morning of Ash Wednesday and every Friday morning during Lent!
URL:https://saintmalachychurch.org/event/fish-fry-4pm-7pm/2026-03-06/
LOCATION:Currier Center\, 14115 E. 14 Mile Rd.\, Sterling Heights\, MI\, 48312\, United States
CATEGORIES:Event,Featured Event,Fish Fry,Lent,Men's Club,Support,Volunteer,Women's Club
ORGANIZER;CN="St. Malachy Men's Club":MAILTO:mensclub@stmalachychurch.org
END:VEVENT
BEGIN:VEVENT
DTSTART;TZID=America/Detroit:20260227T190000
DTEND;TZID=America/Detroit:20260227T200000
DTSTAMP:20260422T064442
CREATED:20260212T194102Z
LAST-MODIFIED:20260212T194103Z
UID:10016697-1772218800-1772222400@saintmalachychurch.org
SUMMARY:Stations of the Cross
DESCRIPTION:If you are looking for a way to strengthen your faith during Lent\, join us every Friday evening from February 20th – March 27th at 7pm in the church for Stations of the Cross!
URL:https://saintmalachychurch.org/event/stations-of-the-cross-4/2026-02-27/
LOCATION:St. Malachy\, 14115 E 14 Mile Rd\, Sterling Heights\, MI\, 48312\, United States
CATEGORIES:Event,Featured Event,Lent,Stations of the Cross,Volunteer
END:VEVENT
BEGIN:VEVENT
DTSTART;TZID=America/Detroit:20260227T160000
DTEND;TZID=America/Detroit:20260227T190000
DTSTAMP:20260422T064442
CREATED:20260212T192138Z
LAST-MODIFIED:20260212T192320Z
UID:10016690-1772208000-1772218800@saintmalachychurch.org
SUMMARY:Lenten Fish Fry
DESCRIPTION:Our famous St. Malachy Fish Fries start on Ash Wednesday (4pm-7pm) and continue every Friday during Lent (4pm-7pm.) \n*Please note that on Good Friday ONLY\, the hours will be extended to 3pm-7pm.  \nWe are also in need of baked goods for our dinners! Please drop your donations off in the Currier Center starting the morning of Ash Wednesday and every Friday morning during Lent!
URL:https://saintmalachychurch.org/event/fish-fry-4pm-7pm/2026-02-27/
LOCATION:Currier Center\, 14115 E. 14 Mile Rd.\, Sterling Heights\, MI\, 48312\, United States
CATEGORIES:Event,Featured Event,Fish Fry,Lent,Men's Club,Support,Volunteer,Women's Club
ORGANIZER;CN="St. Malachy Men's Club":MAILTO:mensclub@stmalachychurch.org
END:VEVENT
BEGIN:VEVENT
DTSTART;TZID=America/Detroit:20260220T190000
DTEND;TZID=America/Detroit:20260220T200000
DTSTAMP:20260422T064442
CREATED:20260212T194102Z
LAST-MODIFIED:20260212T194103Z
UID:10016696-1771614000-1771617600@saintmalachychurch.org
SUMMARY:Stations of the Cross
DESCRIPTION:If you are looking for a way to strengthen your faith during Lent\, join us every Friday evening from February 20th – March 27th at 7pm in the church for Stations of the Cross!
URL:https://saintmalachychurch.org/event/stations-of-the-cross-4/2026-02-20/
LOCATION:St. Malachy\, 14115 E 14 Mile Rd\, Sterling Heights\, MI\, 48312\, United States
CATEGORIES:Event,Featured Event,Lent,Stations of the Cross,Volunteer
END:VEVENT
BEGIN:VEVENT
DTSTART;TZID=America/Detroit:20260220T160000
DTEND;TZID=America/Detroit:20260220T190000
DTSTAMP:20260422T064442
CREATED:20260212T192138Z
LAST-MODIFIED:20260212T192320Z
UID:10016689-1771603200-1771614000@saintmalachychurch.org
SUMMARY:Lenten Fish Fry
DESCRIPTION:Our famous St. Malachy Fish Fries start on Ash Wednesday (4pm-7pm) and continue every Friday during Lent (4pm-7pm.) \n*Please note that on Good Friday ONLY\, the hours will be extended to 3pm-7pm.  \nWe are also in need of baked goods for our dinners! Please drop your donations off in the Currier Center starting the morning of Ash Wednesday and every Friday morning during Lent!
URL:https://saintmalachychurch.org/event/fish-fry-4pm-7pm/2026-02-20/
LOCATION:Currier Center\, 14115 E. 14 Mile Rd.\, Sterling Heights\, MI\, 48312\, United States
CATEGORIES:Event,Featured Event,Fish Fry,Lent,Men's Club,Support,Volunteer,Women's Club
ORGANIZER;CN="St. Malachy Men's Club":MAILTO:mensclub@stmalachychurch.org
END:VEVENT
BEGIN:VEVENT
DTSTART;TZID=America/Detroit:20260218T160000
DTEND;TZID=America/Detroit:20260218T190000
DTSTAMP:20260422T064442
CREATED:20260212T192138Z
LAST-MODIFIED:20260212T192320Z
UID:10016688-1771430400-1771441200@saintmalachychurch.org
SUMMARY:Lenten Fish Fry
DESCRIPTION:Our famous St. Malachy Fish Fries start on Ash Wednesday (4pm-7pm) and continue every Friday during Lent (4pm-7pm.) \n*Please note that on Good Friday ONLY\, the hours will be extended to 3pm-7pm.  \nWe are also in need of baked goods for our dinners! Please drop your donations off in the Currier Center starting the morning of Ash Wednesday and every Friday morning during Lent!
URL:https://saintmalachychurch.org/event/fish-fry-4pm-7pm/2026-02-18/
LOCATION:Currier Center\, 14115 E. 14 Mile Rd.\, Sterling Heights\, MI\, 48312\, United States
CATEGORIES:Event,Featured Event,Fish Fry,Lent,Men's Club,Support,Volunteer,Women's Club
ORGANIZER;CN="St. Malachy Men's Club":MAILTO:mensclub@stmalachychurch.org
END:VEVENT
BEGIN:VEVENT
DTSTART;TZID=America/Detroit:20260214T163000
DTEND;TZID=America/Detroit:20260215T130000
DTSTAMP:20260422T064442
CREATED:20260204T161649Z
LAST-MODIFIED:20260204T161716Z
UID:10016682-1771086600-1771160400@saintmalachychurch.org
SUMMARY:Palm Collection
DESCRIPTION:We will be collecting old palms in preparation for Ash Wednesday the weekend of February 14th & 15th! \nThere will be a marked can in the Gathering Space. \nPlease be sure to bring your palms on this weekend only! We will not be accepting them before or after the scheduled weekend. \nPlease only return the palms! Do not put them in baggies\, or secure them with rubber bands. \nThank you!
URL:https://saintmalachychurch.org/event/palm-collection-3/
LOCATION:Gathering Space\, 14115 E. 14 Mile Rd\, Sterling heights\, MI\, 48312\, United States
CATEGORIES:Ash Wednesday,Event,Featured Event,Lent,Volunteer
ORGANIZER;CN="St. Malachy":MAILTO:contact@stmalachychurch.org
END:VEVENT
BEGIN:VEVENT
DTSTART;TZID=America/Detroit:20250418T150000
DTEND;TZID=America/Detroit:20250418T190000
DTSTAMP:20260422T064442
CREATED:20250213T160037Z
LAST-MODIFIED:20250220T124730Z
UID:10010372-1744988400-1745002800@saintmalachychurch.org
SUMMARY:Fish Fry
DESCRIPTION:
URL:https://saintmalachychurch.org/event/fish-fry-6/2025-04-18/
LOCATION:Currier Center\, 14115 E. 14 Mile Rd.\, Sterling Heights\, MI\, 48312\, United States
CATEGORIES:Ash Wednesday,Event,Featured Event,Fish Fry,Lent,Men's Club,Women's Club
ORGANIZER;CN="St. Malachy Men's Club":MAILTO:mensclub@stmalachychurch.org
END:VEVENT
BEGIN:VEVENT
DTSTART;TZID=America/Detroit:20250413T160000
DTEND;TZID=America/Detroit:20250413T173000
DTSTAMP:20260422T064442
CREATED:20250314T165044Z
LAST-MODIFIED:20250322T220009Z
UID:10013720-1744560000-1744565400@saintmalachychurch.org
SUMMARY:Lenten Sketches
DESCRIPTION:Join us to celebrate Palm Sunday with the Children’s Liturgy at both of the 9:30am and 11:30am Masses! \nThat evening\, we encourage you to come see Lenten Sketches\, a beautiful illustration of Christ’s final days on earth through music. This program will begin at 4pm on Sunday\, April 13th!
URL:https://saintmalachychurch.org/event/lenten-sketches-2/
LOCATION:St. Malachy\, 14115 E 14 Mile Rd\, Sterling Heights\, MI\, 48312\, United States
CATEGORIES:Event,Featured Event,Lent,Music Ministry
ORGANIZER;CN="Eric Taylor":MAILTO:etaylor@stmalachychurch.org
END:VEVENT
BEGIN:VEVENT
DTSTART;TZID=America/Detroit:20250411T160000
DTEND;TZID=America/Detroit:20250411T190000
DTSTAMP:20260422T064442
CREATED:20250213T160037Z
LAST-MODIFIED:20250220T124730Z
UID:10010371-1744387200-1744398000@saintmalachychurch.org
SUMMARY:Fish Fry
DESCRIPTION:
URL:https://saintmalachychurch.org/event/fish-fry-6/2025-04-11/
LOCATION:Currier Center\, 14115 E. 14 Mile Rd.\, Sterling Heights\, MI\, 48312\, United States
CATEGORIES:Ash Wednesday,Event,Featured Event,Fish Fry,Lent,Men's Club,Women's Club
ORGANIZER;CN="St. Malachy Men's Club":MAILTO:mensclub@stmalachychurch.org
END:VEVENT
BEGIN:VEVENT
DTSTART;TZID=America/Detroit:20250404T160000
DTEND;TZID=America/Detroit:20250404T190000
DTSTAMP:20260422T064442
CREATED:20250213T160037Z
LAST-MODIFIED:20250220T124730Z
UID:10010370-1743782400-1743793200@saintmalachychurch.org
SUMMARY:Fish Fry
DESCRIPTION:
URL:https://saintmalachychurch.org/event/fish-fry-6/2025-04-04/
LOCATION:Currier Center\, 14115 E. 14 Mile Rd.\, Sterling Heights\, MI\, 48312\, United States
CATEGORIES:Ash Wednesday,Event,Featured Event,Fish Fry,Lent,Men's Club,Women's Club
ORGANIZER;CN="St. Malachy Men's Club":MAILTO:mensclub@stmalachychurch.org
END:VEVENT
BEGIN:VEVENT
DTSTART;TZID=America/Detroit:20250404T113000
DTEND;TZID=America/Detroit:20250404T183000
DTSTAMP:20260422T064442
CREATED:20250220T195312Z
LAST-MODIFIED:20250220T195313Z
UID:10011602-1743766200-1743791400@saintmalachychurch.org
SUMMARY:All Day Adoration
DESCRIPTION:We will have All Day Adoration on Friday\, April 4th immediately following First Friday Devotions until 6:30pm. While the Blessed Sacrament is on the Altar\, we will need someone in the church at all times. Please consider spending a half hour or more with our Lord. A sign-up sheet can be found in the Gathering Space!
URL:https://saintmalachychurch.org/event/all-day-adoration-4/
LOCATION:St. Malachy\, 14115 E 14 Mile Rd\, Sterling Heights\, MI\, 48312\, United States
CATEGORIES:Adoration,Event,Featured Event,First Friday Devotions,Lent,Mass,Volunteer
ORGANIZER;CN="St. Malachy":MAILTO:contact@stmalachychurch.org
END:VEVENT
BEGIN:VEVENT
DTSTART;TZID=America/Detroit:20250328T160000
DTEND;TZID=America/Detroit:20250328T190000
DTSTAMP:20260422T064442
CREATED:20250213T160037Z
LAST-MODIFIED:20250220T124730Z
UID:10010369-1743177600-1743188400@saintmalachychurch.org
SUMMARY:Fish Fry
DESCRIPTION:
URL:https://saintmalachychurch.org/event/fish-fry-6/2025-03-28/
LOCATION:Currier Center\, 14115 E. 14 Mile Rd.\, Sterling Heights\, MI\, 48312\, United States
CATEGORIES:Ash Wednesday,Event,Featured Event,Fish Fry,Lent,Men's Club,Women's Club
ORGANIZER;CN="St. Malachy Men's Club":MAILTO:mensclub@stmalachychurch.org
END:VEVENT
BEGIN:VEVENT
DTSTART;TZID=America/Detroit:20250324T190000
DTEND;TZID=America/Detroit:20250324T210000
DTSTAMP:20260422T064442
CREATED:20250310T151909Z
LAST-MODIFIED:20250310T151910Z
UID:10013716-1742842800-1742850000@saintmalachychurch.org
SUMMARY:Lenten Penance Service
DESCRIPTION:Join us for a Lenten Penance Service on March 24th at 7pm located at Paul of Tarsus Parish! There will be many priests available to hear confessions. This is a wonderful opportunity to exercise forgiveness into your Lenten Season!
URL:https://saintmalachychurch.org/event/lenten-penance-service/
LOCATION:St. Paul of Tarsus\, 41300 Romeo Plank Road\, Clinton Township\, MI\, 48038\, United States
CATEGORIES:Event,Families of Parishes,Featured Event,Lent
END:VEVENT
BEGIN:VEVENT
DTSTART;VALUE=DATE:20250322
DTEND;VALUE=DATE:20250324
DTSTAMP:20260422T064442
CREATED:20250306T183948Z
LAST-MODIFIED:20250306T183948Z
UID:10013269-1742601600-1742774399@saintmalachychurch.org
SUMMARY:Tree of Life Donations Due!
DESCRIPTION:The Lenten Tree of Life is up and located in the front of the church! A list of organizations that we donate to can be found below: \n❖ Franciscan Ministry – Serves the homeless\, the elderly and the working poor of the East side of Detroit \n❖ Most Holy Trinity – Serves the homeless and low-income families in Detroit \n❖ Catholic Charities of Southeast Michigan-Project Hope – helps Mothers in need to help with caring for their infants. \n❖ Pope Francis Center – Serves the homeless in Detroit and Metro Detroit area \n❖ St. Malachy – For the people of our community who come to our door requesting money for food\, gas money\, or to help with utility bills. \n❖ Sanctum House- Provides services and shelter to the victims of Human Trafficking \nHelp the less fortunate by taking a tag or two! Please attach the tag with your purchase\, so we can be sure it is given to the organization it was intended for. Donations should be returned by the weekend of March 22nd and 23rd. Please note we are not accepting any used items at this time! THANK YOU!!!
URL:https://saintmalachychurch.org/event/tree-of-life-donations-due/
LOCATION:St. Malachy\, 14115 E 14 Mile Rd\, Sterling Heights\, MI\, 48312\, United States
CATEGORIES:Donation,Lent
ORGANIZER;CN="St. Malachy":MAILTO:contact@stmalachychurch.org
END:VEVENT
BEGIN:VEVENT
DTSTART;TZID=America/Detroit:20250321T160000
DTEND;TZID=America/Detroit:20250321T190000
DTSTAMP:20260422T064442
CREATED:20250213T160037Z
LAST-MODIFIED:20250220T124730Z
UID:10010368-1742572800-1742583600@saintmalachychurch.org
SUMMARY:Fish Fry
DESCRIPTION:
URL:https://saintmalachychurch.org/event/fish-fry-6/2025-03-21/
LOCATION:Currier Center\, 14115 E. 14 Mile Rd.\, Sterling Heights\, MI\, 48312\, United States
CATEGORIES:Ash Wednesday,Event,Featured Event,Fish Fry,Lent,Men's Club,Women's Club
ORGANIZER;CN="St. Malachy Men's Club":MAILTO:mensclub@stmalachychurch.org
END:VEVENT
BEGIN:VEVENT
DTSTART;TZID=America/Detroit:20250314T160000
DTEND;TZID=America/Detroit:20250314T190000
DTSTAMP:20260422T064442
CREATED:20250213T160037Z
LAST-MODIFIED:20250220T124730Z
UID:10010367-1741968000-1741978800@saintmalachychurch.org
SUMMARY:Fish Fry
DESCRIPTION:
URL:https://saintmalachychurch.org/event/fish-fry-6/2025-03-14/
LOCATION:Currier Center\, 14115 E. 14 Mile Rd.\, Sterling Heights\, MI\, 48312\, United States
CATEGORIES:Ash Wednesday,Event,Featured Event,Fish Fry,Lent,Men's Club,Women's Club
ORGANIZER;CN="St. Malachy Men's Club":MAILTO:mensclub@stmalachychurch.org
END:VEVENT
BEGIN:VEVENT
DTSTART;TZID=America/Detroit:20250307T160000
DTEND;TZID=America/Detroit:20250307T190000
DTSTAMP:20260422T064442
CREATED:20250213T160037Z
LAST-MODIFIED:20250220T124730Z
UID:10010366-1741363200-1741374000@saintmalachychurch.org
SUMMARY:Fish Fry
DESCRIPTION:
URL:https://saintmalachychurch.org/event/fish-fry-6/2025-03-07/
LOCATION:Currier Center\, 14115 E. 14 Mile Rd.\, Sterling Heights\, MI\, 48312\, United States
CATEGORIES:Ash Wednesday,Event,Featured Event,Fish Fry,Lent,Men's Club,Women's Club
ORGANIZER;CN="St. Malachy Men's Club":MAILTO:mensclub@stmalachychurch.org
END:VEVENT
BEGIN:VEVENT
DTSTART;TZID=America/Detroit:20250307T113000
DTEND;TZID=America/Detroit:20250307T183000
DTSTAMP:20260422T064442
CREATED:20250220T194809Z
LAST-MODIFIED:20250220T194809Z
UID:10011601-1741347000-1741372200@saintmalachychurch.org
SUMMARY:All Day Adoration
DESCRIPTION:We will have All Day Adoration on Friday\, March 7th immediately following First Friday Devotions until 6:30pm. While the Blessed Sacrament is on the Altar\, we will need someone in the church at all times. Please consider spending a half hour or more with our Lord. A sign-up sheet can be found in the Gathering Space!
URL:https://saintmalachychurch.org/event/all-day-adoration-3/
LOCATION:St. Malachy\, 14115 E 14 Mile Rd\, Sterling Heights\, MI\, 48312\, United States
CATEGORIES:Adoration,Event,Featured Event,First Friday Devotions,Lent,Mass,Volunteer
ORGANIZER;CN="St. Malachy":MAILTO:contact@stmalachychurch.org
END:VEVENT
BEGIN:VEVENT
DTSTART;TZID=America/Detroit:20250305T160000
DTEND;TZID=America/Detroit:20250305T190000
DTSTAMP:20260422T064442
CREATED:20250213T160037Z
LAST-MODIFIED:20250220T124730Z
UID:10010365-1741190400-1741201200@saintmalachychurch.org
SUMMARY:Fish Fry
DESCRIPTION:
URL:https://saintmalachychurch.org/event/fish-fry-6/2025-03-05/
LOCATION:Currier Center\, 14115 E. 14 Mile Rd.\, Sterling Heights\, MI\, 48312\, United States
CATEGORIES:Ash Wednesday,Event,Featured Event,Fish Fry,Lent,Men's Club,Women's Club
ORGANIZER;CN="St. Malachy Men's Club":MAILTO:mensclub@stmalachychurch.org
END:VEVENT
BEGIN:VEVENT
DTSTART;TZID=America/Detroit:20250302T070000
DTEND;TZID=America/Detroit:20250302T130000
DTSTAMP:20260422T064442
CREATED:20250220T183539Z
LAST-MODIFIED:20250220T183540Z
UID:10011599-1740898800-1740920400@saintmalachychurch.org
SUMMARY:Palm Collection
DESCRIPTION:We will be collecting old palms on the weekend of March 1st and 2nd in preparation for Ash Wednesday! There will be a labeled can in the Gathering Space to collect the palms. Please bring your palms the weekend of the 1st and 2nd only. Thank you!!!
URL:https://saintmalachychurch.org/event/palm-collection-2/2025-03-02/
LOCATION:Gathering Space\, 14115 E. 14 Mile Rd\, Sterling heights\, MI\, 48312\, United States
CATEGORIES:Event,Featured Event,Lent
END:VEVENT
BEGIN:VEVENT
DTSTART;TZID=America/Detroit:20250301T160000
DTEND;TZID=America/Detroit:20250301T183000
DTSTAMP:20260422T064442
CREATED:20250220T183539Z
LAST-MODIFIED:20250220T183540Z
UID:10011598-1740844800-1740853800@saintmalachychurch.org
SUMMARY:Palm Collection
DESCRIPTION:We will be collecting old palms on the weekend of March 1st and 2nd in preparation for Ash Wednesday! There will be a labeled can in the Gathering Space to collect the palms. Please bring your palms the weekend of the 1st and 2nd only. Thank you!!!
URL:https://saintmalachychurch.org/event/palm-collection-2/2025-03-01/
LOCATION:Gathering Space\, 14115 E. 14 Mile Rd\, Sterling heights\, MI\, 48312\, United States
CATEGORIES:Event,Featured Event,Lent
END:VEVENT
END:VCALENDAR