BEGIN:VCALENDAR
VERSION:2.0
PRODID:-//St. Malachy - ECPv6.15.18//NONSGML v1.0//EN
CALSCALE:GREGORIAN
METHOD:PUBLISH
X-ORIGINAL-URL:https://saintmalachychurch.org
X-WR-CALDESC:Events for St. Malachy
REFRESH-INTERVAL;VALUE=DURATION:PT1H
X-Robots-Tag:noindex
X-PUBLISHED-TTL:PT1H
BEGIN:VTIMEZONE
TZID:America/Detroit
BEGIN:DAYLIGHT
TZOFFSETFROM:-0500
TZOFFSETTO:-0400
TZNAME:EDT
DTSTART:20250309T070000
END:DAYLIGHT
BEGIN:STANDARD
TZOFFSETFROM:-0400
TZOFFSETTO:-0500
TZNAME:EST
DTSTART:20251102T060000
END:STANDARD
BEGIN:DAYLIGHT
TZOFFSETFROM:-0500
TZOFFSETTO:-0400
TZNAME:EDT
DTSTART:20260308T070000
END:DAYLIGHT
BEGIN:STANDARD
TZOFFSETFROM:-0400
TZOFFSETTO:-0500
TZNAME:EST
DTSTART:20261101T060000
END:STANDARD
BEGIN:DAYLIGHT
TZOFFSETFROM:-0500
TZOFFSETTO:-0400
TZNAME:EDT
DTSTART:20270314T070000
END:DAYLIGHT
BEGIN:STANDARD
TZOFFSETFROM:-0400
TZOFFSETTO:-0500
TZNAME:EST
DTSTART:20271107T060000
END:STANDARD
END:VTIMEZONE
BEGIN:VEVENT
DTSTART;TZID=America/Detroit:20260306T160000
DTEND;TZID=America/Detroit:20260306T190000
DTSTAMP:20260420T062929
CREATED:20260212T192138Z
LAST-MODIFIED:20260212T192320Z
UID:10016691-1772812800-1772823600@saintmalachychurch.org
SUMMARY:Lenten Fish Fry
DESCRIPTION:Our famous St. Malachy Fish Fries start on Ash Wednesday (4pm-7pm) and continue every Friday during Lent (4pm-7pm.) \n*Please note that on Good Friday ONLY\, the hours will be extended to 3pm-7pm.  \nWe are also in need of baked goods for our dinners! Please drop your donations off in the Currier Center starting the morning of Ash Wednesday and every Friday morning during Lent!
URL:https://saintmalachychurch.org/event/fish-fry-4pm-7pm/2026-03-06/
LOCATION:Currier Center\, 14115 E. 14 Mile Rd.\, Sterling Heights\, MI\, 48312\, United States
CATEGORIES:Event,Featured Event,Fish Fry,Lent,Men's Club,Support,Volunteer,Women's Club
ORGANIZER;CN="St. Malachy Men's Club":MAILTO:mensclub@stmalachychurch.org
END:VEVENT
BEGIN:VEVENT
DTSTART;TZID=America/Detroit:20260306T190000
DTEND;TZID=America/Detroit:20260306T200000
DTSTAMP:20260420T062929
CREATED:20260212T194102Z
LAST-MODIFIED:20260212T194103Z
UID:10016698-1772823600-1772827200@saintmalachychurch.org
SUMMARY:Stations of the Cross
DESCRIPTION:If you are looking for a way to strengthen your faith during Lent\, join us every Friday evening from February 20th – March 27th at 7pm in the church for Stations of the Cross!
URL:https://saintmalachychurch.org/event/stations-of-the-cross-4/2026-03-06/
LOCATION:St. Malachy\, 14115 E 14 Mile Rd\, Sterling Heights\, MI\, 48312\, United States
CATEGORIES:Event,Featured Event,Lent,Stations of the Cross,Volunteer
END:VEVENT
BEGIN:VEVENT
DTSTART;TZID=America/Detroit:20260313T160000
DTEND;TZID=America/Detroit:20260313T190000
DTSTAMP:20260420T062929
CREATED:20260212T192138Z
LAST-MODIFIED:20260212T192320Z
UID:10016692-1773417600-1773428400@saintmalachychurch.org
SUMMARY:Lenten Fish Fry
DESCRIPTION:Our famous St. Malachy Fish Fries start on Ash Wednesday (4pm-7pm) and continue every Friday during Lent (4pm-7pm.) \n*Please note that on Good Friday ONLY\, the hours will be extended to 3pm-7pm.  \nWe are also in need of baked goods for our dinners! Please drop your donations off in the Currier Center starting the morning of Ash Wednesday and every Friday morning during Lent!
URL:https://saintmalachychurch.org/event/fish-fry-4pm-7pm/2026-03-13/
LOCATION:Currier Center\, 14115 E. 14 Mile Rd.\, Sterling Heights\, MI\, 48312\, United States
CATEGORIES:Event,Featured Event,Fish Fry,Lent,Men's Club,Support,Volunteer,Women's Club
ORGANIZER;CN="St. Malachy Men's Club":MAILTO:mensclub@stmalachychurch.org
END:VEVENT
BEGIN:VEVENT
DTSTART;TZID=America/Detroit:20260313T190000
DTEND;TZID=America/Detroit:20260313T200000
DTSTAMP:20260420T062929
CREATED:20260212T194102Z
LAST-MODIFIED:20260212T194103Z
UID:10016699-1773428400-1773432000@saintmalachychurch.org
SUMMARY:Stations of the Cross
DESCRIPTION:If you are looking for a way to strengthen your faith during Lent\, join us every Friday evening from February 20th – March 27th at 7pm in the church for Stations of the Cross!
URL:https://saintmalachychurch.org/event/stations-of-the-cross-4/2026-03-13/
LOCATION:St. Malachy\, 14115 E 14 Mile Rd\, Sterling Heights\, MI\, 48312\, United States
CATEGORIES:Event,Featured Event,Lent,Stations of the Cross,Volunteer
END:VEVENT
BEGIN:VEVENT
DTSTART;TZID=America/Detroit:20260315T160000
DTEND;TZID=America/Detroit:20260315T180000
DTSTAMP:20260420T062929
CREATED:20260213T185302Z
LAST-MODIFIED:20260213T185303Z
UID:10016703-1773590400-1773597600@saintmalachychurch.org
SUMMARY:Surrender - Magic Carpet Theatre Production
DESCRIPTION:This Lenten season\, we welcome back the talented group from Magic Carpet Theatre Drama Ministry! \nIntroducing “Surrender\,” a musical drama produced through captivating theatre\, beautiful music\, and extravagent costumes. This extraordinary production brings to life the stories of Scripture\, giving audiences a chance to see and feel what the characters may have felt as they surrendered to God’s plan. \nThis show will be performed in the church on Sunday\, March 15th at 4pm and is open to all ages!
URL:https://saintmalachychurch.org/event/surrender-magic-carpet-theatre-production/
LOCATION:St. Malachy\, 14115 E 14 Mile Rd\, Sterling Heights\, MI\, 48312\, United States
CATEGORIES:Event,Featured Event,Lent
ORGANIZER;CN="St. Malachy":MAILTO:contact@stmalachychurch.org
END:VEVENT
BEGIN:VEVENT
DTSTART;TZID=America/Detroit:20260320T160000
DTEND;TZID=America/Detroit:20260320T190000
DTSTAMP:20260420T062929
CREATED:20260212T192138Z
LAST-MODIFIED:20260212T192320Z
UID:10016693-1774022400-1774033200@saintmalachychurch.org
SUMMARY:Lenten Fish Fry
DESCRIPTION:Our famous St. Malachy Fish Fries start on Ash Wednesday (4pm-7pm) and continue every Friday during Lent (4pm-7pm.) \n*Please note that on Good Friday ONLY\, the hours will be extended to 3pm-7pm.  \nWe are also in need of baked goods for our dinners! Please drop your donations off in the Currier Center starting the morning of Ash Wednesday and every Friday morning during Lent!
URL:https://saintmalachychurch.org/event/fish-fry-4pm-7pm/2026-03-20/
LOCATION:Currier Center\, 14115 E. 14 Mile Rd.\, Sterling Heights\, MI\, 48312\, United States
CATEGORIES:Event,Featured Event,Fish Fry,Lent,Men's Club,Support,Volunteer,Women's Club
ORGANIZER;CN="St. Malachy Men's Club":MAILTO:mensclub@stmalachychurch.org
END:VEVENT
BEGIN:VEVENT
DTSTART;TZID=America/Detroit:20260320T190000
DTEND;TZID=America/Detroit:20260320T200000
DTSTAMP:20260420T062929
CREATED:20260212T194102Z
LAST-MODIFIED:20260212T194103Z
UID:10016700-1774033200-1774036800@saintmalachychurch.org
SUMMARY:Stations of the Cross
DESCRIPTION:If you are looking for a way to strengthen your faith during Lent\, join us every Friday evening from February 20th – March 27th at 7pm in the church for Stations of the Cross!
URL:https://saintmalachychurch.org/event/stations-of-the-cross-4/2026-03-20/
LOCATION:St. Malachy\, 14115 E 14 Mile Rd\, Sterling Heights\, MI\, 48312\, United States
CATEGORIES:Event,Featured Event,Lent,Stations of the Cross,Volunteer
END:VEVENT
BEGIN:VEVENT
DTSTART;TZID=America/Detroit:20260327T160000
DTEND;TZID=America/Detroit:20260327T190000
DTSTAMP:20260420T062929
CREATED:20260212T192138Z
LAST-MODIFIED:20260212T192320Z
UID:10016694-1774627200-1774638000@saintmalachychurch.org
SUMMARY:Lenten Fish Fry
DESCRIPTION:Our famous St. Malachy Fish Fries start on Ash Wednesday (4pm-7pm) and continue every Friday during Lent (4pm-7pm.) \n*Please note that on Good Friday ONLY\, the hours will be extended to 3pm-7pm.  \nWe are also in need of baked goods for our dinners! Please drop your donations off in the Currier Center starting the morning of Ash Wednesday and every Friday morning during Lent!
URL:https://saintmalachychurch.org/event/fish-fry-4pm-7pm/2026-03-27/
LOCATION:Currier Center\, 14115 E. 14 Mile Rd.\, Sterling Heights\, MI\, 48312\, United States
CATEGORIES:Event,Featured Event,Fish Fry,Lent,Men's Club,Support,Volunteer,Women's Club
ORGANIZER;CN="St. Malachy Men's Club":MAILTO:mensclub@stmalachychurch.org
END:VEVENT
BEGIN:VEVENT
DTSTART;TZID=America/Detroit:20260327T190000
DTEND;TZID=America/Detroit:20260327T200000
DTSTAMP:20260420T062929
CREATED:20260212T194102Z
LAST-MODIFIED:20260212T194103Z
UID:10016701-1774638000-1774641600@saintmalachychurch.org
SUMMARY:Stations of the Cross
DESCRIPTION:If you are looking for a way to strengthen your faith during Lent\, join us every Friday evening from February 20th – March 27th at 7pm in the church for Stations of the Cross!
URL:https://saintmalachychurch.org/event/stations-of-the-cross-4/2026-03-27/
LOCATION:St. Malachy\, 14115 E 14 Mile Rd\, Sterling Heights\, MI\, 48312\, United States
CATEGORIES:Event,Featured Event,Lent,Stations of the Cross,Volunteer
END:VEVENT
BEGIN:VEVENT
DTSTART;TZID=America/Detroit:20260329T160000
DTEND;TZID=America/Detroit:20260329T170000
DTSTAMP:20260420T062929
CREATED:20260213T190843Z
LAST-MODIFIED:20260213T190844Z
UID:10016709-1774800000-1774803600@saintmalachychurch.org
SUMMARY:Lenten Sketches
DESCRIPTION:On Palm Sunday\, we will hold our annual Lenten Sketches. It is a beautiful illustration of Christ’s final days on earth through the gift of music. This program will begin at 4pm on Sunday\, March 29th!
URL:https://saintmalachychurch.org/event/lenten-sketches-3/
LOCATION:St. Malachy\, 14115 E 14 Mile Rd\, Sterling Heights\, MI\, 48312\, United States
CATEGORIES:Event,Featured Event,Holy Week,Lent,Music Ministry
ORGANIZER;CN="Eric Taylor":MAILTO:etaylor@stmalachychurch.org
END:VEVENT
END:VCALENDAR