BEGIN:VCALENDAR
VERSION:2.0
PRODID:-//St. Malachy - ECPv6.15.18//NONSGML v1.0//EN
CALSCALE:GREGORIAN
METHOD:PUBLISH
X-ORIGINAL-URL:https://saintmalachychurch.org
X-WR-CALDESC:Events for St. Malachy
REFRESH-INTERVAL;VALUE=DURATION:PT1H
X-Robots-Tag:noindex
X-PUBLISHED-TTL:PT1H
BEGIN:VTIMEZONE
TZID:America/Detroit
BEGIN:DAYLIGHT
TZOFFSETFROM:-0500
TZOFFSETTO:-0400
TZNAME:EDT
DTSTART:20250309T070000
END:DAYLIGHT
BEGIN:STANDARD
TZOFFSETFROM:-0400
TZOFFSETTO:-0500
TZNAME:EST
DTSTART:20251102T060000
END:STANDARD
BEGIN:DAYLIGHT
TZOFFSETFROM:-0500
TZOFFSETTO:-0400
TZNAME:EDT
DTSTART:20260308T070000
END:DAYLIGHT
BEGIN:STANDARD
TZOFFSETFROM:-0400
TZOFFSETTO:-0500
TZNAME:EST
DTSTART:20261101T060000
END:STANDARD
BEGIN:DAYLIGHT
TZOFFSETFROM:-0500
TZOFFSETTO:-0400
TZNAME:EDT
DTSTART:20270314T070000
END:DAYLIGHT
BEGIN:STANDARD
TZOFFSETFROM:-0400
TZOFFSETTO:-0500
TZNAME:EST
DTSTART:20271107T060000
END:STANDARD
END:VTIMEZONE
BEGIN:VEVENT
DTSTART;TZID=America/Detroit:20260604T180000
DTEND;TZID=America/Detroit:20260604T190000
DTSTAMP:20260422T061629
CREATED:20260108T180216Z
LAST-MODIFIED:20260226T154657Z
UID:10016405-1780596000-1780599600@saintmalachychurch.org
SUMMARY:YAM Bible Study
DESCRIPTION:If you are in your 20’s or 30’s and would like to strengthen your faith\, please join our Young Adult Ministry for a weekly Bible Study every Thursday from 6pm – 7pm in the Youth Center!
URL:https://saintmalachychurch.org/event/yam-bible-study/2026-06-04/
LOCATION:Youth Center\, 14115 E 14 Mile Rd\, Sterling Heights\, MI\, 48312\, United States
CATEGORIES:Event,Featured Event,YAM
ORGANIZER;CN="Kelsey Carden":MAILTO:kcarden@stmalachychurch.org
END:VEVENT
BEGIN:VEVENT
DTSTART;TZID=America/Detroit:20260605T103000
DTEND;TZID=America/Detroit:20260605T113000
DTSTAMP:20260422T061629
CREATED:20250214T151758Z
LAST-MODIFIED:20260126T171346Z
UID:10010431-1780655400-1780659000@saintmalachychurch.org
SUMMARY:First Friday Devotions
DESCRIPTION:First Friday Devotions will be held every first Friday of the month immediately following 9:30am Daily Mass. All are welcome and encouraged to attend these faith-filled spiritual mornings!
URL:https://saintmalachychurch.org/event/first-friday-devotions-3/2026-06-05/
LOCATION:St. Malachy\, 14115 E 14 Mile Rd\, Sterling Heights\, MI\, 48312\, United States
CATEGORIES:Event,Featured Event,First Friday Devotions,Mass
ORGANIZER;CN="St. Malachy":MAILTO:contact@stmalachychurch.org
END:VEVENT
BEGIN:VEVENT
DTSTART;TZID=America/Detroit:20260608T183000
DTEND;TZID=America/Detroit:20260608T200000
DTSTAMP:20260422T061629
CREATED:20250102T171702Z
LAST-MODIFIED:20251204T190241Z
UID:10002518-1780943400-1780948800@saintmalachychurch.org
SUMMARY:Women's Club Meeting
DESCRIPTION:
URL:https://saintmalachychurch.org/event/womens-club-meeting-17/2026-06-08/
LOCATION:Currier Center\, 14115 E. 14 Mile Rd.\, Sterling Heights\, MI\, 48312\, United States
CATEGORIES:Event,Featured Event,Women's Club
END:VEVENT
BEGIN:VEVENT
DTSTART;TZID=America/Detroit:20260611T180000
DTEND;TZID=America/Detroit:20260611T190000
DTSTAMP:20260422T061629
CREATED:20260108T180216Z
LAST-MODIFIED:20260226T154657Z
UID:10016406-1781200800-1781204400@saintmalachychurch.org
SUMMARY:YAM Bible Study
DESCRIPTION:If you are in your 20’s or 30’s and would like to strengthen your faith\, please join our Young Adult Ministry for a weekly Bible Study every Thursday from 6pm – 7pm in the Youth Center!
URL:https://saintmalachychurch.org/event/yam-bible-study/2026-06-11/
LOCATION:Youth Center\, 14115 E 14 Mile Rd\, Sterling Heights\, MI\, 48312\, United States
CATEGORIES:Event,Featured Event,YAM
ORGANIZER;CN="Kelsey Carden":MAILTO:kcarden@stmalachychurch.org
END:VEVENT
BEGIN:VEVENT
DTSTART;TZID=America/Detroit:20260618T180000
DTEND;TZID=America/Detroit:20260618T190000
DTSTAMP:20260422T061629
CREATED:20260108T180216Z
LAST-MODIFIED:20260226T154657Z
UID:10016407-1781805600-1781809200@saintmalachychurch.org
SUMMARY:YAM Bible Study
DESCRIPTION:If you are in your 20’s or 30’s and would like to strengthen your faith\, please join our Young Adult Ministry for a weekly Bible Study every Thursday from 6pm – 7pm in the Youth Center!
URL:https://saintmalachychurch.org/event/yam-bible-study/2026-06-18/
LOCATION:Youth Center\, 14115 E 14 Mile Rd\, Sterling Heights\, MI\, 48312\, United States
CATEGORIES:Event,Featured Event,YAM
ORGANIZER;CN="Kelsey Carden":MAILTO:kcarden@stmalachychurch.org
END:VEVENT
BEGIN:VEVENT
DTSTART;TZID=America/Detroit:20260624T184500
DTEND;TZID=America/Detroit:20260624T200000
DTSTAMP:20260422T061629
CREATED:20250102T172545Z
LAST-MODIFIED:20251113T194624Z
UID:10002578-1782326700-1782331200@saintmalachychurch.org
SUMMARY:Men's Club Meeting
DESCRIPTION:Join the St. Malachy Men’s club for a prayer service beginning at 6:45pm\, followed by its meeting! This group hosts many popular events such as the Fish Fry\, Coney Sales\, Reverse Raffle\, and more! Members of the Men’s Club meet on the last Wednesday of every month in the Currier Center at 6:45pm! Please contact Men’s Club President Joe Schuirmann for any questions!
URL:https://saintmalachychurch.org/event/mens-club-meeting-20/2026-06-24/
LOCATION:Currier Center\, 14115 E. 14 Mile Rd.\, Sterling Heights\, MI\, 48312\, United States
CATEGORIES:Event,Featured Event,Men's Club
ORGANIZER;CN="St. Malachy Men's Club":MAILTO:mensclub@stmalachychurch.org
END:VEVENT
BEGIN:VEVENT
DTSTART;TZID=America/Detroit:20260625T180000
DTEND;TZID=America/Detroit:20260625T190000
DTSTAMP:20260422T061629
CREATED:20260108T180216Z
LAST-MODIFIED:20260226T154657Z
UID:10016408-1782410400-1782414000@saintmalachychurch.org
SUMMARY:YAM Bible Study
DESCRIPTION:If you are in your 20’s or 30’s and would like to strengthen your faith\, please join our Young Adult Ministry for a weekly Bible Study every Thursday from 6pm – 7pm in the Youth Center!
URL:https://saintmalachychurch.org/event/yam-bible-study/2026-06-25/
LOCATION:Youth Center\, 14115 E 14 Mile Rd\, Sterling Heights\, MI\, 48312\, United States
CATEGORIES:Event,Featured Event,YAM
ORGANIZER;CN="Kelsey Carden":MAILTO:kcarden@stmalachychurch.org
END:VEVENT
END:VCALENDAR