BEGIN:VCALENDAR
VERSION:2.0
PRODID:-//St. Malachy - ECPv6.15.18//NONSGML v1.0//EN
CALSCALE:GREGORIAN
METHOD:PUBLISH
X-ORIGINAL-URL:https://saintmalachychurch.org
X-WR-CALDESC:Events for St. Malachy
REFRESH-INTERVAL;VALUE=DURATION:PT1H
X-Robots-Tag:noindex
X-PUBLISHED-TTL:PT1H
BEGIN:VTIMEZONE
TZID:America/Detroit
BEGIN:DAYLIGHT
TZOFFSETFROM:-0500
TZOFFSETTO:-0400
TZNAME:EDT
DTSTART:20250309T070000
END:DAYLIGHT
BEGIN:STANDARD
TZOFFSETFROM:-0400
TZOFFSETTO:-0500
TZNAME:EST
DTSTART:20251102T060000
END:STANDARD
BEGIN:DAYLIGHT
TZOFFSETFROM:-0500
TZOFFSETTO:-0400
TZNAME:EDT
DTSTART:20260308T070000
END:DAYLIGHT
BEGIN:STANDARD
TZOFFSETFROM:-0400
TZOFFSETTO:-0500
TZNAME:EST
DTSTART:20261101T060000
END:STANDARD
BEGIN:DAYLIGHT
TZOFFSETFROM:-0500
TZOFFSETTO:-0400
TZNAME:EDT
DTSTART:20270314T070000
END:DAYLIGHT
BEGIN:STANDARD
TZOFFSETFROM:-0400
TZOFFSETTO:-0500
TZNAME:EST
DTSTART:20271107T060000
END:STANDARD
END:VTIMEZONE
BEGIN:VEVENT
DTSTART;TZID=America/Detroit:20260512T190000
DTEND;TZID=America/Detroit:20260512T210000
DTSTAMP:20260422T050013
CREATED:20260304T192933Z
LAST-MODIFIED:20260304T192934Z
UID:10016719-1778612400-1778619600@saintmalachychurch.org
SUMMARY:Parish-Wide Restructuring Meeting @ 7pm
DESCRIPTION:Each parish in the Archdiocese of Detroit will hold two listening sessions open to the public in the spring of 2026. These listening sessions are intended to gather feedback from parishioners about potential pastorate models—or groupings of parishes led by a pastor – involving their parish. Feedback during these listening sessions will be shared with the Core Planning Team and with Archbishop Weisenburger for his discernment. \nEach parish will be presented with several models. Each model will propose different groupings of parishes that form pastorates within that specified geographic area\, also known as a planning area. After the presentation\, a facilitator will moderate the discussion as members of the community are invited to share their feedback on the models presented. A member of the parish community\, identified by the pastor\, will act as the scribe for the listening session and record the feedback to ensure that it is accurately captured and submitted. \nSt. Malachy will host our parish-wide restructure meetings on Tuesday\, May 12th and Thursday\, May 14th from 7-9pm in the church.
URL:https://saintmalachychurch.org/event/parish-wide-restructuring-meeting-7pm/2026-05-12/
LOCATION:St. Malachy\, 14115 E 14 Mile Rd\, Sterling Heights\, MI\, 48312\, United States
CATEGORIES:Event,Families of Parishes,Featured Event
ORGANIZER;CN="St. Malachy":MAILTO:contact@stmalachychurch.org
END:VEVENT
BEGIN:VEVENT
DTSTART;TZID=America/Detroit:20260514T190000
DTEND;TZID=America/Detroit:20260514T210000
DTSTAMP:20260422T050013
CREATED:20260304T192933Z
LAST-MODIFIED:20260304T192934Z
UID:10016720-1778785200-1778792400@saintmalachychurch.org
SUMMARY:Parish-Wide Restructuring Meeting @ 7pm
DESCRIPTION:Each parish in the Archdiocese of Detroit will hold two listening sessions open to the public in the spring of 2026. These listening sessions are intended to gather feedback from parishioners about potential pastorate models—or groupings of parishes led by a pastor – involving their parish. Feedback during these listening sessions will be shared with the Core Planning Team and with Archbishop Weisenburger for his discernment. \nEach parish will be presented with several models. Each model will propose different groupings of parishes that form pastorates within that specified geographic area\, also known as a planning area. After the presentation\, a facilitator will moderate the discussion as members of the community are invited to share their feedback on the models presented. A member of the parish community\, identified by the pastor\, will act as the scribe for the listening session and record the feedback to ensure that it is accurately captured and submitted. \nSt. Malachy will host our parish-wide restructure meetings on Tuesday\, May 12th and Thursday\, May 14th from 7-9pm in the church.
URL:https://saintmalachychurch.org/event/parish-wide-restructuring-meeting-7pm/2026-05-14/
LOCATION:St. Malachy\, 14115 E 14 Mile Rd\, Sterling Heights\, MI\, 48312\, United States
CATEGORIES:Event,Families of Parishes,Featured Event
ORGANIZER;CN="St. Malachy":MAILTO:contact@stmalachychurch.org
END:VEVENT
END:VCALENDAR