BEGIN:VCALENDAR
VERSION:2.0
PRODID:-//St. Malachy - ECPv6.15.18//NONSGML v1.0//EN
CALSCALE:GREGORIAN
METHOD:PUBLISH
X-WR-CALNAME:St. Malachy
X-ORIGINAL-URL:https://saintmalachychurch.org
X-WR-CALDESC:Events for St. Malachy
REFRESH-INTERVAL;VALUE=DURATION:PT1H
X-Robots-Tag:noindex
X-PUBLISHED-TTL:PT1H
BEGIN:VTIMEZONE
TZID:America/Detroit
BEGIN:DAYLIGHT
TZOFFSETFROM:-0500
TZOFFSETTO:-0400
TZNAME:EDT
DTSTART:20250309T070000
END:DAYLIGHT
BEGIN:STANDARD
TZOFFSETFROM:-0400
TZOFFSETTO:-0500
TZNAME:EST
DTSTART:20251102T060000
END:STANDARD
BEGIN:DAYLIGHT
TZOFFSETFROM:-0500
TZOFFSETTO:-0400
TZNAME:EDT
DTSTART:20260308T070000
END:DAYLIGHT
BEGIN:STANDARD
TZOFFSETFROM:-0400
TZOFFSETTO:-0500
TZNAME:EST
DTSTART:20261101T060000
END:STANDARD
BEGIN:DAYLIGHT
TZOFFSETFROM:-0500
TZOFFSETTO:-0400
TZNAME:EDT
DTSTART:20270314T070000
END:DAYLIGHT
BEGIN:STANDARD
TZOFFSETFROM:-0400
TZOFFSETTO:-0500
TZNAME:EST
DTSTART:20271107T060000
END:STANDARD
BEGIN:DAYLIGHT
TZOFFSETFROM:-0500
TZOFFSETTO:-0400
TZNAME:EDT
DTSTART:20280312T070000
END:DAYLIGHT
BEGIN:STANDARD
TZOFFSETFROM:-0400
TZOFFSETTO:-0500
TZNAME:EST
DTSTART:20281105T060000
END:STANDARD
END:VTIMEZONE
BEGIN:VEVENT
DTSTART;TZID=America/Detroit:20261204T103000
DTEND;TZID=America/Detroit:20261204T113000
DTSTAMP:20260422T190239
CREATED:20250214T151758Z
LAST-MODIFIED:20260126T171346Z
UID:10010437-1796380200-1796383800@saintmalachychurch.org
SUMMARY:First Friday Devotions
DESCRIPTION:First Friday Devotions will be held every first Friday of the month immediately following 9:30am Daily Mass. All are welcome and encouraged to attend these faith-filled spiritual mornings!
URL:https://saintmalachychurch.org/event/first-friday-devotions-3/2026-12-04/
LOCATION:St. Malachy\, 14115 E 14 Mile Rd\, Sterling Heights\, MI\, 48312\, United States
CATEGORIES:Event,Featured Event,First Friday Devotions,Mass
ORGANIZER;CN="St. Malachy":MAILTO:contact@stmalachychurch.org
END:VEVENT
BEGIN:VEVENT
DTSTART;TZID=America/Detroit:20261208T093000
DTEND;TZID=America/Detroit:20261208T103000
DTSTAMP:20260422T190239
CREATED:20260126T182232Z
LAST-MODIFIED:20260126T182232Z
UID:10016668-1796722200-1796725800@saintmalachychurch.org
SUMMARY:Immaculate Conception Mass - 9:30am
DESCRIPTION:Join us for Mass at 9:30am to celebrate the feast of the Immaculate Conception! \n*We will also be holding Mass at 7pm for those unable to make it to the 9:30am Mass.
URL:https://saintmalachychurch.org/event/immaculate-conception-mass-930am-3/
LOCATION:St. Malachy\, 14115 E 14 Mile Rd\, Sterling Heights\, MI\, 48312\, United States
CATEGORIES:Event,Featured Event,Mass
ORGANIZER;CN="St. Malachy":MAILTO:contact@stmalachychurch.org
END:VEVENT
BEGIN:VEVENT
DTSTART;TZID=America/Detroit:20261208T190000
DTEND;TZID=America/Detroit:20261208T200000
DTSTAMP:20260422T190239
CREATED:20260126T182445Z
LAST-MODIFIED:20260126T182445Z
UID:10016669-1796756400-1796760000@saintmalachychurch.org
SUMMARY:Immaculate Conception Mass - 7pm
DESCRIPTION:Weren’t able to attend this morning? Join us for Mass at 7pm to celebrate the feast of the Immaculate Conception!
URL:https://saintmalachychurch.org/event/immaculate-conception-mass-7pm/
LOCATION:St. Malachy\, 14115 E 14 Mile Rd\, Sterling Heights\, MI\, 48312\, United States
CATEGORIES:Event,Featured Event,Mass
ORGANIZER;CN="St. Malachy":MAILTO:contact@stmalachychurch.org
END:VEVENT
BEGIN:VEVENT
DTSTART;TZID=America/Detroit:20261210T180000
DTEND;TZID=America/Detroit:20261210T190000
DTSTAMP:20260422T190239
CREATED:20260108T180216Z
LAST-MODIFIED:20260226T154657Z
UID:10016432-1796925600-1796929200@saintmalachychurch.org
SUMMARY:YAM Bible Study
DESCRIPTION:If you are in your 20’s or 30’s and would like to strengthen your faith\, please join our Young Adult Ministry for a weekly Bible Study every Thursday from 6pm – 7pm in the Youth Center!
URL:https://saintmalachychurch.org/event/yam-bible-study/2026-12-10/
LOCATION:Youth Center\, 14115 E 14 Mile Rd\, Sterling Heights\, MI\, 48312\, United States
CATEGORIES:Event,Featured Event,YAM
ORGANIZER;CN="Kelsey Carden":MAILTO:kcarden@stmalachychurch.org
END:VEVENT
BEGIN:VEVENT
DTSTART;TZID=America/Detroit:20261214T183000
DTEND;TZID=America/Detroit:20261214T200000
DTSTAMP:20260422T190239
CREATED:20250102T171702Z
LAST-MODIFIED:20251204T190241Z
UID:10002524-1797273000-1797278400@saintmalachychurch.org
SUMMARY:Women's Club Meeting
DESCRIPTION:
URL:https://saintmalachychurch.org/event/womens-club-meeting-17/2026-12-14/
LOCATION:Currier Center\, 14115 E. 14 Mile Rd.\, Sterling Heights\, MI\, 48312\, United States
CATEGORIES:Event,Featured Event,Women's Club
END:VEVENT
BEGIN:VEVENT
DTSTART;TZID=America/Detroit:20261217T180000
DTEND;TZID=America/Detroit:20261217T190000
DTSTAMP:20260422T190239
CREATED:20260108T180216Z
LAST-MODIFIED:20260226T154657Z
UID:10016433-1797530400-1797534000@saintmalachychurch.org
SUMMARY:YAM Bible Study
DESCRIPTION:If you are in your 20’s or 30’s and would like to strengthen your faith\, please join our Young Adult Ministry for a weekly Bible Study every Thursday from 6pm – 7pm in the Youth Center!
URL:https://saintmalachychurch.org/event/yam-bible-study/2026-12-17/
LOCATION:Youth Center\, 14115 E 14 Mile Rd\, Sterling Heights\, MI\, 48312\, United States
CATEGORIES:Event,Featured Event,YAM
ORGANIZER;CN="Kelsey Carden":MAILTO:kcarden@stmalachychurch.org
END:VEVENT
BEGIN:VEVENT
DTSTART;TZID=America/Detroit:20261224T160000
DTEND;TZID=America/Detroit:20261224T170000
DTSTAMP:20260422T190239
CREATED:20260126T182738Z
LAST-MODIFIED:20260126T183713Z
UID:10016670-1798128000-1798131600@saintmalachychurch.org
SUMMARY:Christmas Eve Mass - 4pm
DESCRIPTION:It’s Christmas Eve and we can’t WAIT to see you at Mass! \nWe will be holding a 4pm Mass\, a 6pm Mass\, and a Midnight Mass to celebrate the birth of our Savior! \n*Stay tuned for the live-stream schedule.
URL:https://saintmalachychurch.org/event/christmas-eve-mass-4pm/
LOCATION:MI
CATEGORIES:Event,Featured Event,Live Stream,Mass
END:VEVENT
BEGIN:VEVENT
DTSTART;TZID=America/Detroit:20261224T180000
DTEND;TZID=America/Detroit:20261224T190000
DTSTAMP:20260422T190239
CREATED:20260126T182925Z
LAST-MODIFIED:20260126T182925Z
UID:10016671-1798135200-1798138800@saintmalachychurch.org
SUMMARY:Christmas Eve Mass - 6pm
DESCRIPTION:It’s Christmas Eve and we can’t WAIT to see you at Mass! \nWe will be holding a 4pm Mass\, a 6pm Mass\, and a Midnight Mass to celebrate the birth of our Savior! \n*Stay tuned for the live-stream schedule.
URL:https://saintmalachychurch.org/event/christmas-eve-mass-6pm/
LOCATION:St. Malachy\, 14115 E 14 Mile Rd\, Sterling Heights\, MI\, 48312\, United States
CATEGORIES:Event,Featured Event,Live Stream,Mass
ORGANIZER;CN="St. Malachy":MAILTO:contact@stmalachychurch.org
END:VEVENT
BEGIN:VEVENT
DTSTART;TZID=America/Detroit:20261224T233000
DTEND;TZID=America/Detroit:20261225T010000
DTSTAMP:20260422T190239
CREATED:20260126T183121Z
LAST-MODIFIED:20260126T183121Z
UID:10016672-1798155000-1798160400@saintmalachychurch.org
SUMMARY:Midnight Mass
DESCRIPTION:It’s Christmas Eve and we can’t WAIT to see you at Mass! \nWe will be holding a 4pm Mass\, a 6pm Mass\, and a Midnight Mass to celebrate the birth of our Savior! \n*Stay tuned for the live-stream schedule.
URL:https://saintmalachychurch.org/event/midnight-mass-3/
LOCATION:St. Malachy\, 14115 E 14 Mile Rd\, Sterling Heights\, MI\, 48312\, United States
CATEGORIES:Event,Featured Event,Live Stream,Mass
ORGANIZER;CN="St. Malachy":MAILTO:contact@stmalachychurch.org
END:VEVENT
BEGIN:VEVENT
DTSTART;TZID=America/Detroit:20261225T093000
DTEND;TZID=America/Detroit:20261225T103000
DTSTAMP:20260422T190239
CREATED:20260126T183356Z
LAST-MODIFIED:20260126T183357Z
UID:10016673-1798191000-1798194600@saintmalachychurch.org
SUMMARY:Christmas Day Mass - 9:30am
DESCRIPTION:Merry Christmas!!!\nJoin us for our 9:30am Traditional Mass and our 11:30am Contemporary Mass and celebrate the birth of Christ together with your Family of Faith! \n*Stay tuned for the live-stream schedule.
URL:https://saintmalachychurch.org/event/christmas-day-mass-930am-2/
LOCATION:St. Malachy\, 14115 E 14 Mile Rd\, Sterling Heights\, MI\, 48312\, United States
CATEGORIES:Event,Featured Event,Live Stream,Mass
ORGANIZER;CN="St. Malachy":MAILTO:contact@stmalachychurch.org
END:VEVENT
BEGIN:VEVENT
DTSTART;TZID=America/Detroit:20261225T113000
DTEND;TZID=America/Detroit:20261225T123000
DTSTAMP:20260422T190239
CREATED:20260126T183515Z
LAST-MODIFIED:20260126T183515Z
UID:10016674-1798198200-1798201800@saintmalachychurch.org
SUMMARY:Christmas Day Mass - 11:30am
DESCRIPTION:Merry Christmas!!!\nJoin us for our 9:30am Traditional Mass and our 11:30am Contemporary Mass and celebrate the birth of Christ together with your Family of Faith! \n*Stay tuned for the live-stream schedule.
URL:https://saintmalachychurch.org/event/christmas-day-mass-1130am-2/
LOCATION:St. Malachy\, 14115 E 14 Mile Rd\, Sterling Heights\, MI\, 48312\, United States
CATEGORIES:Event,Featured Event,Live Stream,Mass
ORGANIZER;CN="St. Malachy":MAILTO:contact@stmalachychurch.org
END:VEVENT
BEGIN:VEVENT
DTSTART;TZID=America/Detroit:20261230T184500
DTEND;TZID=America/Detroit:20261230T200000
DTSTAMP:20260422T190239
CREATED:20250102T172545Z
LAST-MODIFIED:20251113T194624Z
UID:10002584-1798656300-1798660800@saintmalachychurch.org
SUMMARY:Men's Club Meeting
DESCRIPTION:Join the St. Malachy Men’s club for a prayer service beginning at 6:45pm\, followed by its meeting! This group hosts many popular events such as the Fish Fry\, Coney Sales\, Reverse Raffle\, and more! Members of the Men’s Club meet on the last Wednesday of every month in the Currier Center at 6:45pm! Please contact Men’s Club President Joe Schuirmann for any questions!
URL:https://saintmalachychurch.org/event/mens-club-meeting-20/2026-12-30/
LOCATION:Currier Center\, 14115 E. 14 Mile Rd.\, Sterling Heights\, MI\, 48312\, United States
CATEGORIES:Event,Featured Event,Men's Club
ORGANIZER;CN="St. Malachy Men's Club":MAILTO:mensclub@stmalachychurch.org
END:VEVENT
BEGIN:VEVENT
DTSTART;TZID=America/Detroit:20261231T180000
DTEND;TZID=America/Detroit:20261231T190000
DTSTAMP:20260422T190239
CREATED:20260108T180216Z
LAST-MODIFIED:20260226T154657Z
UID:10016435-1798740000-1798743600@saintmalachychurch.org
SUMMARY:YAM Bible Study
DESCRIPTION:If you are in your 20’s or 30’s and would like to strengthen your faith\, please join our Young Adult Ministry for a weekly Bible Study every Thursday from 6pm – 7pm in the Youth Center!
URL:https://saintmalachychurch.org/event/yam-bible-study/2026-12-31/
LOCATION:Youth Center\, 14115 E 14 Mile Rd\, Sterling Heights\, MI\, 48312\, United States
CATEGORIES:Event,Featured Event,YAM
ORGANIZER;CN="Kelsey Carden":MAILTO:kcarden@stmalachychurch.org
END:VEVENT
BEGIN:VEVENT
DTSTART;TZID=America/Detroit:20270101T103000
DTEND;TZID=America/Detroit:20270101T113000
DTSTAMP:20260422T190239
CREATED:20250214T151758Z
LAST-MODIFIED:20260126T171346Z
UID:10010438-1798799400-1798803000@saintmalachychurch.org
SUMMARY:First Friday Devotions
DESCRIPTION:First Friday Devotions will be held every first Friday of the month immediately following 9:30am Daily Mass. All are welcome and encouraged to attend these faith-filled spiritual mornings!
URL:https://saintmalachychurch.org/event/first-friday-devotions-3/2027-01-01/
LOCATION:St. Malachy\, 14115 E 14 Mile Rd\, Sterling Heights\, MI\, 48312\, United States
CATEGORIES:Event,Featured Event,First Friday Devotions,Mass
ORGANIZER;CN="St. Malachy":MAILTO:contact@stmalachychurch.org
END:VEVENT
BEGIN:VEVENT
DTSTART;TZID=America/Detroit:20270107T180000
DTEND;TZID=America/Detroit:20270107T190000
DTSTAMP:20260422T190239
CREATED:20260108T180216Z
LAST-MODIFIED:20260226T154657Z
UID:10016436-1799344800-1799348400@saintmalachychurch.org
SUMMARY:YAM Bible Study
DESCRIPTION:If you are in your 20’s or 30’s and would like to strengthen your faith\, please join our Young Adult Ministry for a weekly Bible Study every Thursday from 6pm – 7pm in the Youth Center!
URL:https://saintmalachychurch.org/event/yam-bible-study/2027-01-07/
LOCATION:Youth Center\, 14115 E 14 Mile Rd\, Sterling Heights\, MI\, 48312\, United States
CATEGORIES:Event,Featured Event,YAM
ORGANIZER;CN="Kelsey Carden":MAILTO:kcarden@stmalachychurch.org
END:VEVENT
BEGIN:VEVENT
DTSTART;TZID=America/Detroit:20270111T183000
DTEND;TZID=America/Detroit:20270111T200000
DTSTAMP:20260422T190239
CREATED:20250102T171702Z
LAST-MODIFIED:20251204T190241Z
UID:10002525-1799692200-1799697600@saintmalachychurch.org
SUMMARY:Women's Club Meeting
DESCRIPTION:
URL:https://saintmalachychurch.org/event/womens-club-meeting-17/2027-01-11/
LOCATION:Currier Center\, 14115 E. 14 Mile Rd.\, Sterling Heights\, MI\, 48312\, United States
CATEGORIES:Event,Featured Event,Women's Club
END:VEVENT
BEGIN:VEVENT
DTSTART;TZID=America/Detroit:20270114T180000
DTEND;TZID=America/Detroit:20270114T190000
DTSTAMP:20260422T190239
CREATED:20260108T180216Z
LAST-MODIFIED:20260226T154657Z
UID:10016437-1799949600-1799953200@saintmalachychurch.org
SUMMARY:YAM Bible Study
DESCRIPTION:If you are in your 20’s or 30’s and would like to strengthen your faith\, please join our Young Adult Ministry for a weekly Bible Study every Thursday from 6pm – 7pm in the Youth Center!
URL:https://saintmalachychurch.org/event/yam-bible-study/2027-01-14/
LOCATION:Youth Center\, 14115 E 14 Mile Rd\, Sterling Heights\, MI\, 48312\, United States
CATEGORIES:Event,Featured Event,YAM
ORGANIZER;CN="Kelsey Carden":MAILTO:kcarden@stmalachychurch.org
END:VEVENT
BEGIN:VEVENT
DTSTART;TZID=America/Detroit:20270121T180000
DTEND;TZID=America/Detroit:20270121T190000
DTSTAMP:20260422T190239
CREATED:20260108T180216Z
LAST-MODIFIED:20260226T154657Z
UID:10016438-1800554400-1800558000@saintmalachychurch.org
SUMMARY:YAM Bible Study
DESCRIPTION:If you are in your 20’s or 30’s and would like to strengthen your faith\, please join our Young Adult Ministry for a weekly Bible Study every Thursday from 6pm – 7pm in the Youth Center!
URL:https://saintmalachychurch.org/event/yam-bible-study/2027-01-21/
LOCATION:Youth Center\, 14115 E 14 Mile Rd\, Sterling Heights\, MI\, 48312\, United States
CATEGORIES:Event,Featured Event,YAM
ORGANIZER;CN="Kelsey Carden":MAILTO:kcarden@stmalachychurch.org
END:VEVENT
BEGIN:VEVENT
DTSTART;TZID=America/Detroit:20270127T184500
DTEND;TZID=America/Detroit:20270127T200000
DTSTAMP:20260422T190239
CREATED:20250102T172545Z
LAST-MODIFIED:20251113T194624Z
UID:10002585-1801075500-1801080000@saintmalachychurch.org
SUMMARY:Men's Club Meeting
DESCRIPTION:Join the St. Malachy Men’s club for a prayer service beginning at 6:45pm\, followed by its meeting! This group hosts many popular events such as the Fish Fry\, Coney Sales\, Reverse Raffle\, and more! Members of the Men’s Club meet on the last Wednesday of every month in the Currier Center at 6:45pm! Please contact Men’s Club President Joe Schuirmann for any questions!
URL:https://saintmalachychurch.org/event/mens-club-meeting-20/2027-01-27/
LOCATION:Currier Center\, 14115 E. 14 Mile Rd.\, Sterling Heights\, MI\, 48312\, United States
CATEGORIES:Event,Featured Event,Men's Club
ORGANIZER;CN="St. Malachy Men's Club":MAILTO:mensclub@stmalachychurch.org
END:VEVENT
BEGIN:VEVENT
DTSTART;TZID=America/Detroit:20270128T180000
DTEND;TZID=America/Detroit:20270128T190000
DTSTAMP:20260422T190239
CREATED:20260108T180216Z
LAST-MODIFIED:20260226T154657Z
UID:10016439-1801159200-1801162800@saintmalachychurch.org
SUMMARY:YAM Bible Study
DESCRIPTION:If you are in your 20’s or 30’s and would like to strengthen your faith\, please join our Young Adult Ministry for a weekly Bible Study every Thursday from 6pm – 7pm in the Youth Center!
URL:https://saintmalachychurch.org/event/yam-bible-study/2027-01-28/
LOCATION:Youth Center\, 14115 E 14 Mile Rd\, Sterling Heights\, MI\, 48312\, United States
CATEGORIES:Event,Featured Event,YAM
ORGANIZER;CN="Kelsey Carden":MAILTO:kcarden@stmalachychurch.org
END:VEVENT
BEGIN:VEVENT
DTSTART;TZID=America/Detroit:20270204T180000
DTEND;TZID=America/Detroit:20270204T190000
DTSTAMP:20260422T190239
CREATED:20260108T180216Z
LAST-MODIFIED:20260226T154657Z
UID:10016440-1801764000-1801767600@saintmalachychurch.org
SUMMARY:YAM Bible Study
DESCRIPTION:If you are in your 20’s or 30’s and would like to strengthen your faith\, please join our Young Adult Ministry for a weekly Bible Study every Thursday from 6pm – 7pm in the Youth Center!
URL:https://saintmalachychurch.org/event/yam-bible-study/2027-02-04/
LOCATION:Youth Center\, 14115 E 14 Mile Rd\, Sterling Heights\, MI\, 48312\, United States
CATEGORIES:Event,Featured Event,YAM
ORGANIZER;CN="Kelsey Carden":MAILTO:kcarden@stmalachychurch.org
END:VEVENT
BEGIN:VEVENT
DTSTART;TZID=America/Detroit:20270205T103000
DTEND;TZID=America/Detroit:20270205T113000
DTSTAMP:20260422T190239
CREATED:20250214T151758Z
LAST-MODIFIED:20260126T171346Z
UID:10010439-1801823400-1801827000@saintmalachychurch.org
SUMMARY:First Friday Devotions
DESCRIPTION:First Friday Devotions will be held every first Friday of the month immediately following 9:30am Daily Mass. All are welcome and encouraged to attend these faith-filled spiritual mornings!
URL:https://saintmalachychurch.org/event/first-friday-devotions-3/2027-02-05/
LOCATION:St. Malachy\, 14115 E 14 Mile Rd\, Sterling Heights\, MI\, 48312\, United States
CATEGORIES:Event,Featured Event,First Friday Devotions,Mass
ORGANIZER;CN="St. Malachy":MAILTO:contact@stmalachychurch.org
END:VEVENT
BEGIN:VEVENT
DTSTART;TZID=America/Detroit:20270208T183000
DTEND;TZID=America/Detroit:20270208T200000
DTSTAMP:20260422T190239
CREATED:20250102T171702Z
LAST-MODIFIED:20251204T190241Z
UID:10002526-1802111400-1802116800@saintmalachychurch.org
SUMMARY:Women's Club Meeting
DESCRIPTION:
URL:https://saintmalachychurch.org/event/womens-club-meeting-17/2027-02-08/
LOCATION:Currier Center\, 14115 E. 14 Mile Rd.\, Sterling Heights\, MI\, 48312\, United States
CATEGORIES:Event,Featured Event,Women's Club
END:VEVENT
BEGIN:VEVENT
DTSTART;TZID=America/Detroit:20270211T180000
DTEND;TZID=America/Detroit:20270211T190000
DTSTAMP:20260422T190239
CREATED:20260108T180216Z
LAST-MODIFIED:20260226T154657Z
UID:10016441-1802368800-1802372400@saintmalachychurch.org
SUMMARY:YAM Bible Study
DESCRIPTION:If you are in your 20’s or 30’s and would like to strengthen your faith\, please join our Young Adult Ministry for a weekly Bible Study every Thursday from 6pm – 7pm in the Youth Center!
URL:https://saintmalachychurch.org/event/yam-bible-study/2027-02-11/
LOCATION:Youth Center\, 14115 E 14 Mile Rd\, Sterling Heights\, MI\, 48312\, United States
CATEGORIES:Event,Featured Event,YAM
ORGANIZER;CN="Kelsey Carden":MAILTO:kcarden@stmalachychurch.org
END:VEVENT
BEGIN:VEVENT
DTSTART;TZID=America/Detroit:20270218T180000
DTEND;TZID=America/Detroit:20270218T190000
DTSTAMP:20260422T190239
CREATED:20260108T180216Z
LAST-MODIFIED:20260226T154657Z
UID:10016442-1802973600-1802977200@saintmalachychurch.org
SUMMARY:YAM Bible Study
DESCRIPTION:If you are in your 20’s or 30’s and would like to strengthen your faith\, please join our Young Adult Ministry for a weekly Bible Study every Thursday from 6pm – 7pm in the Youth Center!
URL:https://saintmalachychurch.org/event/yam-bible-study/2027-02-18/
LOCATION:Youth Center\, 14115 E 14 Mile Rd\, Sterling Heights\, MI\, 48312\, United States
CATEGORIES:Event,Featured Event,YAM
ORGANIZER;CN="Kelsey Carden":MAILTO:kcarden@stmalachychurch.org
END:VEVENT
BEGIN:VEVENT
DTSTART;TZID=America/Detroit:20270224T184500
DTEND;TZID=America/Detroit:20270224T200000
DTSTAMP:20260422T190239
CREATED:20250102T172545Z
LAST-MODIFIED:20251113T194624Z
UID:10002586-1803494700-1803499200@saintmalachychurch.org
SUMMARY:Men's Club Meeting
DESCRIPTION:Join the St. Malachy Men’s club for a prayer service beginning at 6:45pm\, followed by its meeting! This group hosts many popular events such as the Fish Fry\, Coney Sales\, Reverse Raffle\, and more! Members of the Men’s Club meet on the last Wednesday of every month in the Currier Center at 6:45pm! Please contact Men’s Club President Joe Schuirmann for any questions!
URL:https://saintmalachychurch.org/event/mens-club-meeting-20/2027-02-24/
LOCATION:Currier Center\, 14115 E. 14 Mile Rd.\, Sterling Heights\, MI\, 48312\, United States
CATEGORIES:Event,Featured Event,Men's Club
ORGANIZER;CN="St. Malachy Men's Club":MAILTO:mensclub@stmalachychurch.org
END:VEVENT
BEGIN:VEVENT
DTSTART;TZID=America/Detroit:20270225T180000
DTEND;TZID=America/Detroit:20270225T190000
DTSTAMP:20260422T190239
CREATED:20260108T180216Z
LAST-MODIFIED:20260226T154657Z
UID:10016443-1803578400-1803582000@saintmalachychurch.org
SUMMARY:YAM Bible Study
DESCRIPTION:If you are in your 20’s or 30’s and would like to strengthen your faith\, please join our Young Adult Ministry for a weekly Bible Study every Thursday from 6pm – 7pm in the Youth Center!
URL:https://saintmalachychurch.org/event/yam-bible-study/2027-02-25/
LOCATION:Youth Center\, 14115 E 14 Mile Rd\, Sterling Heights\, MI\, 48312\, United States
CATEGORIES:Event,Featured Event,YAM
ORGANIZER;CN="Kelsey Carden":MAILTO:kcarden@stmalachychurch.org
END:VEVENT
BEGIN:VEVENT
DTSTART;TZID=America/Detroit:20270304T180000
DTEND;TZID=America/Detroit:20270304T190000
DTSTAMP:20260422T190239
CREATED:20260108T180216Z
LAST-MODIFIED:20260226T154657Z
UID:10016444-1804183200-1804186800@saintmalachychurch.org
SUMMARY:YAM Bible Study
DESCRIPTION:If you are in your 20’s or 30’s and would like to strengthen your faith\, please join our Young Adult Ministry for a weekly Bible Study every Thursday from 6pm – 7pm in the Youth Center!
URL:https://saintmalachychurch.org/event/yam-bible-study/2027-03-04/
LOCATION:Youth Center\, 14115 E 14 Mile Rd\, Sterling Heights\, MI\, 48312\, United States
CATEGORIES:Event,Featured Event,YAM
ORGANIZER;CN="Kelsey Carden":MAILTO:kcarden@stmalachychurch.org
END:VEVENT
BEGIN:VEVENT
DTSTART;TZID=America/Detroit:20270305T103000
DTEND;TZID=America/Detroit:20270305T113000
DTSTAMP:20260422T190239
CREATED:20250214T151758Z
LAST-MODIFIED:20260126T171346Z
UID:10010440-1804242600-1804246200@saintmalachychurch.org
SUMMARY:First Friday Devotions
DESCRIPTION:First Friday Devotions will be held every first Friday of the month immediately following 9:30am Daily Mass. All are welcome and encouraged to attend these faith-filled spiritual mornings!
URL:https://saintmalachychurch.org/event/first-friday-devotions-3/2027-03-05/
LOCATION:St. Malachy\, 14115 E 14 Mile Rd\, Sterling Heights\, MI\, 48312\, United States
CATEGORIES:Event,Featured Event,First Friday Devotions,Mass
ORGANIZER;CN="St. Malachy":MAILTO:contact@stmalachychurch.org
END:VEVENT
BEGIN:VEVENT
DTSTART;TZID=America/Detroit:20270308T183000
DTEND;TZID=America/Detroit:20270308T200000
DTSTAMP:20260422T190239
CREATED:20250102T171702Z
LAST-MODIFIED:20251204T190241Z
UID:10002527-1804530600-1804536000@saintmalachychurch.org
SUMMARY:Women's Club Meeting
DESCRIPTION:
URL:https://saintmalachychurch.org/event/womens-club-meeting-17/2027-03-08/
LOCATION:Currier Center\, 14115 E. 14 Mile Rd.\, Sterling Heights\, MI\, 48312\, United States
CATEGORIES:Event,Featured Event,Women's Club
END:VEVENT
END:VCALENDAR