BEGIN:VCALENDAR
VERSION:2.0
PRODID:-//St. Malachy - ECPv6.15.18//NONSGML v1.0//EN
CALSCALE:GREGORIAN
METHOD:PUBLISH
X-ORIGINAL-URL:https://saintmalachychurch.org
X-WR-CALDESC:Events for St. Malachy
REFRESH-INTERVAL;VALUE=DURATION:PT1H
X-Robots-Tag:noindex
X-PUBLISHED-TTL:PT1H
BEGIN:VTIMEZONE
TZID:America/Detroit
BEGIN:DAYLIGHT
TZOFFSETFROM:-0500
TZOFFSETTO:-0400
TZNAME:EDT
DTSTART:20240310T070000
END:DAYLIGHT
BEGIN:STANDARD
TZOFFSETFROM:-0400
TZOFFSETTO:-0500
TZNAME:EST
DTSTART:20241103T060000
END:STANDARD
BEGIN:DAYLIGHT
TZOFFSETFROM:-0500
TZOFFSETTO:-0400
TZNAME:EDT
DTSTART:20250309T070000
END:DAYLIGHT
BEGIN:STANDARD
TZOFFSETFROM:-0400
TZOFFSETTO:-0500
TZNAME:EST
DTSTART:20251102T060000
END:STANDARD
BEGIN:DAYLIGHT
TZOFFSETFROM:-0500
TZOFFSETTO:-0400
TZNAME:EDT
DTSTART:20260308T070000
END:DAYLIGHT
BEGIN:STANDARD
TZOFFSETFROM:-0400
TZOFFSETTO:-0500
TZNAME:EST
DTSTART:20261101T060000
END:STANDARD
END:VTIMEZONE
BEGIN:VEVENT
DTSTART;TZID=America/Detroit:20250310T183000
DTEND;TZID=America/Detroit:20250310T200000
DTSTAMP:20260422T143226
CREATED:20250102T171702Z
LAST-MODIFIED:20251204T190241Z
UID:10002503-1741631400-1741636800@saintmalachychurch.org
SUMMARY:Women's Club Meeting
DESCRIPTION:
URL:https://saintmalachychurch.org/event/womens-club-meeting-17/2025-03-10/
LOCATION:Currier Center\, 14115 E. 14 Mile Rd.\, Sterling Heights\, MI\, 48312\, United States
CATEGORIES:Event,Featured Event,Women's Club
END:VEVENT
BEGIN:VEVENT
DTSTART;TZID=America/Detroit:20250314T160000
DTEND;TZID=America/Detroit:20250314T190000
DTSTAMP:20260422T143226
CREATED:20250213T160037Z
LAST-MODIFIED:20250220T124730Z
UID:10010367-1741968000-1741978800@saintmalachychurch.org
SUMMARY:Fish Fry
DESCRIPTION:
URL:https://saintmalachychurch.org/event/fish-fry-6/2025-03-14/
LOCATION:Currier Center\, 14115 E. 14 Mile Rd.\, Sterling Heights\, MI\, 48312\, United States
CATEGORIES:Ash Wednesday,Event,Featured Event,Fish Fry,Lent,Men's Club,Women's Club
ORGANIZER;CN="St. Malachy Men's Club":MAILTO:mensclub@stmalachychurch.org
END:VEVENT
BEGIN:VEVENT
DTSTART;VALUE=DATE:20250315
DTEND;VALUE=DATE:20250317
DTSTAMP:20260422T143226
CREATED:20250306T184757Z
LAST-MODIFIED:20250306T184808Z
UID:10013270-1741996800-1742169599@saintmalachychurch.org
SUMMARY:St. Veronica Food Pantry Collection
DESCRIPTION:Our Christian Service Ministry is helping the St. Veronica Food Pantry. They are requesting nonperishable food items that can be brought to the church or Parish Office the weekend of March 15th and 16th. \nSt. Veronica also puts together Easter baskets for children of the families they assist monthly. Donations of Easter candy would be greatly appreciated!!!!
URL:https://saintmalachychurch.org/event/st-veronica-food-pantry-collection/
LOCATION:St. Malachy\, 14115 E 14 Mile Rd\, Sterling Heights\, MI\, 48312\, United States
CATEGORIES:Christian Service Ministry,Donation,Event,Featured Event,Volunteer
END:VEVENT
BEGIN:VEVENT
DTSTART;TZID=America/Detroit:20250315T140000
DTEND;TZID=America/Detroit:20250315T150000
DTSTAMP:20260422T143226
CREATED:20240904T125115Z
LAST-MODIFIED:20250214T160718Z
UID:10001126-1742047200-1742050800@saintmalachychurch.org
SUMMARY:First Reconciliation
DESCRIPTION:First Reconciliation – 2pm-3pm
URL:https://saintmalachychurch.org/event/first-reconciliation/
LOCATION:St. Malachy\, 14115 E 14 Mile Rd\, Sterling Heights\, MI\, 48312\, United States
CATEGORIES:Event,Faith Formation,Faith Formation Service,Featured Event
ORGANIZER;CN="Julie Doral":MAILTO:ffs@stmalachychurch.org
END:VEVENT
BEGIN:VEVENT
DTSTART;TZID=America/Detroit:20250317T183000
DTEND;TZID=America/Detroit:20250317T203000
DTSTAMP:20260422T143226
CREATED:20250128T201125Z
LAST-MODIFIED:20250128T201125Z
UID:10007949-1742236200-1742243400@saintmalachychurch.org
SUMMARY:Youth Ministry - Living Stations Practice
DESCRIPTION:Both the middle- and high-school youth groups\, FROG and ROCK\, are combining to FROCK for the Living Stations of the Cross! Meetings until the performances will consist of practice in the church. If you have a part in this special performance\, join the groups in the church on the following dates:\n \nPerformances will take place on Tuesday\, April 8th at 6pm for the Faith Formation Program\, and on Good Friday at 11:30am for the congregation of St. Malachy! We are honored to have talented and committed youth to bring these emotional moments to life.
URL:https://saintmalachychurch.org/event/youth-ministry-living-stations-practice/2025-03-17/
LOCATION:St. Malachy\, 14115 E 14 Mile Rd\, Sterling Heights\, MI\, 48312\, United States
CATEGORIES:Event,FROG,ROCK,Youth Ministry
ORGANIZER;CN="Rachel Nicholson":MAILTO:frog@stmalachychurch.org
END:VEVENT
BEGIN:VEVENT
DTSTART;TZID=America/Detroit:20250319T183000
DTEND;TZID=America/Detroit:20250319T193000
DTSTAMP:20260422T143226
CREATED:20250102T170526Z
LAST-MODIFIED:20250214T121226Z
UID:10002499-1742409000-1742412600@saintmalachychurch.org
SUMMARY:Family Faith Sharing Program
DESCRIPTION:
URL:https://saintmalachychurch.org/event/family-faith-sharing-program-2/2025-03-19/
LOCATION:Currier Center\, 14115 E. 14 Mile Rd.\, Sterling Heights\, MI\, 48312\, United States
CATEGORIES:Event,Faith Formation,Faith Formation Service
ORGANIZER;CN="Julie Doral":MAILTO:ffs@stmalachychurch.org
END:VEVENT
BEGIN:VEVENT
DTSTART;TZID=America/Detroit:20250320T183000
DTEND;TZID=America/Detroit:20250320T193000
DTSTAMP:20260422T143226
CREATED:20250102T170526Z
LAST-MODIFIED:20250214T121226Z
UID:10002500-1742495400-1742499000@saintmalachychurch.org
SUMMARY:Family Faith Sharing Program
DESCRIPTION:
URL:https://saintmalachychurch.org/event/family-faith-sharing-program-2/2025-03-20/
LOCATION:Currier Center\, 14115 E. 14 Mile Rd.\, Sterling Heights\, MI\, 48312\, United States
CATEGORIES:Event,Faith Formation,Faith Formation Service
ORGANIZER;CN="Julie Doral":MAILTO:ffs@stmalachychurch.org
END:VEVENT
BEGIN:VEVENT
DTSTART;TZID=America/Detroit:20250321T160000
DTEND;TZID=America/Detroit:20250321T190000
DTSTAMP:20260422T143226
CREATED:20250213T160037Z
LAST-MODIFIED:20250220T124730Z
UID:10010368-1742572800-1742583600@saintmalachychurch.org
SUMMARY:Fish Fry
DESCRIPTION:
URL:https://saintmalachychurch.org/event/fish-fry-6/2025-03-21/
LOCATION:Currier Center\, 14115 E. 14 Mile Rd.\, Sterling Heights\, MI\, 48312\, United States
CATEGORIES:Ash Wednesday,Event,Featured Event,Fish Fry,Lent,Men's Club,Women's Club
ORGANIZER;CN="St. Malachy Men's Club":MAILTO:mensclub@stmalachychurch.org
END:VEVENT
BEGIN:VEVENT
DTSTART;TZID=America/Detroit:20250323T130000
DTEND;TZID=America/Detroit:20250323T150000
DTSTAMP:20260422T143226
CREATED:20250128T201125Z
LAST-MODIFIED:20250128T201125Z
UID:10007950-1742734800-1742742000@saintmalachychurch.org
SUMMARY:Youth Ministry - Living Stations Practice
DESCRIPTION:Both the middle- and high-school youth groups\, FROG and ROCK\, are combining to FROCK for the Living Stations of the Cross! Meetings until the performances will consist of practice in the church. If you have a part in this special performance\, join the groups in the church on the following dates:\n \nPerformances will take place on Tuesday\, April 8th at 6pm for the Faith Formation Program\, and on Good Friday at 11:30am for the congregation of St. Malachy! We are honored to have talented and committed youth to bring these emotional moments to life.
URL:https://saintmalachychurch.org/event/youth-ministry-living-stations-practice/2025-03-23/
LOCATION:St. Malachy\, 14115 E 14 Mile Rd\, Sterling Heights\, MI\, 48312\, United States
CATEGORIES:Event,FROG,ROCK,Youth Ministry
ORGANIZER;CN="Rachel Nicholson":MAILTO:frog@stmalachychurch.org
END:VEVENT
BEGIN:VEVENT
DTSTART;TZID=America/Detroit:20250324T190000
DTEND;TZID=America/Detroit:20250324T210000
DTSTAMP:20260422T143226
CREATED:20250310T151909Z
LAST-MODIFIED:20250310T151910Z
UID:10013716-1742842800-1742850000@saintmalachychurch.org
SUMMARY:Lenten Penance Service
DESCRIPTION:Join us for a Lenten Penance Service on March 24th at 7pm located at Paul of Tarsus Parish! There will be many priests available to hear confessions. This is a wonderful opportunity to exercise forgiveness into your Lenten Season!
URL:https://saintmalachychurch.org/event/lenten-penance-service/
LOCATION:St. Paul of Tarsus\, 41300 Romeo Plank Road\, Clinton Township\, MI\, 48038\, United States
CATEGORIES:Event,Families of Parishes,Featured Event,Lent
END:VEVENT
BEGIN:VEVENT
DTSTART;TZID=America/Detroit:20250326T184500
DTEND;TZID=America/Detroit:20250326T200000
DTSTAMP:20260422T143226
CREATED:20250102T172545Z
LAST-MODIFIED:20251113T194624Z
UID:10002563-1743014700-1743019200@saintmalachychurch.org
SUMMARY:Men's Club Meeting
DESCRIPTION:Join the St. Malachy Men’s club for a prayer service beginning at 6:45pm\, followed by its meeting! This group hosts many popular events such as the Fish Fry\, Coney Sales\, Reverse Raffle\, and more! Members of the Men’s Club meet on the last Wednesday of every month in the Currier Center at 6:45pm! Please contact Men’s Club President Joe Schuirmann for any questions!
URL:https://saintmalachychurch.org/event/mens-club-meeting-20/2025-03-26/
LOCATION:Currier Center\, 14115 E. 14 Mile Rd.\, Sterling Heights\, MI\, 48312\, United States
CATEGORIES:Event,Featured Event,Men's Club
ORGANIZER;CN="St. Malachy Men's Club":MAILTO:mensclub@stmalachychurch.org
END:VEVENT
BEGIN:VEVENT
DTSTART;TZID=America/Detroit:20250328T160000
DTEND;TZID=America/Detroit:20250328T190000
DTSTAMP:20260422T143226
CREATED:20250213T160037Z
LAST-MODIFIED:20250220T124730Z
UID:10010369-1743177600-1743188400@saintmalachychurch.org
SUMMARY:Fish Fry
DESCRIPTION:
URL:https://saintmalachychurch.org/event/fish-fry-6/2025-03-28/
LOCATION:Currier Center\, 14115 E. 14 Mile Rd.\, Sterling Heights\, MI\, 48312\, United States
CATEGORIES:Ash Wednesday,Event,Featured Event,Fish Fry,Lent,Men's Club,Women's Club
ORGANIZER;CN="St. Malachy Men's Club":MAILTO:mensclub@stmalachychurch.org
END:VEVENT
BEGIN:VEVENT
DTSTART;TZID=America/Detroit:20250331T183000
DTEND;TZID=America/Detroit:20250331T203000
DTSTAMP:20260422T143226
CREATED:20250128T201125Z
LAST-MODIFIED:20250128T201125Z
UID:10007951-1743445800-1743453000@saintmalachychurch.org
SUMMARY:Youth Ministry - Living Stations Practice
DESCRIPTION:Both the middle- and high-school youth groups\, FROG and ROCK\, are combining to FROCK for the Living Stations of the Cross! Meetings until the performances will consist of practice in the church. If you have a part in this special performance\, join the groups in the church on the following dates:\n \nPerformances will take place on Tuesday\, April 8th at 6pm for the Faith Formation Program\, and on Good Friday at 11:30am for the congregation of St. Malachy! We are honored to have talented and committed youth to bring these emotional moments to life.
URL:https://saintmalachychurch.org/event/youth-ministry-living-stations-practice/2025-03-31/
LOCATION:St. Malachy\, 14115 E 14 Mile Rd\, Sterling Heights\, MI\, 48312\, United States
CATEGORIES:Event,FROG,ROCK,Youth Ministry
ORGANIZER;CN="Rachel Nicholson":MAILTO:frog@stmalachychurch.org
END:VEVENT
BEGIN:VEVENT
DTSTART;TZID=America/Detroit:20250401T100000
DTEND;TZID=America/Detroit:20250401T100000
DTSTAMP:20260422T143226
CREATED:20250320T180135Z
LAST-MODIFIED:20250320T180150Z
UID:10014166-1743501600-1743501600@saintmalachychurch.org
SUMMARY:Bulletin Submission for April 13th DUE
DESCRIPTION:Please take note\, there will be early bulletin submissions for the Easter Season. The dates for these submissions are as followed: \nApril 13th Bulletin: Due by April 1st no later than 10am \nApril 20th Bulletin: Due by April 7th no later than 10am \nPlease note these dates includes articles AND Mass intentions. Once the date has passed\, no exceptions can be made. Thank you!
URL:https://saintmalachychurch.org/event/bulletin-submission-for-april-13th-due/
LOCATION:St. Malachy\, 14115 E 14 Mile Rd\, Sterling Heights\, MI\, 48312\, United States
CATEGORIES:Event,Featured Event
ORGANIZER;CN="St. Malachy":MAILTO:contact@stmalachychurch.org
END:VEVENT
BEGIN:VEVENT
DTSTART;TZID=America/Detroit:20250404T103000
DTEND;TZID=America/Detroit:20250404T113000
DTSTAMP:20260422T143226
CREATED:20250214T151758Z
LAST-MODIFIED:20260126T171346Z
UID:10010417-1743762600-1743766200@saintmalachychurch.org
SUMMARY:First Friday Devotions
DESCRIPTION:First Friday Devotions will be held every first Friday of the month immediately following 9:30am Daily Mass. All are welcome and encouraged to attend these faith-filled spiritual mornings!
URL:https://saintmalachychurch.org/event/first-friday-devotions-3/2025-04-04/
LOCATION:St. Malachy\, 14115 E 14 Mile Rd\, Sterling Heights\, MI\, 48312\, United States
CATEGORIES:Event,Featured Event,First Friday Devotions,Mass
ORGANIZER;CN="St. Malachy":MAILTO:contact@stmalachychurch.org
END:VEVENT
BEGIN:VEVENT
DTSTART;TZID=America/Detroit:20250404T113000
DTEND;TZID=America/Detroit:20250404T183000
DTSTAMP:20260422T143226
CREATED:20250220T195312Z
LAST-MODIFIED:20250220T195313Z
UID:10011602-1743766200-1743791400@saintmalachychurch.org
SUMMARY:All Day Adoration
DESCRIPTION:We will have All Day Adoration on Friday\, April 4th immediately following First Friday Devotions until 6:30pm. While the Blessed Sacrament is on the Altar\, we will need someone in the church at all times. Please consider spending a half hour or more with our Lord. A sign-up sheet can be found in the Gathering Space!
URL:https://saintmalachychurch.org/event/all-day-adoration-4/
LOCATION:St. Malachy\, 14115 E 14 Mile Rd\, Sterling Heights\, MI\, 48312\, United States
CATEGORIES:Adoration,Event,Featured Event,First Friday Devotions,Lent,Mass,Volunteer
ORGANIZER;CN="St. Malachy":MAILTO:contact@stmalachychurch.org
END:VEVENT
BEGIN:VEVENT
DTSTART;TZID=America/Detroit:20250404T160000
DTEND;TZID=America/Detroit:20250404T190000
DTSTAMP:20260422T143226
CREATED:20250213T160037Z
LAST-MODIFIED:20250220T124730Z
UID:10010370-1743782400-1743793200@saintmalachychurch.org
SUMMARY:Fish Fry
DESCRIPTION:
URL:https://saintmalachychurch.org/event/fish-fry-6/2025-04-04/
LOCATION:Currier Center\, 14115 E. 14 Mile Rd.\, Sterling Heights\, MI\, 48312\, United States
CATEGORIES:Ash Wednesday,Event,Featured Event,Fish Fry,Lent,Men's Club,Women's Club
ORGANIZER;CN="St. Malachy Men's Club":MAILTO:mensclub@stmalachychurch.org
END:VEVENT
BEGIN:VEVENT
DTSTART;VALUE=DATE:20250405
DTEND;VALUE=DATE:20250407
DTSTAMP:20260422T143226
CREATED:20250404T015004Z
LAST-MODIFIED:20250404T015055Z
UID:10014969-1743811200-1743983999@saintmalachychurch.org
SUMMARY:Reverse Raffle Ticket Sales
DESCRIPTION:If you’ve been to our Reverse Raffle before\, then you know how much fun it is! Tickets will be available following all Masses this weekend (April 5th and 6th) and are also available in the Parish Office.
URL:https://saintmalachychurch.org/event/reverse-raffle-ticket-sales-2/
LOCATION:Gathering Space\, 14115 E. 14 Mile Rd\, Sterling heights\, MI\, 48312\, United States
CATEGORIES:Event,Featured Event,Men's Club
ORGANIZER;CN="St. Malachy Men's Club":MAILTO:mensclub@stmalachychurch.org
END:VEVENT
BEGIN:VEVENT
DTSTART;TZID=America/Detroit:20250407T100000
DTEND;TZID=America/Detroit:20250407T100000
DTSTAMP:20260422T143226
CREATED:20250320T180311Z
LAST-MODIFIED:20250320T180312Z
UID:10014167-1744020000-1744020000@saintmalachychurch.org
SUMMARY:Bulletin Submissions for April 20th DUE
DESCRIPTION:Please take note\, there will be early bulletin submissions for the Easter Season. The dates for these submissions are as followed: \nApril 13th Bulletin: Due by April 1st no later than 10am \nApril 20th Bulletin: Due by April 7th no later than 10am \nPlease note these dates includes articles AND Mass intentions. Once the date has passed\, no exceptions can be made. Thank you!
URL:https://saintmalachychurch.org/event/bulletin-submissions-for-april-20th-due/
LOCATION:St. Malachy\, 14115 E 14 Mile Rd\, Sterling Heights\, MI\, 48312\, United States
CATEGORIES:Event,Featured Event
ORGANIZER;CN="St. Malachy":MAILTO:contact@stmalachychurch.org
END:VEVENT
BEGIN:VEVENT
DTSTART;TZID=America/Detroit:20250407T180000
DTEND;TZID=America/Detroit:20250407T200000
DTSTAMP:20260422T143226
CREATED:20250206T165148Z
LAST-MODIFIED:20250214T155600Z
UID:10009190-1744048800-1744056000@saintmalachychurch.org
SUMMARY:Christian Service Ministry Meeting
DESCRIPTION:Our Christian Service Ministry will meet on the following Mondays at 6pm in the Gathering Space: \n\nFebruary 3rd\nMarch 3rd\nApril 7th\nMay 5th\nJune 2nd\n\nPlease join us if you enjoy helping those in need and want to know more about this ministry!
URL:https://saintmalachychurch.org/event/christian-service-ministry-meeting-8/2025-04-07/
LOCATION:Gathering Space\, 14115 E. 14 Mile Rd\, Sterling heights\, MI\, 48312\, United States
CATEGORIES:Christian Service Ministry,Event,Featured Event
ORGANIZER;CN="St. Malachy":MAILTO:contact@stmalachychurch.org
END:VEVENT
BEGIN:VEVENT
DTSTART;TZID=America/Detroit:20250408T183000
DTEND;TZID=America/Detroit:20250408T193000
DTSTAMP:20260422T143226
CREATED:20250128T201444Z
LAST-MODIFIED:20250225T155503Z
UID:10012718-1744137000-1744140600@saintmalachychurch.org
SUMMARY:Living Stations of the Cross Performance
DESCRIPTION:Living Stations of the Cross performances will take place on Tuesday\, April 8th at 6:30pm for the Faith Formation Program\, and on Good Friday at 12pm for the congregation of St. Malachy! We are honored to have talented and committed youth to bring these emotional moments to life!
URL:https://saintmalachychurch.org/event/living-stations-of-the-cross-performance-3/2025-04-08/
LOCATION:St. Malachy\, 14115 E 14 Mile Rd\, Sterling Heights\, MI\, 48312\, United States
CATEGORIES:Event,Featured Event,FROG,ROCK,Youth Ministry
ORGANIZER;CN="Rachel Nicholson":MAILTO:frog@stmalachychurch.org
END:VEVENT
BEGIN:VEVENT
DTSTART;TZID=America/Detroit:20250411T160000
DTEND;TZID=America/Detroit:20250411T190000
DTSTAMP:20260422T143226
CREATED:20250213T160037Z
LAST-MODIFIED:20250220T124730Z
UID:10010371-1744387200-1744398000@saintmalachychurch.org
SUMMARY:Fish Fry
DESCRIPTION:
URL:https://saintmalachychurch.org/event/fish-fry-6/2025-04-11/
LOCATION:Currier Center\, 14115 E. 14 Mile Rd.\, Sterling Heights\, MI\, 48312\, United States
CATEGORIES:Ash Wednesday,Event,Featured Event,Fish Fry,Lent,Men's Club,Women's Club
ORGANIZER;CN="St. Malachy Men's Club":MAILTO:mensclub@stmalachychurch.org
END:VEVENT
BEGIN:VEVENT
DTSTART;TZID=America/Detroit:20250413T160000
DTEND;TZID=America/Detroit:20250413T173000
DTSTAMP:20260422T143226
CREATED:20250314T165044Z
LAST-MODIFIED:20250322T220009Z
UID:10013720-1744560000-1744565400@saintmalachychurch.org
SUMMARY:Lenten Sketches
DESCRIPTION:Join us to celebrate Palm Sunday with the Children’s Liturgy at both of the 9:30am and 11:30am Masses! \nThat evening\, we encourage you to come see Lenten Sketches\, a beautiful illustration of Christ’s final days on earth through music. This program will begin at 4pm on Sunday\, April 13th!
URL:https://saintmalachychurch.org/event/lenten-sketches-2/
LOCATION:St. Malachy\, 14115 E 14 Mile Rd\, Sterling Heights\, MI\, 48312\, United States
CATEGORIES:Event,Featured Event,Lent,Music Ministry
ORGANIZER;CN="Eric Taylor":MAILTO:etaylor@stmalachychurch.org
END:VEVENT
BEGIN:VEVENT
DTSTART;TZID=America/Detroit:20250414T183000
DTEND;TZID=America/Detroit:20250414T200000
DTSTAMP:20260422T143226
CREATED:20250102T171702Z
LAST-MODIFIED:20251204T190241Z
UID:10002504-1744655400-1744660800@saintmalachychurch.org
SUMMARY:Women's Club Meeting
DESCRIPTION:
URL:https://saintmalachychurch.org/event/womens-club-meeting-17/2025-04-14/
LOCATION:Currier Center\, 14115 E. 14 Mile Rd.\, Sterling Heights\, MI\, 48312\, United States
CATEGORIES:Event,Featured Event,Women's Club
END:VEVENT
BEGIN:VEVENT
DTSTART;TZID=America/Detroit:20250417T190000
DTEND;TZID=America/Detroit:20250417T200000
DTSTAMP:20260422T143226
CREATED:20241216T183557Z
LAST-MODIFIED:20250214T160814Z
UID:10001124-1744916400-1744920000@saintmalachychurch.org
SUMMARY:Holy Thursday Mass
DESCRIPTION:Join us at 7pm for Mass to celebrate the Lord’s Supper today\, April 17th\, 2025! Stay after Mass or swing by afterward for a beautiful Eucharistic Adoration until Midnight! \nThis Mass and Adoration will also be live-streamed.
URL:https://saintmalachychurch.org/event/holy-thursday-mass-4/
LOCATION:St. Malachy\, 14115 E 14 Mile Rd\, Sterling Heights\, MI\, 48312\, United States
CATEGORIES:Adoration,Event,Featured Event,Mass
ORGANIZER;CN="St. Malachy":MAILTO:contact@stmalachychurch.org
END:VEVENT
BEGIN:VEVENT
DTSTART;TZID=America/Detroit:20250417T200000
DTEND;TZID=America/Detroit:20250417T235900
DTSTAMP:20260422T143226
CREATED:20241216T183908Z
LAST-MODIFIED:20250102T152125Z
UID:10001123-1744920000-1744934340@saintmalachychurch.org
SUMMARY:Eucharistic Adoration
DESCRIPTION:Join us after the 7pm Mass on Holy Thursday (April 17th) for Eucharistic Adoration in the church until midnight! \n\nThis Adoration will also be live-streamed!
URL:https://saintmalachychurch.org/event/eucharistic-adoration-2/
LOCATION:St. Malachy\, 14115 E 14 Mile Rd\, Sterling Heights\, MI\, 48312\, United States
CATEGORIES:Adoration,Event,Featured Event
ORGANIZER;CN="St. Malachy":MAILTO:contact@stmalachychurch.org
END:VEVENT
BEGIN:VEVENT
DTSTART;VALUE=DATE:20250418
DTEND;VALUE=DATE:20250419
DTSTAMP:20260422T143226
CREATED:20250306T193935Z
LAST-MODIFIED:20250306T193936Z
UID:10013271-1744934400-1745020799@saintmalachychurch.org
SUMMARY:Men’s Club Scholarship Deadline
DESCRIPTION:Applications for the St. Malachy Men’s Club Scholarship are now available in the bulletin. Don’t wait until the last minute to fill this out\, get started now and make your parents happy! If you have any questions\, please contact Charlie Piscopink. DUE BY APRIL 18TH!!! Late applications will NOT be accepted.
URL:https://saintmalachychurch.org/event/mens-club-scholarship-deadline/
LOCATION:St. Malachy\, 14115 E 14 Mile Rd\, Sterling Heights\, MI\, 48312\, United States
CATEGORIES:Event,Featured Event,Men's Club
ORGANIZER;CN="St. Malachy Men's Club":MAILTO:mensclub@stmalachychurch.org
END:VEVENT
BEGIN:VEVENT
DTSTART;TZID=America/Detroit:20250418T120000
DTEND;TZID=America/Detroit:20250418T130000
DTSTAMP:20260422T143226
CREATED:20250128T201444Z
LAST-MODIFIED:20250225T155503Z
UID:10012719-1744977600-1744981200@saintmalachychurch.org
SUMMARY:Living Stations of the Cross Performance
DESCRIPTION:Living Stations of the Cross performances will take place on Tuesday\, April 8th at 6:30pm for the Faith Formation Program\, and on Good Friday at 12pm for the congregation of St. Malachy! We are honored to have talented and committed youth to bring these emotional moments to life!
URL:https://saintmalachychurch.org/event/living-stations-of-the-cross-performance-3/2025-04-18/
LOCATION:St. Malachy\, 14115 E 14 Mile Rd\, Sterling Heights\, MI\, 48312\, United States
CATEGORIES:Event,Featured Event,FROG,ROCK,Youth Ministry
ORGANIZER;CN="Rachel Nicholson":MAILTO:frog@stmalachychurch.org
END:VEVENT
BEGIN:VEVENT
DTSTART;TZID=America/Detroit:20250418T130000
DTEND;TZID=America/Detroit:20250418T140000
DTSTAMP:20260422T143226
CREATED:20241216T184207Z
LAST-MODIFIED:20250214T160842Z
UID:10001122-1744981200-1744984800@saintmalachychurch.org
SUMMARY:Good Friday Service
DESCRIPTION:Join us on Good Friday (April 18th\, 2025) at 1pm for a holy service following the Youth Ministry performance of Living Stations of the Cross! \nThis service will also be live-streamed!
URL:https://saintmalachychurch.org/event/good-friday-service-2/
LOCATION:St. Malachy\, 14115 E 14 Mile Rd\, Sterling Heights\, MI\, 48312\, United States
CATEGORIES:Event,Featured Event,Holy Week,Live Stream,Stations of the Cross,Youth Ministry
ORGANIZER;CN="St. Malachy":MAILTO:contact@stmalachychurch.org
END:VEVENT
BEGIN:VEVENT
DTSTART;TZID=America/Detroit:20250418T150000
DTEND;TZID=America/Detroit:20250418T190000
DTSTAMP:20260422T143226
CREATED:20250213T160037Z
LAST-MODIFIED:20250220T124730Z
UID:10010372-1744988400-1745002800@saintmalachychurch.org
SUMMARY:Fish Fry
DESCRIPTION:
URL:https://saintmalachychurch.org/event/fish-fry-6/2025-04-18/
LOCATION:Currier Center\, 14115 E. 14 Mile Rd.\, Sterling Heights\, MI\, 48312\, United States
CATEGORIES:Ash Wednesday,Event,Featured Event,Fish Fry,Lent,Men's Club,Women's Club
ORGANIZER;CN="St. Malachy Men's Club":MAILTO:mensclub@stmalachychurch.org
END:VEVENT
END:VCALENDAR