BEGIN:VCALENDAR
VERSION:2.0
PRODID:-//St. Malachy - ECPv6.15.18//NONSGML v1.0//EN
CALSCALE:GREGORIAN
METHOD:PUBLISH
X-WR-CALNAME:St. Malachy
X-ORIGINAL-URL:https://saintmalachychurch.org
X-WR-CALDESC:Events for St. Malachy
REFRESH-INTERVAL;VALUE=DURATION:PT1H
X-Robots-Tag:noindex
X-PUBLISHED-TTL:PT1H
BEGIN:VTIMEZONE
TZID:America/Detroit
BEGIN:DAYLIGHT
TZOFFSETFROM:-0500
TZOFFSETTO:-0400
TZNAME:EDT
DTSTART:20250309T070000
END:DAYLIGHT
BEGIN:STANDARD
TZOFFSETFROM:-0400
TZOFFSETTO:-0500
TZNAME:EST
DTSTART:20251102T060000
END:STANDARD
BEGIN:DAYLIGHT
TZOFFSETFROM:-0500
TZOFFSETTO:-0400
TZNAME:EDT
DTSTART:20260308T070000
END:DAYLIGHT
BEGIN:STANDARD
TZOFFSETFROM:-0400
TZOFFSETTO:-0500
TZNAME:EST
DTSTART:20261101T060000
END:STANDARD
BEGIN:DAYLIGHT
TZOFFSETFROM:-0500
TZOFFSETTO:-0400
TZNAME:EDT
DTSTART:20270314T070000
END:DAYLIGHT
BEGIN:STANDARD
TZOFFSETFROM:-0400
TZOFFSETTO:-0500
TZNAME:EST
DTSTART:20271107T060000
END:STANDARD
END:VTIMEZONE
BEGIN:VEVENT
DTSTART;TZID=America/Detroit:20260618T180000
DTEND;TZID=America/Detroit:20260618T190000
DTSTAMP:20260422T093722
CREATED:20260108T180216Z
LAST-MODIFIED:20260226T154657Z
UID:10016407-1781805600-1781809200@saintmalachychurch.org
SUMMARY:YAM Bible Study
DESCRIPTION:If you are in your 20’s or 30’s and would like to strengthen your faith\, please join our Young Adult Ministry for a weekly Bible Study every Thursday from 6pm – 7pm in the Youth Center!
URL:https://saintmalachychurch.org/event/yam-bible-study/2026-06-18/
LOCATION:Youth Center\, 14115 E 14 Mile Rd\, Sterling Heights\, MI\, 48312\, United States
CATEGORIES:Event,Featured Event,YAM
ORGANIZER;CN="Kelsey Carden":MAILTO:kcarden@stmalachychurch.org
END:VEVENT
BEGIN:VEVENT
DTSTART;TZID=America/Detroit:20260624T184500
DTEND;TZID=America/Detroit:20260624T200000
DTSTAMP:20260422T093722
CREATED:20250102T172545Z
LAST-MODIFIED:20251113T194624Z
UID:10002578-1782326700-1782331200@saintmalachychurch.org
SUMMARY:Men's Club Meeting
DESCRIPTION:Join the St. Malachy Men’s club for a prayer service beginning at 6:45pm\, followed by its meeting! This group hosts many popular events such as the Fish Fry\, Coney Sales\, Reverse Raffle\, and more! Members of the Men’s Club meet on the last Wednesday of every month in the Currier Center at 6:45pm! Please contact Men’s Club President Joe Schuirmann for any questions!
URL:https://saintmalachychurch.org/event/mens-club-meeting-20/2026-06-24/
LOCATION:Currier Center\, 14115 E. 14 Mile Rd.\, Sterling Heights\, MI\, 48312\, United States
CATEGORIES:Event,Featured Event,Men's Club
ORGANIZER;CN="St. Malachy Men's Club":MAILTO:mensclub@stmalachychurch.org
END:VEVENT
BEGIN:VEVENT
DTSTART;TZID=America/Detroit:20260625T180000
DTEND;TZID=America/Detroit:20260625T190000
DTSTAMP:20260422T093722
CREATED:20260108T180216Z
LAST-MODIFIED:20260226T154657Z
UID:10016408-1782410400-1782414000@saintmalachychurch.org
SUMMARY:YAM Bible Study
DESCRIPTION:If you are in your 20’s or 30’s and would like to strengthen your faith\, please join our Young Adult Ministry for a weekly Bible Study every Thursday from 6pm – 7pm in the Youth Center!
URL:https://saintmalachychurch.org/event/yam-bible-study/2026-06-25/
LOCATION:Youth Center\, 14115 E 14 Mile Rd\, Sterling Heights\, MI\, 48312\, United States
CATEGORIES:Event,Featured Event,YAM
ORGANIZER;CN="Kelsey Carden":MAILTO:kcarden@stmalachychurch.org
END:VEVENT
BEGIN:VEVENT
DTSTART;TZID=America/Detroit:20260628T123000
DTEND;TZID=America/Detroit:20260628T123000
DTSTAMP:20260422T093722
CREATED:20260422T132800Z
LAST-MODIFIED:20260422T132800Z
UID:10016744-1782649800-1782649800@saintmalachychurch.org
SUMMARY:Parish Picnic
DESCRIPTION:Join us following the 11:30am Mass on Sunday\, June 28th for our annual Parish Picnic! Stay tuned for information on our Early Bird Raffle!
URL:https://saintmalachychurch.org/event/parish-picnic-4/
LOCATION:Festival Garage
CATEGORIES:Event,Featured Event,Festival,Parish Picnic
ORGANIZER;CN="St. Malachy":MAILTO:contact@stmalachychurch.org
END:VEVENT
BEGIN:VEVENT
DTSTART;TZID=America/Detroit:20260702T180000
DTEND;TZID=America/Detroit:20260702T190000
DTSTAMP:20260422T093722
CREATED:20260108T180216Z
LAST-MODIFIED:20260226T154657Z
UID:10016409-1783015200-1783018800@saintmalachychurch.org
SUMMARY:YAM Bible Study
DESCRIPTION:If you are in your 20’s or 30’s and would like to strengthen your faith\, please join our Young Adult Ministry for a weekly Bible Study every Thursday from 6pm – 7pm in the Youth Center!
URL:https://saintmalachychurch.org/event/yam-bible-study/2026-07-02/
LOCATION:Youth Center\, 14115 E 14 Mile Rd\, Sterling Heights\, MI\, 48312\, United States
CATEGORIES:Event,Featured Event,YAM
ORGANIZER;CN="Kelsey Carden":MAILTO:kcarden@stmalachychurch.org
END:VEVENT
BEGIN:VEVENT
DTSTART;TZID=America/Detroit:20260703T103000
DTEND;TZID=America/Detroit:20260703T113000
DTSTAMP:20260422T093722
CREATED:20250214T151758Z
LAST-MODIFIED:20260126T171346Z
UID:10010432-1783074600-1783078200@saintmalachychurch.org
SUMMARY:First Friday Devotions
DESCRIPTION:First Friday Devotions will be held every first Friday of the month immediately following 9:30am Daily Mass. All are welcome and encouraged to attend these faith-filled spiritual mornings!
URL:https://saintmalachychurch.org/event/first-friday-devotions-3/2026-07-03/
LOCATION:St. Malachy\, 14115 E 14 Mile Rd\, Sterling Heights\, MI\, 48312\, United States
CATEGORIES:Event,Featured Event,First Friday Devotions,Mass
ORGANIZER;CN="St. Malachy":MAILTO:contact@stmalachychurch.org
END:VEVENT
BEGIN:VEVENT
DTSTART;TZID=America/Detroit:20260709T180000
DTEND;TZID=America/Detroit:20260709T190000
DTSTAMP:20260422T093722
CREATED:20260108T180216Z
LAST-MODIFIED:20260226T154657Z
UID:10016410-1783620000-1783623600@saintmalachychurch.org
SUMMARY:YAM Bible Study
DESCRIPTION:If you are in your 20’s or 30’s and would like to strengthen your faith\, please join our Young Adult Ministry for a weekly Bible Study every Thursday from 6pm – 7pm in the Youth Center!
URL:https://saintmalachychurch.org/event/yam-bible-study/2026-07-09/
LOCATION:Youth Center\, 14115 E 14 Mile Rd\, Sterling Heights\, MI\, 48312\, United States
CATEGORIES:Event,Featured Event,YAM
ORGANIZER;CN="Kelsey Carden":MAILTO:kcarden@stmalachychurch.org
END:VEVENT
BEGIN:VEVENT
DTSTART;TZID=America/Detroit:20260713T183000
DTEND;TZID=America/Detroit:20260713T200000
DTSTAMP:20260422T093722
CREATED:20250102T171702Z
LAST-MODIFIED:20251204T190241Z
UID:10002519-1783967400-1783972800@saintmalachychurch.org
SUMMARY:Women's Club Meeting
DESCRIPTION:
URL:https://saintmalachychurch.org/event/womens-club-meeting-17/2026-07-13/
LOCATION:Currier Center\, 14115 E. 14 Mile Rd.\, Sterling Heights\, MI\, 48312\, United States
CATEGORIES:Event,Featured Event,Women's Club
END:VEVENT
BEGIN:VEVENT
DTSTART;TZID=America/Detroit:20260716T180000
DTEND;TZID=America/Detroit:20260716T190000
DTSTAMP:20260422T093722
CREATED:20260108T180216Z
LAST-MODIFIED:20260226T154657Z
UID:10016411-1784224800-1784228400@saintmalachychurch.org
SUMMARY:YAM Bible Study
DESCRIPTION:If you are in your 20’s or 30’s and would like to strengthen your faith\, please join our Young Adult Ministry for a weekly Bible Study every Thursday from 6pm – 7pm in the Youth Center!
URL:https://saintmalachychurch.org/event/yam-bible-study/2026-07-16/
LOCATION:Youth Center\, 14115 E 14 Mile Rd\, Sterling Heights\, MI\, 48312\, United States
CATEGORIES:Event,Featured Event,YAM
ORGANIZER;CN="Kelsey Carden":MAILTO:kcarden@stmalachychurch.org
END:VEVENT
BEGIN:VEVENT
DTSTART;TZID=America/Detroit:20260723T180000
DTEND;TZID=America/Detroit:20260723T190000
DTSTAMP:20260422T093722
CREATED:20260108T180216Z
LAST-MODIFIED:20260226T154657Z
UID:10016412-1784829600-1784833200@saintmalachychurch.org
SUMMARY:YAM Bible Study
DESCRIPTION:If you are in your 20’s or 30’s and would like to strengthen your faith\, please join our Young Adult Ministry for a weekly Bible Study every Thursday from 6pm – 7pm in the Youth Center!
URL:https://saintmalachychurch.org/event/yam-bible-study/2026-07-23/
LOCATION:Youth Center\, 14115 E 14 Mile Rd\, Sterling Heights\, MI\, 48312\, United States
CATEGORIES:Event,Featured Event,YAM
ORGANIZER;CN="Kelsey Carden":MAILTO:kcarden@stmalachychurch.org
END:VEVENT
BEGIN:VEVENT
DTSTART;TZID=America/Detroit:20260729T184500
DTEND;TZID=America/Detroit:20260729T200000
DTSTAMP:20260422T093722
CREATED:20250102T172545Z
LAST-MODIFIED:20251113T194624Z
UID:10002579-1785350700-1785355200@saintmalachychurch.org
SUMMARY:Men's Club Meeting
DESCRIPTION:Join the St. Malachy Men’s club for a prayer service beginning at 6:45pm\, followed by its meeting! This group hosts many popular events such as the Fish Fry\, Coney Sales\, Reverse Raffle\, and more! Members of the Men’s Club meet on the last Wednesday of every month in the Currier Center at 6:45pm! Please contact Men’s Club President Joe Schuirmann for any questions!
URL:https://saintmalachychurch.org/event/mens-club-meeting-20/2026-07-29/
LOCATION:Currier Center\, 14115 E. 14 Mile Rd.\, Sterling Heights\, MI\, 48312\, United States
CATEGORIES:Event,Featured Event,Men's Club
ORGANIZER;CN="St. Malachy Men's Club":MAILTO:mensclub@stmalachychurch.org
END:VEVENT
BEGIN:VEVENT
DTSTART;TZID=America/Detroit:20260730T180000
DTEND;TZID=America/Detroit:20260730T190000
DTSTAMP:20260422T093722
CREATED:20260108T180216Z
LAST-MODIFIED:20260226T154657Z
UID:10016413-1785434400-1785438000@saintmalachychurch.org
SUMMARY:YAM Bible Study
DESCRIPTION:If you are in your 20’s or 30’s and would like to strengthen your faith\, please join our Young Adult Ministry for a weekly Bible Study every Thursday from 6pm – 7pm in the Youth Center!
URL:https://saintmalachychurch.org/event/yam-bible-study/2026-07-30/
LOCATION:Youth Center\, 14115 E 14 Mile Rd\, Sterling Heights\, MI\, 48312\, United States
CATEGORIES:Event,Featured Event,YAM
ORGANIZER;CN="Kelsey Carden":MAILTO:kcarden@stmalachychurch.org
END:VEVENT
BEGIN:VEVENT
DTSTART;TZID=America/Detroit:20260806T180000
DTEND;TZID=America/Detroit:20260806T190000
DTSTAMP:20260422T093722
CREATED:20260108T180216Z
LAST-MODIFIED:20260226T154657Z
UID:10016414-1786039200-1786042800@saintmalachychurch.org
SUMMARY:YAM Bible Study
DESCRIPTION:If you are in your 20’s or 30’s and would like to strengthen your faith\, please join our Young Adult Ministry for a weekly Bible Study every Thursday from 6pm – 7pm in the Youth Center!
URL:https://saintmalachychurch.org/event/yam-bible-study/2026-08-06/
LOCATION:Youth Center\, 14115 E 14 Mile Rd\, Sterling Heights\, MI\, 48312\, United States
CATEGORIES:Event,Featured Event,YAM
ORGANIZER;CN="Kelsey Carden":MAILTO:kcarden@stmalachychurch.org
END:VEVENT
BEGIN:VEVENT
DTSTART;TZID=America/Detroit:20260807T103000
DTEND;TZID=America/Detroit:20260807T113000
DTSTAMP:20260422T093722
CREATED:20250214T151758Z
LAST-MODIFIED:20260126T171346Z
UID:10010433-1786098600-1786102200@saintmalachychurch.org
SUMMARY:First Friday Devotions
DESCRIPTION:First Friday Devotions will be held every first Friday of the month immediately following 9:30am Daily Mass. All are welcome and encouraged to attend these faith-filled spiritual mornings!
URL:https://saintmalachychurch.org/event/first-friday-devotions-3/2026-08-07/
LOCATION:St. Malachy\, 14115 E 14 Mile Rd\, Sterling Heights\, MI\, 48312\, United States
CATEGORIES:Event,Featured Event,First Friday Devotions,Mass
ORGANIZER;CN="St. Malachy":MAILTO:contact@stmalachychurch.org
END:VEVENT
BEGIN:VEVENT
DTSTART;TZID=America/Detroit:20260810T183000
DTEND;TZID=America/Detroit:20260810T200000
DTSTAMP:20260422T093722
CREATED:20250102T171702Z
LAST-MODIFIED:20251204T190241Z
UID:10002520-1786386600-1786392000@saintmalachychurch.org
SUMMARY:Women's Club Meeting
DESCRIPTION:
URL:https://saintmalachychurch.org/event/womens-club-meeting-17/2026-08-10/
LOCATION:Currier Center\, 14115 E. 14 Mile Rd.\, Sterling Heights\, MI\, 48312\, United States
CATEGORIES:Event,Featured Event,Women's Club
END:VEVENT
BEGIN:VEVENT
DTSTART;TZID=America/Detroit:20260813T180000
DTEND;TZID=America/Detroit:20260813T190000
DTSTAMP:20260422T093722
CREATED:20260108T180216Z
LAST-MODIFIED:20260226T154657Z
UID:10016415-1786644000-1786647600@saintmalachychurch.org
SUMMARY:YAM Bible Study
DESCRIPTION:If you are in your 20’s or 30’s and would like to strengthen your faith\, please join our Young Adult Ministry for a weekly Bible Study every Thursday from 6pm – 7pm in the Youth Center!
URL:https://saintmalachychurch.org/event/yam-bible-study/2026-08-13/
LOCATION:Youth Center\, 14115 E 14 Mile Rd\, Sterling Heights\, MI\, 48312\, United States
CATEGORIES:Event,Featured Event,YAM
ORGANIZER;CN="Kelsey Carden":MAILTO:kcarden@stmalachychurch.org
END:VEVENT
BEGIN:VEVENT
DTSTART;TZID=America/Detroit:20260814T170000
DTEND;TZID=America/Detroit:20260814T230000
DTSTAMP:20260422T093722
CREATED:20260420T141529Z
LAST-MODIFIED:20260420T141530Z
UID:10016741-1786726800-1786748400@saintmalachychurch.org
SUMMARY:2026 Summerfest
DESCRIPTION:Join us for a weekend of fun\, friends\, food and music at this year’s Summerfest! With so much to offer\, we can’t wait to welcome our community and have a great time! Check out our website for more information!  \nInterested in sponsoring the Summerfest? Check out the sponsorship page on our website\, or email ukrause@stmalachychurch.org for more information!
URL:https://saintmalachychurch.org/event/2026-summerfest/2026-08-14/
LOCATION:St. Malachy\, 14115 E 14 Mile Rd\, Sterling Heights\, MI\, 48312\, United States
CATEGORIES:Event,Featured Event,Festival,Volunteer
ORGANIZER;CN="Pam Schuirmann":MAILTO:festival@stmalachychurch.org
END:VEVENT
BEGIN:VEVENT
DTSTART;TZID=America/Detroit:20260815T120000
DTEND;TZID=America/Detroit:20260815T230000
DTSTAMP:20260422T093722
CREATED:20260420T141529Z
LAST-MODIFIED:20260420T141530Z
UID:10016742-1786795200-1786834800@saintmalachychurch.org
SUMMARY:2026 Summerfest
DESCRIPTION:Join us for a weekend of fun\, friends\, food and music at this year’s Summerfest! With so much to offer\, we can’t wait to welcome our community and have a great time! Check out our website for more information!  \nInterested in sponsoring the Summerfest? Check out the sponsorship page on our website\, or email ukrause@stmalachychurch.org for more information!
URL:https://saintmalachychurch.org/event/2026-summerfest/2026-08-15/
LOCATION:St. Malachy\, 14115 E 14 Mile Rd\, Sterling Heights\, MI\, 48312\, United States
CATEGORIES:Event,Featured Event,Festival,Volunteer
ORGANIZER;CN="Pam Schuirmann":MAILTO:festival@stmalachychurch.org
END:VEVENT
BEGIN:VEVENT
DTSTART;TZID=America/Detroit:20260816T120000
DTEND;TZID=America/Detroit:20260816T230000
DTSTAMP:20260422T093722
CREATED:20260420T141529Z
LAST-MODIFIED:20260420T141530Z
UID:10016743-1786881600-1786921200@saintmalachychurch.org
SUMMARY:2026 Summerfest
DESCRIPTION:Join us for a weekend of fun\, friends\, food and music at this year’s Summerfest! With so much to offer\, we can’t wait to welcome our community and have a great time! Check out our website for more information!  \nInterested in sponsoring the Summerfest? Check out the sponsorship page on our website\, or email ukrause@stmalachychurch.org for more information!
URL:https://saintmalachychurch.org/event/2026-summerfest/2026-08-16/
LOCATION:St. Malachy\, 14115 E 14 Mile Rd\, Sterling Heights\, MI\, 48312\, United States
CATEGORIES:Event,Featured Event,Festival,Volunteer
ORGANIZER;CN="Pam Schuirmann":MAILTO:festival@stmalachychurch.org
END:VEVENT
BEGIN:VEVENT
DTSTART;TZID=America/Detroit:20260820T180000
DTEND;TZID=America/Detroit:20260820T190000
DTSTAMP:20260422T093722
CREATED:20260108T180216Z
LAST-MODIFIED:20260226T154657Z
UID:10016416-1787248800-1787252400@saintmalachychurch.org
SUMMARY:YAM Bible Study
DESCRIPTION:If you are in your 20’s or 30’s and would like to strengthen your faith\, please join our Young Adult Ministry for a weekly Bible Study every Thursday from 6pm – 7pm in the Youth Center!
URL:https://saintmalachychurch.org/event/yam-bible-study/2026-08-20/
LOCATION:Youth Center\, 14115 E 14 Mile Rd\, Sterling Heights\, MI\, 48312\, United States
CATEGORIES:Event,Featured Event,YAM
ORGANIZER;CN="Kelsey Carden":MAILTO:kcarden@stmalachychurch.org
END:VEVENT
BEGIN:VEVENT
DTSTART;TZID=America/Detroit:20260826T184500
DTEND;TZID=America/Detroit:20260826T200000
DTSTAMP:20260422T093722
CREATED:20250102T172545Z
LAST-MODIFIED:20251113T194624Z
UID:10002580-1787769900-1787774400@saintmalachychurch.org
SUMMARY:Men's Club Meeting
DESCRIPTION:Join the St. Malachy Men’s club for a prayer service beginning at 6:45pm\, followed by its meeting! This group hosts many popular events such as the Fish Fry\, Coney Sales\, Reverse Raffle\, and more! Members of the Men’s Club meet on the last Wednesday of every month in the Currier Center at 6:45pm! Please contact Men’s Club President Joe Schuirmann for any questions!
URL:https://saintmalachychurch.org/event/mens-club-meeting-20/2026-08-26/
LOCATION:Currier Center\, 14115 E. 14 Mile Rd.\, Sterling Heights\, MI\, 48312\, United States
CATEGORIES:Event,Featured Event,Men's Club
ORGANIZER;CN="St. Malachy Men's Club":MAILTO:mensclub@stmalachychurch.org
END:VEVENT
BEGIN:VEVENT
DTSTART;TZID=America/Detroit:20260827T180000
DTEND;TZID=America/Detroit:20260827T190000
DTSTAMP:20260422T093722
CREATED:20260108T180216Z
LAST-MODIFIED:20260226T154657Z
UID:10016417-1787853600-1787857200@saintmalachychurch.org
SUMMARY:YAM Bible Study
DESCRIPTION:If you are in your 20’s or 30’s and would like to strengthen your faith\, please join our Young Adult Ministry for a weekly Bible Study every Thursday from 6pm – 7pm in the Youth Center!
URL:https://saintmalachychurch.org/event/yam-bible-study/2026-08-27/
LOCATION:Youth Center\, 14115 E 14 Mile Rd\, Sterling Heights\, MI\, 48312\, United States
CATEGORIES:Event,Featured Event,YAM
ORGANIZER;CN="Kelsey Carden":MAILTO:kcarden@stmalachychurch.org
END:VEVENT
BEGIN:VEVENT
DTSTART;TZID=America/Detroit:20260903T180000
DTEND;TZID=America/Detroit:20260903T190000
DTSTAMP:20260422T093722
CREATED:20260108T180216Z
LAST-MODIFIED:20260226T154657Z
UID:10016418-1788458400-1788462000@saintmalachychurch.org
SUMMARY:YAM Bible Study
DESCRIPTION:If you are in your 20’s or 30’s and would like to strengthen your faith\, please join our Young Adult Ministry for a weekly Bible Study every Thursday from 6pm – 7pm in the Youth Center!
URL:https://saintmalachychurch.org/event/yam-bible-study/2026-09-03/
LOCATION:Youth Center\, 14115 E 14 Mile Rd\, Sterling Heights\, MI\, 48312\, United States
CATEGORIES:Event,Featured Event,YAM
ORGANIZER;CN="Kelsey Carden":MAILTO:kcarden@stmalachychurch.org
END:VEVENT
BEGIN:VEVENT
DTSTART;TZID=America/Detroit:20260904T103000
DTEND;TZID=America/Detroit:20260904T113000
DTSTAMP:20260422T093722
CREATED:20250214T151758Z
LAST-MODIFIED:20260126T171346Z
UID:10010434-1788517800-1788521400@saintmalachychurch.org
SUMMARY:First Friday Devotions
DESCRIPTION:First Friday Devotions will be held every first Friday of the month immediately following 9:30am Daily Mass. All are welcome and encouraged to attend these faith-filled spiritual mornings!
URL:https://saintmalachychurch.org/event/first-friday-devotions-3/2026-09-04/
LOCATION:St. Malachy\, 14115 E 14 Mile Rd\, Sterling Heights\, MI\, 48312\, United States
CATEGORIES:Event,Featured Event,First Friday Devotions,Mass
ORGANIZER;CN="St. Malachy":MAILTO:contact@stmalachychurch.org
END:VEVENT
BEGIN:VEVENT
DTSTART;TZID=America/Detroit:20260907T093000
DTEND;TZID=America/Detroit:20260907T103000
DTSTAMP:20260422T093722
CREATED:20260126T174857Z
LAST-MODIFIED:20260126T175014Z
UID:10016665-1788773400-1788777000@saintmalachychurch.org
SUMMARY:Labor Day Mass
DESCRIPTION:Happy Labor Day! Join us for Mass at 9:30am! \n*This Mass will NOT be live-streamed!
URL:https://saintmalachychurch.org/event/labor-day-mass-2/
LOCATION:St. Malachy\, 14115 E 14 Mile Rd\, Sterling Heights\, MI\, 48312\, United States
CATEGORIES:Event,Featured Event,Mass
ORGANIZER;CN="St. Malachy":MAILTO:contact@stmalachychurch.org
END:VEVENT
BEGIN:VEVENT
DTSTART;TZID=America/Detroit:20260910T180000
DTEND;TZID=America/Detroit:20260910T190000
DTSTAMP:20260422T093722
CREATED:20260108T180216Z
LAST-MODIFIED:20260226T154657Z
UID:10016419-1789063200-1789066800@saintmalachychurch.org
SUMMARY:YAM Bible Study
DESCRIPTION:If you are in your 20’s or 30’s and would like to strengthen your faith\, please join our Young Adult Ministry for a weekly Bible Study every Thursday from 6pm – 7pm in the Youth Center!
URL:https://saintmalachychurch.org/event/yam-bible-study/2026-09-10/
LOCATION:Youth Center\, 14115 E 14 Mile Rd\, Sterling Heights\, MI\, 48312\, United States
CATEGORIES:Event,Featured Event,YAM
ORGANIZER;CN="Kelsey Carden":MAILTO:kcarden@stmalachychurch.org
END:VEVENT
BEGIN:VEVENT
DTSTART;TZID=America/Detroit:20260914T183000
DTEND;TZID=America/Detroit:20260914T200000
DTSTAMP:20260422T093722
CREATED:20250102T171702Z
LAST-MODIFIED:20251204T190241Z
UID:10002521-1789410600-1789416000@saintmalachychurch.org
SUMMARY:Women's Club Meeting
DESCRIPTION:
URL:https://saintmalachychurch.org/event/womens-club-meeting-17/2026-09-14/
LOCATION:Currier Center\, 14115 E. 14 Mile Rd.\, Sterling Heights\, MI\, 48312\, United States
CATEGORIES:Event,Featured Event,Women's Club
END:VEVENT
BEGIN:VEVENT
DTSTART;TZID=America/Detroit:20260915T180000
DTEND;TZID=America/Detroit:20260915T210000
DTSTAMP:20260422T093722
CREATED:20260205T185800Z
LAST-MODIFIED:20260205T185800Z
UID:10016685-1789495200-1789506000@saintmalachychurch.org
SUMMARY:Protecting God's Children Seminar @ St. Rene Goupil
DESCRIPTION:The Protecting God’s Children program implements safety mechanisms that send a message to all abusers and potential abusers. By utilizing the best practices for training and loss prevention\, this program helps make churches safe for all people—especially children. \nWe are asking for all volunteers and staff members of St. Malachy to be compliant in completing the Protecting God’s Children course and filling out the proper paperwork. \n_________________________________________________________________ \n*For those who have never completed this training\, please sign up through Virtus\, complete the required documents\, and sign up for the in-person Protecting God’s Children Seminar being held on Tuesday\, May 5th\, 2026 at St. Rene Goupil. Make a VIRTUS account here. \n*Those with an existing Virtus account should sign in\, complete the background check information\, the Code of Conduct form\, and session 4.0. Sign in HERE to login to your Virtus account.  \n_________________________________________________________________ \nSIGN UP HERE TO REGISTER AND FIND A TRAINING SESSION! \n*To register and find any in-person sessions\, visit the link above and select Detroit\, MI (Archdiocese)\, and “Start Registration.”
URL:https://saintmalachychurch.org/event/protecting-gods-children-seminar-st-rene-goupil/2026-09-15/
LOCATION:St. Rene Goupil Parish\, 35955 Ryan Rd\, Sterling Heights\, MI\, 48310\, United States
CATEGORIES:Event,Featured Event,Volunteer
END:VEVENT
BEGIN:VEVENT
DTSTART;TZID=America/Detroit:20260917T180000
DTEND;TZID=America/Detroit:20260917T190000
DTSTAMP:20260422T093722
CREATED:20260108T180216Z
LAST-MODIFIED:20260226T154657Z
UID:10016420-1789668000-1789671600@saintmalachychurch.org
SUMMARY:YAM Bible Study
DESCRIPTION:If you are in your 20’s or 30’s and would like to strengthen your faith\, please join our Young Adult Ministry for a weekly Bible Study every Thursday from 6pm – 7pm in the Youth Center!
URL:https://saintmalachychurch.org/event/yam-bible-study/2026-09-17/
LOCATION:Youth Center\, 14115 E 14 Mile Rd\, Sterling Heights\, MI\, 48312\, United States
CATEGORIES:Event,Featured Event,YAM
ORGANIZER;CN="Kelsey Carden":MAILTO:kcarden@stmalachychurch.org
END:VEVENT
BEGIN:VEVENT
DTSTART;TZID=America/Detroit:20260924T180000
DTEND;TZID=America/Detroit:20260924T190000
DTSTAMP:20260422T093722
CREATED:20260108T180216Z
LAST-MODIFIED:20260226T154657Z
UID:10016421-1790272800-1790276400@saintmalachychurch.org
SUMMARY:YAM Bible Study
DESCRIPTION:If you are in your 20’s or 30’s and would like to strengthen your faith\, please join our Young Adult Ministry for a weekly Bible Study every Thursday from 6pm – 7pm in the Youth Center!
URL:https://saintmalachychurch.org/event/yam-bible-study/2026-09-24/
LOCATION:Youth Center\, 14115 E 14 Mile Rd\, Sterling Heights\, MI\, 48312\, United States
CATEGORIES:Event,Featured Event,YAM
ORGANIZER;CN="Kelsey Carden":MAILTO:kcarden@stmalachychurch.org
END:VEVENT
END:VCALENDAR