BEGIN:VCALENDAR
VERSION:2.0
PRODID:-//St. Malachy - ECPv6.15.18//NONSGML v1.0//EN
CALSCALE:GREGORIAN
METHOD:PUBLISH
X-WR-CALNAME:St. Malachy
X-ORIGINAL-URL:https://saintmalachychurch.org
X-WR-CALDESC:Events for St. Malachy
REFRESH-INTERVAL;VALUE=DURATION:PT1H
X-Robots-Tag:noindex
X-PUBLISHED-TTL:PT1H
BEGIN:VTIMEZONE
TZID:America/Detroit
BEGIN:DAYLIGHT
TZOFFSETFROM:-0500
TZOFFSETTO:-0400
TZNAME:EDT
DTSTART:20250309T070000
END:DAYLIGHT
BEGIN:STANDARD
TZOFFSETFROM:-0400
TZOFFSETTO:-0500
TZNAME:EST
DTSTART:20251102T060000
END:STANDARD
BEGIN:DAYLIGHT
TZOFFSETFROM:-0500
TZOFFSETTO:-0400
TZNAME:EDT
DTSTART:20260308T070000
END:DAYLIGHT
BEGIN:STANDARD
TZOFFSETFROM:-0400
TZOFFSETTO:-0500
TZNAME:EST
DTSTART:20261101T060000
END:STANDARD
BEGIN:DAYLIGHT
TZOFFSETFROM:-0500
TZOFFSETTO:-0400
TZNAME:EDT
DTSTART:20270314T070000
END:DAYLIGHT
BEGIN:STANDARD
TZOFFSETFROM:-0400
TZOFFSETTO:-0500
TZNAME:EST
DTSTART:20271107T060000
END:STANDARD
END:VTIMEZONE
BEGIN:VEVENT
DTSTART;TZID=America/Detroit:20260420T183000
DTEND;TZID=America/Detroit:20260420T203000
DTSTAMP:20260422T052704
CREATED:20260317T161341Z
LAST-MODIFIED:20260317T161424Z
UID:10016730-1776709800-1776717000@saintmalachychurch.org
SUMMARY:ROCK Spring Session Meeting
DESCRIPTION:
URL:https://saintmalachychurch.org/event/rock-spring-session-meeting/2026-04-20/
LOCATION:Youth Center\, 14115 E 14 Mile Rd\, Sterling Heights\, MI\, 48312\, United States
CATEGORIES:Event,Featured Event,ROCK,Youth Ministry
ORGANIZER;CN="Lauren Corbat":MAILTO:lcorbat@stmalachychurch.org
END:VEVENT
BEGIN:VEVENT
DTSTART;TZID=America/Detroit:20260420T183000
DTEND;TZID=America/Detroit:20260420T203000
DTSTAMP:20260422T052704
CREATED:20251230T204226Z
LAST-MODIFIED:20251230T204227Z
UID:10016372-1776709800-1776717000@saintmalachychurch.org
SUMMARY:FROG 5th-Grader Meeting
DESCRIPTION:
URL:https://saintmalachychurch.org/event/frog-5th-grader-meeting-2/
LOCATION:Youth Center\, 14115 E 14 Mile Rd\, Sterling Heights\, MI\, 48312\, United States
CATEGORIES:Event,Featured Event,FROG,Youth Ministry
ORGANIZER;CN="Rachel Nicholson":MAILTO:frog@stmalachychurch.org
END:VEVENT
BEGIN:VEVENT
DTSTART;TZID=America/Detroit:20260420T173000
DTEND;TZID=America/Detroit:20260420T190000
DTSTAMP:20260422T052704
CREATED:20260312T173609Z
LAST-MODIFIED:20260312T173610Z
UID:10016726-1776706200-1776711600@saintmalachychurch.org
SUMMARY:Women’s Club Game Night
DESCRIPTION:The Women’s Club will be hosting a Game Night on Monday\, April 20th in the Currier Center. Tickets will be on sale before and after all Masses the weekends of March 14/15 and 21/22. Don’t miss out on some fun\, snacks and raffles. Advanced ticket sales only!
URL:https://saintmalachychurch.org/event/womens-club-game-night/
LOCATION:Currier Center\, 14115 E. 14 Mile Rd.\, Sterling Heights\, MI\, 48312\, United States
CATEGORIES:Event,Featured Event,Women's Club
END:VEVENT
BEGIN:VEVENT
DTSTART;TZID=America/Detroit:20260416T190000
DTEND;TZID=America/Detroit:20260416T200000
DTSTAMP:20260422T052704
CREATED:20250929T174656Z
LAST-MODIFIED:20250929T174656Z
UID:10016136-1776366000-1776369600@saintmalachychurch.org
SUMMARY:Confirmation Mass with Bishop Fisher
DESCRIPTION:
URL:https://saintmalachychurch.org/event/confirmation-mass-with-bishop-fisher/
LOCATION:St. Malachy\, 14115 E 14 Mile Rd\, Sterling Heights\, MI\, 48312\, United States
CATEGORIES:Event,Faith Formation,Faith Formation Service,Featured Event
ORGANIZER;CN="Julie Doral":MAILTO:ffs@stmalachychurch.org
END:VEVENT
BEGIN:VEVENT
DTSTART;TZID=America/Detroit:20260416T180000
DTEND;TZID=America/Detroit:20260416T190000
DTSTAMP:20260422T052704
CREATED:20260108T180216Z
LAST-MODIFIED:20260226T154657Z
UID:10016398-1776362400-1776366000@saintmalachychurch.org
SUMMARY:YAM Bible Study
DESCRIPTION:If you are in your 20’s or 30’s and would like to strengthen your faith\, please join our Young Adult Ministry for a weekly Bible Study every Thursday from 6pm – 7pm in the Youth Center!
URL:https://saintmalachychurch.org/event/yam-bible-study/2026-04-16/
LOCATION:Youth Center\, 14115 E 14 Mile Rd\, Sterling Heights\, MI\, 48312\, United States
CATEGORIES:Event,Featured Event,YAM
ORGANIZER;CN="Kelsey Carden":MAILTO:kcarden@stmalachychurch.org
END:VEVENT
BEGIN:VEVENT
DTSTART;TZID=America/Detroit:20260413T183000
DTEND;TZID=America/Detroit:20260413T203000
DTSTAMP:20260422T052704
CREATED:20260317T161341Z
LAST-MODIFIED:20260317T161424Z
UID:10016729-1776105000-1776112200@saintmalachychurch.org
SUMMARY:ROCK Spring Session Meeting
DESCRIPTION:
URL:https://saintmalachychurch.org/event/rock-spring-session-meeting/2026-04-13/
LOCATION:Youth Center\, 14115 E 14 Mile Rd\, Sterling Heights\, MI\, 48312\, United States
CATEGORIES:Event,Featured Event,ROCK,Youth Ministry
ORGANIZER;CN="Lauren Corbat":MAILTO:lcorbat@stmalachychurch.org
END:VEVENT
BEGIN:VEVENT
DTSTART;TZID=America/Detroit:20260413T183000
DTEND;TZID=America/Detroit:20260413T200000
DTSTAMP:20260422T052704
CREATED:20250102T171702Z
LAST-MODIFIED:20251204T190241Z
UID:10002516-1776105000-1776110400@saintmalachychurch.org
SUMMARY:Women's Club Meeting
DESCRIPTION:
URL:https://saintmalachychurch.org/event/womens-club-meeting-17/2026-04-13/
LOCATION:Currier Center\, 14115 E. 14 Mile Rd.\, Sterling Heights\, MI\, 48312\, United States
CATEGORIES:Event,Featured Event,Women's Club
END:VEVENT
BEGIN:VEVENT
DTSTART;TZID=America/Detroit:20260413T183000
DTEND;TZID=America/Detroit:20260413T193000
DTSTAMP:20260422T052704
CREATED:20250929T174459Z
LAST-MODIFIED:20250929T175502Z
UID:10016139-1776105000-1776108600@saintmalachychurch.org
SUMMARY:Confirmation Practice
DESCRIPTION:
URL:https://saintmalachychurch.org/event/confirmation-practice-2/
LOCATION:St. Malachy\, 14115 E 14 Mile Rd\, Sterling Heights\, MI\, 48312\, United States
CATEGORIES:Event,Faith Formation,Faith Formation Service,Featured Event
ORGANIZER;CN="Julie Doral":MAILTO:ffs@stmalachychurch.org
END:VEVENT
BEGIN:VEVENT
DTSTART;VALUE=DATE:20260413
DTEND;VALUE=DATE:20260414
DTSTAMP:20260422T052704
CREATED:20260312T174548Z
LAST-MODIFIED:20260312T174548Z
UID:10016727-1776038400-1776124799@saintmalachychurch.org
SUMMARY:Men's Club Scholarship DEADLINE
DESCRIPTION:The St. Malachy Men’s Club will be offering a limited number of College Scholarships to deserving members of St. Malachy Parish who are graduating High School seniors and who will be attending a college\, university\, community college or vocational school in the fall of 2026. \nApplications will be available in the Parish Office during regular business hours. Completed applications must be received via U.S. mail at the address shown below. Deadlines for receiving applications is April 13\, 2026. Late applications will NOT be accepted. \nPlease note that the application deadline is earlier than in years past. Please procure transcripts and letters of recommendation for the application early. Scholarships will be paid directly to the successful applicants.\n  \nQuestions regarding the scholarship process may be directed to Charlie Piscopink\, Scholarship Coordinator.
URL:https://saintmalachychurch.org/event/mens-club-scholarship-deadline-2/
LOCATION:MI
CATEGORIES:Event,Featured Event,Men's Club
END:VEVENT
BEGIN:VEVENT
DTSTART;TZID=America/Detroit:20260412T113000
DTEND;TZID=America/Detroit:20260412T123000
DTSTAMP:20260422T052704
CREATED:20251218T160226Z
LAST-MODIFIED:20251230T204635Z
UID:10016361-1775993400-1775997000@saintmalachychurch.org
SUMMARY:11:30am Contemporary Youth Mass
DESCRIPTION:Our middle- and high-school youth groups will gather together at the 11:30am Mass to celebrate Youth Mass!
URL:https://saintmalachychurch.org/event/youth-mass-15/2026-04-12/
LOCATION:St. Malachy\, 14115 E 14 Mile Rd\, Sterling Heights\, MI\, 48312\, United States
CATEGORIES:Event,Featured Event,FROG,ROCK,Youth Ministry
ORGANIZER;CN="Lauren Corbat":MAILTO:lcorbat@stmalachychurch.org
END:VEVENT
BEGIN:VEVENT
DTSTART;TZID=America/Detroit:20260411T110000
DTEND;TZID=America/Detroit:20260411T120000
DTSTAMP:20260422T052704
CREATED:20250929T174033Z
LAST-MODIFIED:20250929T174122Z
UID:10016134-1775905200-1775908800@saintmalachychurch.org
SUMMARY:First Communion Mass
DESCRIPTION:
URL:https://saintmalachychurch.org/event/first-communion-mass-3/
LOCATION:St. Malachy\, 14115 E 14 Mile Rd\, Sterling Heights\, MI\, 48312\, United States
CATEGORIES:Event,Faith Formation,Faith Formation Service,Featured Event
ORGANIZER;CN="Julie Doral":MAILTO:ffs@stmalachychurch.org
END:VEVENT
BEGIN:VEVENT
DTSTART;TZID=America/Detroit:20260409T183000
DTEND;TZID=America/Detroit:20260409T193000
DTSTAMP:20260422T052704
CREATED:20260312T155156Z
LAST-MODIFIED:20260312T155156Z
UID:10016724-1775759400-1775763000@saintmalachychurch.org
SUMMARY:Festival Committee Chair Meeting
DESCRIPTION:Our second Festival Committee Chair Meeting will be on Thursday\, April 9th at 6:30pm in the Currier Center. We also need volunteers to run our Polish Booth and Children’s Game Tent! If you were thinking of getting more involved in our parish\, this is a great way to do it! \nIf you have any questions\, please see Joe or Pam Schuirmann.
URL:https://saintmalachychurch.org/event/festival-committee-chair-meeting-7/
LOCATION:Currier Center\, 14115 E. 14 Mile Rd.\, Sterling Heights\, MI\, 48312\, United States
CATEGORIES:Event,Featured Event,Festival,Volunteer
ORGANIZER;CN="Pam Schuirmann":MAILTO:festival@stmalachychurch.org
END:VEVENT
BEGIN:VEVENT
DTSTART;TZID=America/Detroit:20260409T180000
DTEND;TZID=America/Detroit:20260409T190000
DTSTAMP:20260422T052704
CREATED:20260108T180216Z
LAST-MODIFIED:20260226T154657Z
UID:10016397-1775757600-1775761200@saintmalachychurch.org
SUMMARY:YAM Bible Study
DESCRIPTION:If you are in your 20’s or 30’s and would like to strengthen your faith\, please join our Young Adult Ministry for a weekly Bible Study every Thursday from 6pm – 7pm in the Youth Center!
URL:https://saintmalachychurch.org/event/yam-bible-study/2026-04-09/
LOCATION:Youth Center\, 14115 E 14 Mile Rd\, Sterling Heights\, MI\, 48312\, United States
CATEGORIES:Event,Featured Event,YAM
ORGANIZER;CN="Kelsey Carden":MAILTO:kcarden@stmalachychurch.org
END:VEVENT
BEGIN:VEVENT
DTSTART;TZID=America/Detroit:20260407T183000
DTEND;TZID=America/Detroit:20260407T193000
DTSTAMP:20260422T052704
CREATED:20250929T173913Z
LAST-MODIFIED:20250929T175347Z
UID:10016138-1775586600-1775590200@saintmalachychurch.org
SUMMARY:First Communion Practice
DESCRIPTION:
URL:https://saintmalachychurch.org/event/first-communion-practice-2/
LOCATION:St. Malachy\, 14115 E 14 Mile Rd\, Sterling Heights\, MI\, 48312\, United States
CATEGORIES:Event,Faith Formation,Faith Formation Service,Featured Event
ORGANIZER;CN="Julie Doral":MAILTO:ffs@stmalachychurch.org
END:VEVENT
BEGIN:VEVENT
DTSTART;TZID=America/Detroit:20260404T180000
DTEND;TZID=America/Detroit:20260404T210000
DTSTAMP:20260422T052704
CREATED:20260129T195002Z
LAST-MODIFIED:20260225T150830Z
UID:10016677-1775325600-1775336400@saintmalachychurch.org
SUMMARY:Easter Vigil Mass - 6pm (Afterglow to Follow)
DESCRIPTION:Join us for a beautiful evening of Sacraments\, professions of faith\, fellowship\, and celebration of the risen Savior! This year\, our Easter Vigil Mass will begin at 6pm! Get there early to ensure you have a seat! There will be an afterglow to follow this wonderful evening!
URL:https://saintmalachychurch.org/event/easter-vigil-mass-6pm/
LOCATION:St. Malachy\, 14115 E 14 Mile Rd\, Sterling Heights\, MI\, 48312\, United States
CATEGORIES:Event,Featured Event,Holy Week
ORGANIZER;CN="St. Malachy":MAILTO:contact@stmalachychurch.org
END:VEVENT
BEGIN:VEVENT
DTSTART;TZID=America/Detroit:20260404T120000
DTEND;TZID=America/Detroit:20260404T123000
DTSTAMP:20260422T052704
CREATED:20250314T165557Z
LAST-MODIFIED:20260129T195220Z
UID:10013721-1775304000-1775305800@saintmalachychurch.org
SUMMARY:Holy Saturday Basket Blessing
DESCRIPTION:Bring your baskets filled with your Easter goodies to be blessed by Fr. Joe on Holy Saturday (April 4th) at 12pm in the church! This blessing is loved by many\, and people get so creative! Bring a basket filled with food\, drinks\, gifts\, or whatever Easter traditions your family follows for Fr. Joe to bless!
URL:https://saintmalachychurch.org/event/holy-saturday-basket-blessing/
LOCATION:St. Malachy\, 14115 E 14 Mile Rd\, Sterling Heights\, MI\, 48312\, United States
CATEGORIES:Event,Featured Event,Lent
ORGANIZER;CN="St. Malachy":MAILTO:contact@stmalachychurch.org
END:VEVENT
BEGIN:VEVENT
DTSTART;TZID=America/Detroit:20260403T190000
DTEND;TZID=America/Detroit:20260403T200000
DTSTAMP:20260422T052704
CREATED:20260213T191451Z
LAST-MODIFIED:20260213T191452Z
UID:10016710-1775242800-1775246400@saintmalachychurch.org
SUMMARY:Good Friday Tenebrae Service
DESCRIPTION:Interested in a meditative\, yet powerful\, ending to Good Friday? There will be a beautiful Tenebrae Service at 7pm on April 3rd to tell the story of Jesus’ agonizing final days. During a Tenebrae Service\, candles are extinguished gradually\, as scripture and music tell the story of Holy Week. At the end of the service\, a loud noise represents the chaos following Christ’s death. \nWe encourage you to consider coming to this beautiful service to open your hearts to the Passion of Jesus!
URL:https://saintmalachychurch.org/event/good-friday-tenebrae-service/
LOCATION:St. Malachy\, 14115 E 14 Mile Rd\, Sterling Heights\, MI\, 48312\, United States
CATEGORIES:Event,Featured Event,Holy Week,Lent,Tenebrae
END:VEVENT
BEGIN:VEVENT
DTSTART;TZID=America/Detroit:20260403T150000
DTEND;TZID=America/Detroit:20260403T190000
DTSTAMP:20260422T052704
CREATED:20260212T192138Z
LAST-MODIFIED:20260212T192320Z
UID:10016695-1775228400-1775242800@saintmalachychurch.org
SUMMARY:Lenten Fish Fry
DESCRIPTION:Our famous St. Malachy Fish Fries start on Ash Wednesday (4pm-7pm) and continue every Friday during Lent (4pm-7pm.) \n*Please note that on Good Friday ONLY\, the hours will be extended to 3pm-7pm.  \nWe are also in need of baked goods for our dinners! Please drop your donations off in the Currier Center starting the morning of Ash Wednesday and every Friday morning during Lent!
URL:https://saintmalachychurch.org/event/fish-fry-4pm-7pm/2026-04-03/
LOCATION:Currier Center\, 14115 E. 14 Mile Rd.\, Sterling Heights\, MI\, 48312\, United States
CATEGORIES:Event,Featured Event,Fish Fry,Lent,Men's Club,Support,Volunteer,Women's Club
ORGANIZER;CN="St. Malachy Men's Club":MAILTO:mensclub@stmalachychurch.org
END:VEVENT
BEGIN:VEVENT
DTSTART;TZID=America/Detroit:20260403T130000
DTEND;TZID=America/Detroit:20260403T140000
DTSTAMP:20260422T052704
CREATED:20260126T173640Z
LAST-MODIFIED:20260126T173640Z
UID:10016663-1775221200-1775224800@saintmalachychurch.org
SUMMARY:Good Friday Service
DESCRIPTION:Join us on Friday\, April 3rd at 1pm for a beautiful Good Friday Service\, honoring the life of Christ and His sacrifice to us here on earth! This service will be live-streamed for those unable to attend in-person!
URL:https://saintmalachychurch.org/event/good-friday-service-3/
LOCATION:St. Malachy\, 14115 E 14 Mile Rd\, Sterling Heights\, MI\, 48312\, United States
CATEGORIES:Event,Featured Event,Holy Week,Lent
ORGANIZER;CN="St. Malachy":MAILTO:contact@stmalachychurch.org
END:VEVENT
BEGIN:VEVENT
DTSTART;TZID=America/Detroit:20260403T120000
DTEND;TZID=America/Detroit:20260403T130000
DTSTAMP:20260422T052704
CREATED:20251231T123053Z
LAST-MODIFIED:20260126T171214Z
UID:10016373-1775217600-1775221200@saintmalachychurch.org
SUMMARY:Good Friday Living Stations of the Cross Performance
DESCRIPTION:
URL:https://saintmalachychurch.org/event/good-friday-living-stations-of-the-cross-performance/
LOCATION:St. Malachy\, 14115 E 14 Mile Rd\, Sterling Heights\, MI\, 48312\, United States
CATEGORIES:Event,Featured Event,FROG,ROCK,Youth Ministry
ORGANIZER;CN="Rachel Nicholson":MAILTO:frog@stmalachychurch.org
END:VEVENT
BEGIN:VEVENT
DTSTART;TZID=America/Detroit:20260402T190000
DTEND;TZID=America/Detroit:20260402T230000
DTSTAMP:20260422T052704
CREATED:20260126T163939Z
LAST-MODIFIED:20260319T155533Z
UID:10016648-1775156400-1775170800@saintmalachychurch.org
SUMMARY:Holy Thursday Mass & Adoration
DESCRIPTION:Join us on Holy Thursday to celebrate the Last Supper! We will begin the evening at 7pm with a beautiful Mass\, followed by Eucharistic Adoration until 11pm. The church will remain open until the Reposition of the Blessed Sacrament. \n*These events will be live-streamed!
URL:https://saintmalachychurch.org/event/holy-thursday-mass-5/
LOCATION:St. Malachy\, 14115 E 14 Mile Rd\, Sterling Heights\, MI\, 48312\, United States
CATEGORIES:Adoration,Event,Featured Event,Lent,Live Stream,Mass,Volunteer
ORGANIZER;CN="St. Malachy":MAILTO:contact@stmalachychurch.org
END:VEVENT
BEGIN:VEVENT
DTSTART;TZID=America/Detroit:20260329T160000
DTEND;TZID=America/Detroit:20260329T170000
DTSTAMP:20260422T052704
CREATED:20260213T190843Z
LAST-MODIFIED:20260213T190844Z
UID:10016709-1774800000-1774803600@saintmalachychurch.org
SUMMARY:Lenten Sketches
DESCRIPTION:On Palm Sunday\, we will hold our annual Lenten Sketches. It is a beautiful illustration of Christ’s final days on earth through the gift of music. This program will begin at 4pm on Sunday\, March 29th!
URL:https://saintmalachychurch.org/event/lenten-sketches-3/
LOCATION:St. Malachy\, 14115 E 14 Mile Rd\, Sterling Heights\, MI\, 48312\, United States
CATEGORIES:Event,Featured Event,Holy Week,Lent,Music Ministry
ORGANIZER;CN="Eric Taylor":MAILTO:etaylor@stmalachychurch.org
END:VEVENT
BEGIN:VEVENT
DTSTART;TZID=America/Detroit:20260327T190000
DTEND;TZID=America/Detroit:20260327T200000
DTSTAMP:20260422T052704
CREATED:20260212T194102Z
LAST-MODIFIED:20260212T194103Z
UID:10016701-1774638000-1774641600@saintmalachychurch.org
SUMMARY:Stations of the Cross
DESCRIPTION:If you are looking for a way to strengthen your faith during Lent\, join us every Friday evening from February 20th – March 27th at 7pm in the church for Stations of the Cross!
URL:https://saintmalachychurch.org/event/stations-of-the-cross-4/2026-03-27/
LOCATION:St. Malachy\, 14115 E 14 Mile Rd\, Sterling Heights\, MI\, 48312\, United States
CATEGORIES:Event,Featured Event,Lent,Stations of the Cross,Volunteer
END:VEVENT
BEGIN:VEVENT
DTSTART;TZID=America/Detroit:20260327T160000
DTEND;TZID=America/Detroit:20260327T190000
DTSTAMP:20260422T052704
CREATED:20260212T192138Z
LAST-MODIFIED:20260212T192320Z
UID:10016694-1774627200-1774638000@saintmalachychurch.org
SUMMARY:Lenten Fish Fry
DESCRIPTION:Our famous St. Malachy Fish Fries start on Ash Wednesday (4pm-7pm) and continue every Friday during Lent (4pm-7pm.) \n*Please note that on Good Friday ONLY\, the hours will be extended to 3pm-7pm.  \nWe are also in need of baked goods for our dinners! Please drop your donations off in the Currier Center starting the morning of Ash Wednesday and every Friday morning during Lent!
URL:https://saintmalachychurch.org/event/fish-fry-4pm-7pm/2026-03-27/
LOCATION:Currier Center\, 14115 E. 14 Mile Rd.\, Sterling Heights\, MI\, 48312\, United States
CATEGORIES:Event,Featured Event,Fish Fry,Lent,Men's Club,Support,Volunteer,Women's Club
ORGANIZER;CN="St. Malachy Men's Club":MAILTO:mensclub@stmalachychurch.org
END:VEVENT
BEGIN:VEVENT
DTSTART;TZID=America/Detroit:20260326T180000
DTEND;TZID=America/Detroit:20260326T190000
DTSTAMP:20260422T052704
CREATED:20260108T180216Z
LAST-MODIFIED:20260226T154657Z
UID:10016395-1774548000-1774551600@saintmalachychurch.org
SUMMARY:YAM Bible Study
DESCRIPTION:If you are in your 20’s or 30’s and would like to strengthen your faith\, please join our Young Adult Ministry for a weekly Bible Study every Thursday from 6pm – 7pm in the Youth Center!
URL:https://saintmalachychurch.org/event/yam-bible-study/2026-03-26/
LOCATION:Youth Center\, 14115 E 14 Mile Rd\, Sterling Heights\, MI\, 48312\, United States
CATEGORIES:Event,Featured Event,YAM
ORGANIZER;CN="Kelsey Carden":MAILTO:kcarden@stmalachychurch.org
END:VEVENT
BEGIN:VEVENT
DTSTART;TZID=America/Detroit:20260325T184500
DTEND;TZID=America/Detroit:20260325T200000
DTSTAMP:20260422T052704
CREATED:20250102T172545Z
LAST-MODIFIED:20251113T194624Z
UID:10002575-1774464300-1774468800@saintmalachychurch.org
SUMMARY:Men's Club Meeting
DESCRIPTION:Join the St. Malachy Men’s club for a prayer service beginning at 6:45pm\, followed by its meeting! This group hosts many popular events such as the Fish Fry\, Coney Sales\, Reverse Raffle\, and more! Members of the Men’s Club meet on the last Wednesday of every month in the Currier Center at 6:45pm! Please contact Men’s Club President Joe Schuirmann for any questions!
URL:https://saintmalachychurch.org/event/mens-club-meeting-20/2026-03-25/
LOCATION:Currier Center\, 14115 E. 14 Mile Rd.\, Sterling Heights\, MI\, 48312\, United States
CATEGORIES:Event,Featured Event,Men's Club
ORGANIZER;CN="St. Malachy Men's Club":MAILTO:mensclub@stmalachychurch.org
END:VEVENT
BEGIN:VEVENT
DTSTART;TZID=America/Detroit:20260324T180000
DTEND;TZID=America/Detroit:20260324T200000
DTSTAMP:20260422T052704
CREATED:20250929T173404Z
LAST-MODIFIED:20260317T161638Z
UID:10016132-1774375200-1774382400@saintmalachychurch.org
SUMMARY:FFS Living Stations of the Cross Performance
DESCRIPTION:CLICK HERE FOR THE FAITH FORMATION SCHEDULE! \nCLICK HERE FOR THE YOUTH MINISTRY SCHEDULE!  \n*For Youth Ministry (FROCK)\, please arrive at 6pm. 
URL:https://saintmalachychurch.org/event/faith-formation-living-stations-of-the-cross-performance/
LOCATION:St. Malachy\, 14115 E 14 Mile Rd\, Sterling Heights\, MI\, 48312\, United States
CATEGORIES:Event,Faith Formation,Faith Formation Service,Featured Event,FROG,ROCK,Youth Ministry
ORGANIZER;CN="Julie Doral":MAILTO:ffs@stmalachychurch.org
END:VEVENT
BEGIN:VEVENT
DTSTART;TZID=America/Detroit:20260323T190000
DTEND;TZID=America/Detroit:20260323T210000
DTSTAMP:20260422T052704
CREATED:20260225T160921Z
LAST-MODIFIED:20260225T160922Z
UID:10016711-1774292400-1774299600@saintmalachychurch.org
SUMMARY:Lenten Penance Service @ St. Thecla
DESCRIPTION:Fr. Joe\, along with the other priests in our area\, will be attending a Family of Parishes Lenten Penance Service on Monday\, March 23rd at 7pm \nMake the most of this Lent and come seek penance at the Sacrament of Reconciliation!
URL:https://saintmalachychurch.org/event/lenten-penance-service-st-thecla/
LOCATION:St. Thecla\, 20740 S Nunneley Rd\, Clinton Twp\, MI\, 48035\, United States
CATEGORIES:Event,Families of Parishes,Featured Event
END:VEVENT
BEGIN:VEVENT
DTSTART;TZID=America/Detroit:20260322T160000
DTEND;TZID=America/Detroit:20260322T173000
DTSTAMP:20260422T052704
CREATED:20260312T181608Z
LAST-MODIFIED:20260312T181953Z
UID:10016728-1774195200-1774200600@saintmalachychurch.org
SUMMARY:Metropolitan Detroit Chorale - In Light and Illumination
DESCRIPTION:Join us on Sunday\, March 22nd at 4pm for a candle-lit chorale experience performed by the Metropolitan Detroit Chorale! Tickets can be purchased through their website or will be available at the door!
URL:https://saintmalachychurch.org/event/metropolitan-detroit-chorale-in-light-and-illumination/
LOCATION:St. Malachy\, 14115 E 14 Mile Rd\, Sterling Heights\, MI\, 48312\, United States
CATEGORIES:Event,Featured Event
END:VEVENT
BEGIN:VEVENT
DTSTART;TZID=America/Detroit:20260322T123000
DTEND;TZID=America/Detroit:20260322T140000
DTSTAMP:20260422T052704
CREATED:20251230T203715Z
LAST-MODIFIED:20251230T203716Z
UID:10016369-1774182600-1774188000@saintmalachychurch.org
SUMMARY:Living Stations of the Cross Practice
DESCRIPTION:
URL:https://saintmalachychurch.org/event/living-stations-of-the-cross-practice-4/2026-03-22/
LOCATION:St. Malachy\, 14115 E 14 Mile Rd\, Sterling Heights\, MI\, 48312\, United States
CATEGORIES:Event,Featured Event,FROG,ROCK,Youth Ministry
ORGANIZER;CN="Rachel Nicholson":MAILTO:frog@stmalachychurch.org
END:VEVENT
END:VCALENDAR