BEGIN:VCALENDAR
VERSION:2.0
PRODID:-//St. Malachy - ECPv6.15.18//NONSGML v1.0//EN
CALSCALE:GREGORIAN
METHOD:PUBLISH
X-WR-CALNAME:St. Malachy
X-ORIGINAL-URL:https://saintmalachychurch.org
X-WR-CALDESC:Events for St. Malachy
REFRESH-INTERVAL;VALUE=DURATION:PT1H
X-Robots-Tag:noindex
X-PUBLISHED-TTL:PT1H
BEGIN:VTIMEZONE
TZID:America/Detroit
BEGIN:DAYLIGHT
TZOFFSETFROM:-0500
TZOFFSETTO:-0400
TZNAME:EDT
DTSTART:20240310T070000
END:DAYLIGHT
BEGIN:STANDARD
TZOFFSETFROM:-0400
TZOFFSETTO:-0500
TZNAME:EST
DTSTART:20241103T060000
END:STANDARD
BEGIN:DAYLIGHT
TZOFFSETFROM:-0500
TZOFFSETTO:-0400
TZNAME:EDT
DTSTART:20250309T070000
END:DAYLIGHT
BEGIN:STANDARD
TZOFFSETFROM:-0400
TZOFFSETTO:-0500
TZNAME:EST
DTSTART:20251102T060000
END:STANDARD
BEGIN:DAYLIGHT
TZOFFSETFROM:-0500
TZOFFSETTO:-0400
TZNAME:EDT
DTSTART:20260308T070000
END:DAYLIGHT
BEGIN:STANDARD
TZOFFSETFROM:-0400
TZOFFSETTO:-0500
TZNAME:EST
DTSTART:20261101T060000
END:STANDARD
END:VTIMEZONE
BEGIN:VEVENT
DTSTART;TZID=America/Detroit:20250501T190000
DTEND;TZID=America/Detroit:20250501T200000
DTSTAMP:20260422T111526
CREATED:20240904T130827Z
LAST-MODIFIED:20250214T160137Z
UID:10001114-1746126000-1746129600@saintmalachychurch.org
SUMMARY:Confirmation Mass W/ Bishop Fisher
DESCRIPTION:Confirmation Mass W/ Bishop Fisher – May 1st @7pm\n*This Mass will also be live-streamed for those unable to make it! 
URL:https://saintmalachychurch.org/event/confirmation-mass-w-bishop-fisher/
LOCATION:St. Malachy\, 14115 E 14 Mile Rd\, Sterling Heights\, MI\, 48312\, United States
CATEGORIES:Event,Faith Formation,Faith Formation Service,Featured Event
ORGANIZER;CN="Julie Doral":MAILTO:ffs@stmalachychurch.org
END:VEVENT
BEGIN:VEVENT
DTSTART;TZID=America/Detroit:20250502T103000
DTEND;TZID=America/Detroit:20250502T113000
DTSTAMP:20260422T111526
CREATED:20250214T151758Z
LAST-MODIFIED:20260126T171346Z
UID:10010418-1746181800-1746185400@saintmalachychurch.org
SUMMARY:First Friday Devotions
DESCRIPTION:First Friday Devotions will be held every first Friday of the month immediately following 9:30am Daily Mass. All are welcome and encouraged to attend these faith-filled spiritual mornings!
URL:https://saintmalachychurch.org/event/first-friday-devotions-3/2025-05-02/
LOCATION:St. Malachy\, 14115 E 14 Mile Rd\, Sterling Heights\, MI\, 48312\, United States
CATEGORIES:Event,Featured Event,First Friday Devotions,Mass
ORGANIZER;CN="St. Malachy":MAILTO:contact@stmalachychurch.org
END:VEVENT
BEGIN:VEVENT
DTSTART;TZID=America/Detroit:20250503T110000
DTEND;TZID=America/Detroit:20250503T120000
DTSTAMP:20260422T111526
CREATED:20240904T130403Z
LAST-MODIFIED:20250214T160243Z
UID:10001113-1746270000-1746273600@saintmalachychurch.org
SUMMARY:First Holy Communion Mass
DESCRIPTION:May 3rd\, 11:00am\n*This Mass will also be live-streamed for those unable to make it.
URL:https://saintmalachychurch.org/event/first-holy-communion-mass/
LOCATION:St. Malachy\, 14115 E 14 Mile Rd\, Sterling Heights\, MI\, 48312\, United States
CATEGORIES:Event,Faith Formation,Faith Formation Service,Featured Event
ORGANIZER;CN="Julie Doral":MAILTO:ffs@stmalachychurch.org
END:VEVENT
BEGIN:VEVENT
DTSTART;TZID=America/Detroit:20250505T180000
DTEND;TZID=America/Detroit:20250505T200000
DTSTAMP:20260422T111526
CREATED:20250206T165148Z
LAST-MODIFIED:20250214T155600Z
UID:10009191-1746468000-1746475200@saintmalachychurch.org
SUMMARY:Christian Service Ministry Meeting
DESCRIPTION:Our Christian Service Ministry will meet on the following Mondays at 6pm in the Gathering Space: \n\nFebruary 3rd\nMarch 3rd\nApril 7th\nMay 5th\nJune 2nd\n\nPlease join us if you enjoy helping those in need and want to know more about this ministry!
URL:https://saintmalachychurch.org/event/christian-service-ministry-meeting-8/2025-05-05/
LOCATION:Gathering Space\, 14115 E. 14 Mile Rd\, Sterling heights\, MI\, 48312\, United States
CATEGORIES:Christian Service Ministry,Event,Featured Event
ORGANIZER;CN="St. Malachy":MAILTO:contact@stmalachychurch.org
END:VEVENT
BEGIN:VEVENT
DTSTART;TZID=America/Detroit:20250505T183000
DTEND;TZID=America/Detroit:20250505T203000
DTSTAMP:20260422T111527
CREATED:20250128T201840Z
LAST-MODIFIED:20250128T201840Z
UID:10007954-1746469800-1746477000@saintmalachychurch.org
SUMMARY:FROG - 5th Grader Meeting
DESCRIPTION:Join the FROG Ministry in the Youth Center on Monday\, May 5th for the annual 5th Grader Meeting! This is a chance for those heading into 6th grade to get acclimated and see what FROG is all about! There will be lots of fun activities\, snacks\, and games\, so bring your friends for a wonderful time! \n6:30pm-8:30pm in the Youth Center. Contact FROG@stmalachychurch.org for any questions. Text MALACHYFROG to 84576 to sign up for text reminders!
URL:https://saintmalachychurch.org/event/frog-5th-grader-meeting/
LOCATION:Youth Center\, 14115 E 14 Mile Rd\, Sterling Heights\, MI\, 48312\, United States
CATEGORIES:Event,FROG,Youth Ministry
ORGANIZER;CN="Rachel Nicholson":MAILTO:frog@stmalachychurch.org
END:VEVENT
BEGIN:VEVENT
DTSTART;TZID=America/Detroit:20250512T183000
DTEND;TZID=America/Detroit:20250512T200000
DTSTAMP:20260422T111527
CREATED:20250102T171702Z
LAST-MODIFIED:20251204T190241Z
UID:10002505-1747074600-1747080000@saintmalachychurch.org
SUMMARY:Women's Club Meeting
DESCRIPTION:
URL:https://saintmalachychurch.org/event/womens-club-meeting-17/2025-05-12/
LOCATION:Currier Center\, 14115 E. 14 Mile Rd.\, Sterling Heights\, MI\, 48312\, United States
CATEGORIES:Event,Featured Event,Women's Club
END:VEVENT
BEGIN:VEVENT
DTSTART;TZID=America/Detroit:20250516T120000
DTEND;TZID=America/Detroit:20250516T180000
DTSTAMP:20260422T111527
CREATED:20250501T163346Z
LAST-MODIFIED:20250501T163516Z
UID:10015641-1747396800-1747418400@saintmalachychurch.org
SUMMARY:American Red Cross Blood Drive
DESCRIPTION:We will be hosting the American Red Cross on Friday\, May 16th from 12pm—6pm in the Currier Center. We need your help to make this blood drive successful! Please call the Red Cross\, or go online at www.redcross.org to make an appointment!
URL:https://saintmalachychurch.org/event/american-red-cross-blood-drive-2/
LOCATION:Currier Center\, 14115 E. 14 Mile Rd.\, Sterling Heights\, MI\, 48312\, United States
CATEGORIES:Blood Drive,Donation,Event,Featured Event,Volunteer
END:VEVENT
BEGIN:VEVENT
DTSTART;TZID=America/Detroit:20250519T183000
DTEND;TZID=America/Detroit:20250519T203000
DTSTAMP:20260422T111527
CREATED:20250128T202146Z
LAST-MODIFIED:20250128T202146Z
UID:10007955-1747679400-1747686600@saintmalachychurch.org
SUMMARY:FROG - What's In The Box Meeting
DESCRIPTION:ALL MIDDLE SCHOOLERS are welcome to join the FROG Ministry in the Youth Center on Monday\, May 19th for a special meeting called\, “What’s in the Box?” This will be a fun one\, so you won’t want to miss out! \n6:30pm-8:30pm in the Youth Center. Contact FROG@stmalachychurch.org for any questions. Text MALACHYFROG to 84576 to sign up for text reminders!\n 
URL:https://saintmalachychurch.org/event/frog-whats-in-the-box-meeting/
LOCATION:Youth Center\, 14115 E 14 Mile Rd\, Sterling Heights\, MI\, 48312\, United States
CATEGORIES:Event,FROG,Youth Ministry
ORGANIZER;CN="Rachel Nicholson":MAILTO:frog@stmalachychurch.org
END:VEVENT
BEGIN:VEVENT
DTSTART;TZID=America/Detroit:20250520T190000
DTEND;TZID=America/Detroit:20250520T203000
DTSTAMP:20260422T111527
CREATED:20250519T135746Z
LAST-MODIFIED:20250519T135747Z
UID:10015907-1747767600-1747773000@saintmalachychurch.org
SUMMARY:Prayer Ministry Meeting
DESCRIPTION:The Prayer Ministry will meet on Tuesday\, May 20th at 7pm in the Gathering Space. All are welcome & encouraged to join us as we lift our prayers to the Lord!
URL:https://saintmalachychurch.org/event/prayer-ministry-meeting-24/
LOCATION:Gathering Space\, 14115 E. 14 Mile Rd\, Sterling heights\, MI\, 48312\, United States
CATEGORIES:Event,Featured Event,Prayer Ministry
ORGANIZER;CN="St. Malachy":MAILTO:contact@stmalachychurch.org
END:VEVENT
BEGIN:VEVENT
DTSTART;VALUE=DATE:20250526
DTEND;VALUE=DATE:20250527
DTSTAMP:20260422T111527
CREATED:20250522T143352Z
LAST-MODIFIED:20250522T143352Z
UID:10015908-1748217600-1748303999@saintmalachychurch.org
SUMMARY:OFFICE CLOSED!
DESCRIPTION:The Parish Office and Faith Formation Office will be closed on Monday\, May 26th in observance of Memorial Day. Mass will be held at 9:30 am!
URL:https://saintmalachychurch.org/event/office-closed-2/
LOCATION:St. Malachy\, 14115 E 14 Mile Rd\, Sterling Heights\, MI\, 48312\, United States
CATEGORIES:Event,Faith Formation,Faith Formation Service,Featured Event
ORGANIZER;CN="St. Malachy":MAILTO:contact@stmalachychurch.org
END:VEVENT
BEGIN:VEVENT
DTSTART;TZID=America/Detroit:20250528T184500
DTEND;TZID=America/Detroit:20250528T200000
DTSTAMP:20260422T111527
CREATED:20250102T172545Z
LAST-MODIFIED:20251113T194624Z
UID:10002565-1748457900-1748462400@saintmalachychurch.org
SUMMARY:Men's Club Meeting
DESCRIPTION:Join the St. Malachy Men’s club for a prayer service beginning at 6:45pm\, followed by its meeting! This group hosts many popular events such as the Fish Fry\, Coney Sales\, Reverse Raffle\, and more! Members of the Men’s Club meet on the last Wednesday of every month in the Currier Center at 6:45pm! Please contact Men’s Club President Joe Schuirmann for any questions!
URL:https://saintmalachychurch.org/event/mens-club-meeting-20/2025-05-28/
LOCATION:Currier Center\, 14115 E. 14 Mile Rd.\, Sterling Heights\, MI\, 48312\, United States
CATEGORIES:Event,Featured Event,Men's Club
ORGANIZER;CN="St. Malachy Men's Club":MAILTO:mensclub@stmalachychurch.org
END:VEVENT
END:VCALENDAR