BEGIN:VCALENDAR
VERSION:2.0
PRODID:-//St. Malachy - ECPv6.15.18//NONSGML v1.0//EN
CALSCALE:GREGORIAN
METHOD:PUBLISH
X-WR-CALNAME:St. Malachy
X-ORIGINAL-URL:https://saintmalachychurch.org
X-WR-CALDESC:Events for St. Malachy
REFRESH-INTERVAL;VALUE=DURATION:PT1H
X-Robots-Tag:noindex
X-PUBLISHED-TTL:PT1H
BEGIN:VTIMEZONE
TZID:America/Detroit
BEGIN:DAYLIGHT
TZOFFSETFROM:-0500
TZOFFSETTO:-0400
TZNAME:EDT
DTSTART:20240310T070000
END:DAYLIGHT
BEGIN:STANDARD
TZOFFSETFROM:-0400
TZOFFSETTO:-0500
TZNAME:EST
DTSTART:20241103T060000
END:STANDARD
BEGIN:DAYLIGHT
TZOFFSETFROM:-0500
TZOFFSETTO:-0400
TZNAME:EDT
DTSTART:20250309T070000
END:DAYLIGHT
BEGIN:STANDARD
TZOFFSETFROM:-0400
TZOFFSETTO:-0500
TZNAME:EST
DTSTART:20251102T060000
END:STANDARD
BEGIN:DAYLIGHT
TZOFFSETFROM:-0500
TZOFFSETTO:-0400
TZNAME:EDT
DTSTART:20260308T070000
END:DAYLIGHT
BEGIN:STANDARD
TZOFFSETFROM:-0400
TZOFFSETTO:-0500
TZNAME:EST
DTSTART:20261101T060000
END:STANDARD
END:VTIMEZONE
BEGIN:VEVENT
DTSTART;TZID=America/Detroit:20250202T090000
DTEND;TZID=America/Detroit:20250202T191500
DTSTAMP:20260420T104440
CREATED:20241206T163957Z
LAST-MODIFIED:20250102T154921Z
UID:10001131-1738486800-1738523700@saintmalachychurch.org
SUMMARY:ROCK: RISE Detroit
DESCRIPTION:On February 2nd\, ROCK will be attending RISE Detroit\, a day-long conference for high schoolers! This event will include keynote talks\, powerful praise and worship\, two workshops\, small group discussions\, and Mass! Lunch and dinner will also be provided! \nPlease contact lcorbat@stmalachychurch.org for more information!
URL:https://saintmalachychurch.org/event/rock-rise-detroit/
LOCATION:Mercy High School\, 29300 W Eleven Mile Rd\, Farmington Hills\, MI\, 48336\, United States
CATEGORIES:Adoration,Event,Featured Event,ROCK,Youth Ministry
ORGANIZER;CN="Lauren Corbat":MAILTO:lcorbat@stmalachychurch.org
END:VEVENT
BEGIN:VEVENT
DTSTART;TZID=America/Detroit:20250202T123000
DTEND;TZID=America/Detroit:20250202T123000
DTSTAMP:20260420T104440
CREATED:20240904T125326Z
LAST-MODIFIED:20250214T123528Z
UID:10001130-1738499400-1738499400@saintmalachychurch.org
SUMMARY:First Communion Parent/Child Meeting
DESCRIPTION:First Communion Parent/Child Meeting after 11:30am Mass!
URL:https://saintmalachychurch.org/event/first-communion-parent-child-meeting/
LOCATION:St. Malachy\, 14115 E 14 Mile Rd\, Sterling Heights\, MI\, 48312\, United States
CATEGORIES:Event,Faith Formation,Faith Formation Service
ORGANIZER;CN="Julie Doral":MAILTO:ffs@stmalachychurch.org
END:VEVENT
BEGIN:VEVENT
DTSTART;TZID=America/Detroit:20250203T080000
DTEND;TZID=America/Detroit:20250203T170000
DTSTAMP:20260420T104440
CREATED:20250206T165148Z
LAST-MODIFIED:20250214T155600Z
UID:10009193-1738569600-1738602000@saintmalachychurch.org
SUMMARY:Christian Service Ministry Meeting
DESCRIPTION:Our Christian Service Ministry will meet on the following Mondays at 6pm in the Gathering Space: \n\nFebruary 3rd\nMarch 3rd\nApril 7th\nMay 5th\nJune 2nd\n\nPlease join us if you enjoy helping those in need and want to know more about this ministry!
URL:https://saintmalachychurch.org/event/christian-service-ministry-meeting-8/2025-02-03/
LOCATION:Gathering Space\, 14115 E. 14 Mile Rd\, Sterling heights\, MI\, 48312\, United States
CATEGORIES:Christian Service Ministry,Event,Featured Event
ORGANIZER;CN="St. Malachy":MAILTO:contact@stmalachychurch.org
END:VEVENT
BEGIN:VEVENT
DTSTART;TZID=America/Detroit:20250203T090000
DTEND;TZID=America/Detroit:20250203T130000
DTSTAMP:20260420T104440
CREATED:20250123T165124Z
LAST-MODIFIED:20250123T165241Z
UID:10006826-1738573200-1738587600@saintmalachychurch.org
SUMMARY:Pierogi Making
DESCRIPTION:Do you want to help out your St. Malachy Community? Volunteer to make pierogi on the following Mondays at 9am in the Small Hall: \n\nJanuary 27th\nFebruary 3rd\nFebruary 10th\nFebruary 17th\nFebruary 24th\n\n\nThese pierogi will be made and prepared for purchase at the upcoming Lenten Fish Fries! No experience is needed\, we’ll teach you how to make them! We hope to see you there!😁
URL:https://saintmalachychurch.org/event/pierogi-making-monday/2025-02-03/
LOCATION:Currier Center\, 14115 E. 14 Mile Rd.\, Sterling Heights\, MI\, 48312\, United States
CATEGORIES:Event,Pierogi,Volunteer
END:VEVENT
BEGIN:VEVENT
DTSTART;TZID=America/Detroit:20250205T180000
DTEND;TZID=America/Detroit:20250205T200000
DTSTAMP:20260420T104440
CREATED:20241206T154339Z
LAST-MODIFIED:20250102T154843Z
UID:10001129-1738778400-1738785600@saintmalachychurch.org
SUMMARY:ROCK Homework Night @ Starbucks
DESCRIPTION:Our ROCK Ministry will be meeting at Starbucks on 15 and Utica on February 5th from 6pm-8pm for Homework Night! \n*Permission slips are required to join! If you haven’t filled one out to attend a Homework Night in the past\, please submit one to Lauren Corbat!
URL:https://saintmalachychurch.org/event/rock-homework-night-starbucks-2/
LOCATION:Starbucks\, 34725 Utica Rd\, Clinton Twp\, MI\, 48035\, United States
CATEGORIES:Event,ROCK,Youth Ministry
ORGANIZER;CN="Lauren Corbat":MAILTO:lcorbat@stmalachychurch.org
END:VEVENT
BEGIN:VEVENT
DTSTART;TZID=America/Detroit:20250207T120000
DTEND;TZID=America/Detroit:20250207T180000
DTSTAMP:20260420T104440
CREATED:20250128T183223Z
LAST-MODIFIED:20250128T183309Z
UID:10007945-1738929600-1738951200@saintmalachychurch.org
SUMMARY:American Red Cross Blood Drive
DESCRIPTION:Join us on Friday\, February 7th\, in the Currier Center from 12pm-6pm to donate blood! We are hosting the American Red Cross in an effort to serve our community through giving new opportunities of life! Sign up for a spot by calling the American Red Cross at 1-800-733-2767 or visit www.redcross.org.
URL:https://saintmalachychurch.org/event/american-red-cross-blood-drive/
LOCATION:Currier Center\, 14115 E. 14 Mile Rd.\, Sterling Heights\, MI\, 48312\, United States
CATEGORIES:Blood Drive,Donation,Event,Featured Event
END:VEVENT
BEGIN:VEVENT
DTSTART;TZID=America/Detroit:20250210T090000
DTEND;TZID=America/Detroit:20250210T130000
DTSTAMP:20260420T104440
CREATED:20250123T165124Z
LAST-MODIFIED:20250123T165241Z
UID:10006827-1739178000-1739192400@saintmalachychurch.org
SUMMARY:Pierogi Making
DESCRIPTION:Do you want to help out your St. Malachy Community? Volunteer to make pierogi on the following Mondays at 9am in the Small Hall: \n\nJanuary 27th\nFebruary 3rd\nFebruary 10th\nFebruary 17th\nFebruary 24th\n\n\nThese pierogi will be made and prepared for purchase at the upcoming Lenten Fish Fries! No experience is needed\, we’ll teach you how to make them! We hope to see you there!😁
URL:https://saintmalachychurch.org/event/pierogi-making-monday/2025-02-10/
LOCATION:Currier Center\, 14115 E. 14 Mile Rd.\, Sterling Heights\, MI\, 48312\, United States
CATEGORIES:Event,Pierogi,Volunteer
END:VEVENT
BEGIN:VEVENT
DTSTART;TZID=America/Detroit:20250210T183000
DTEND;TZID=America/Detroit:20250210T200000
DTSTAMP:20260420T104440
CREATED:20250102T171702Z
LAST-MODIFIED:20251204T190241Z
UID:10002502-1739212200-1739217600@saintmalachychurch.org
SUMMARY:Women's Club Meeting
DESCRIPTION:
URL:https://saintmalachychurch.org/event/womens-club-meeting-17/2025-02-10/
LOCATION:Currier Center\, 14115 E. 14 Mile Rd.\, Sterling Heights\, MI\, 48312\, United States
CATEGORIES:Event,Featured Event,Women's Club
END:VEVENT
BEGIN:VEVENT
DTSTART;TZID=America/Detroit:20250210T183000
DTEND;TZID=America/Detroit:20250210T203000
DTSTAMP:20260420T104440
CREATED:20250128T193314Z
LAST-MODIFIED:20250128T193314Z
UID:10007946-1739212200-1739219400@saintmalachychurch.org
SUMMARY:FROG - St. Valentine Meeting
DESCRIPTION:CALLING ALL MIDDLE SCHOOLERS! Join the FROG Ministry in the Youth Center on Monday\, February 10th for a meeting that highlights the one and only\, St. Valentine! Bring your friends\, and prepare for a wonderful time! \n6:30pm-8:30pm in the Youth Center. Contact FROG@stmalachychurch.org for any questions. Text MALACHYFROG to 84576 to sign up for text reminders!
URL:https://saintmalachychurch.org/event/frog-st-valentine-meeting/
LOCATION:Youth Center\, 14115 E 14 Mile Rd\, Sterling Heights\, MI\, 48312\, United States
CATEGORIES:Event,FROG,Youth Ministry
ORGANIZER;CN="Rachel Nicholson":MAILTO:frog@stmalachychurch.org
END:VEVENT
BEGIN:VEVENT
DTSTART;TZID=America/Detroit:20250217T090000
DTEND;TZID=America/Detroit:20250217T130000
DTSTAMP:20260420T104440
CREATED:20250123T165124Z
LAST-MODIFIED:20250123T165241Z
UID:10006828-1739782800-1739797200@saintmalachychurch.org
SUMMARY:Pierogi Making
DESCRIPTION:Do you want to help out your St. Malachy Community? Volunteer to make pierogi on the following Mondays at 9am in the Small Hall: \n\nJanuary 27th\nFebruary 3rd\nFebruary 10th\nFebruary 17th\nFebruary 24th\n\n\nThese pierogi will be made and prepared for purchase at the upcoming Lenten Fish Fries! No experience is needed\, we’ll teach you how to make them! We hope to see you there!😁
URL:https://saintmalachychurch.org/event/pierogi-making-monday/2025-02-17/
LOCATION:Currier Center\, 14115 E. 14 Mile Rd.\, Sterling Heights\, MI\, 48312\, United States
CATEGORIES:Event,Pierogi,Volunteer
END:VEVENT
BEGIN:VEVENT
DTSTART;TZID=America/Detroit:20250218T190000
DTEND;TZID=America/Detroit:20250218T200000
DTSTAMP:20260420T104440
CREATED:20250203T155154Z
LAST-MODIFIED:20250214T160629Z
UID:10008292-1739905200-1739908800@saintmalachychurch.org
SUMMARY:Prayer Ministry Meeting
DESCRIPTION:The Prayer Ministry will be meeting on Tuesday\, February 18th at 7pm in the Gathering Space! The group will be praying the Divine Chaplet and remembering the intentions of all who would like prayer! To submit prayer intentions\, please email cathytap@wideopenwest.net with “Prayer Request” in the subject line. You can also submit them on the website at https://saintmalachychurch.org/prayer-ministry/ or submit them in the prayer box located in the Gathering Space.
URL:https://saintmalachychurch.org/event/prayer-ministry-meeting-23/
LOCATION:Gathering Space\, 14115 E. 14 Mile Rd\, Sterling heights\, MI\, 48312\, United States
CATEGORIES:Event,Featured Event,Prayer Ministry
END:VEVENT
BEGIN:VEVENT
DTSTART;TZID=America/Detroit:20250220T080000
DTEND;TZID=America/Detroit:20250220T170000
DTSTAMP:20260420T104440
CREATED:20250220T182356Z
LAST-MODIFIED:20250220T182502Z
UID:10011597-1740038400-1740070800@saintmalachychurch.org
SUMMARY:Summerfest Committee Chair Meeting
DESCRIPTION:Attention all festival committee chairs! Our first meeting will be on Thursday\, February 27th at 6:30pm in the Currier Center. We can’t wait to start planning for Summerfest 46!!!
URL:https://saintmalachychurch.org/event/summerfest-committee-chair-members-meeting/
LOCATION:MI
CATEGORIES:Event,Festival,Volunteer
END:VEVENT
BEGIN:VEVENT
DTSTART;TZID=America/Detroit:20250224T090000
DTEND;TZID=America/Detroit:20250224T130000
DTSTAMP:20260420T104440
CREATED:20250123T165124Z
LAST-MODIFIED:20250123T165241Z
UID:10006829-1740387600-1740402000@saintmalachychurch.org
SUMMARY:Pierogi Making
DESCRIPTION:Do you want to help out your St. Malachy Community? Volunteer to make pierogi on the following Mondays at 9am in the Small Hall: \n\nJanuary 27th\nFebruary 3rd\nFebruary 10th\nFebruary 17th\nFebruary 24th\n\n\nThese pierogi will be made and prepared for purchase at the upcoming Lenten Fish Fries! No experience is needed\, we’ll teach you how to make them! We hope to see you there!😁
URL:https://saintmalachychurch.org/event/pierogi-making-monday/2025-02-24/
LOCATION:Currier Center\, 14115 E. 14 Mile Rd.\, Sterling Heights\, MI\, 48312\, United States
CATEGORIES:Event,Pierogi,Volunteer
END:VEVENT
BEGIN:VEVENT
DTSTART;TZID=America/Detroit:20250224T183000
DTEND;TZID=America/Detroit:20250224T203000
DTSTAMP:20260420T104440
CREATED:20250128T193821Z
LAST-MODIFIED:20250128T193821Z
UID:10007947-1740421800-1740429000@saintmalachychurch.org
SUMMARY:FROG - Ash Wednesday & Lent Meeting
DESCRIPTION:All Middle-Schoolers are welcome to join the FROG Ministry in the Youth Center on Monday\, February 24th for a meeting that explores Ash Wednesday and Lent! Find out what it’s all about! \n6:30pm-8:30pm in the Youth Center. Contact FROG@stmalachychurch.org for any questions. Text MALACHYFROG to 84576 to sign up for text reminders!
URL:https://saintmalachychurch.org/event/frog-ash-wednesday-lent-meeting/
LOCATION:Youth Center\, 14115 E 14 Mile Rd\, Sterling Heights\, MI\, 48312\, United States
CATEGORIES:Event,FROG,Youth Ministry
ORGANIZER;CN="Rachel Nicholson":MAILTO:frog@stmalachychurch.org
END:VEVENT
BEGIN:VEVENT
DTSTART;TZID=America/Detroit:20250226T184500
DTEND;TZID=America/Detroit:20250226T200000
DTSTAMP:20260420T104440
CREATED:20250102T172545Z
LAST-MODIFIED:20251113T194624Z
UID:10002562-1740595500-1740600000@saintmalachychurch.org
SUMMARY:Men's Club Meeting
DESCRIPTION:Join the St. Malachy Men’s club for a prayer service beginning at 6:45pm\, followed by its meeting! This group hosts many popular events such as the Fish Fry\, Coney Sales\, Reverse Raffle\, and more! Members of the Men’s Club meet on the last Wednesday of every month in the Currier Center at 6:45pm! Please contact Men’s Club President Joe Schuirmann for any questions!
URL:https://saintmalachychurch.org/event/mens-club-meeting-20/2025-02-26/
LOCATION:Currier Center\, 14115 E. 14 Mile Rd.\, Sterling Heights\, MI\, 48312\, United States
CATEGORIES:Event,Featured Event,Men's Club
ORGANIZER;CN="St. Malachy Men's Club":MAILTO:mensclub@stmalachychurch.org
END:VEVENT
END:VCALENDAR